Workbook

Sheet 大数据技术与应用
A1: 柳州职业技术学院2023届毕业生毕业资格审核表
A2: 填表说明： 1.第6、7、8行是填写模板。 2.学号、姓名的信息从《2023届学信网学生信息基础数据》表中按照班级筛选并粘贴。 3.必修课不及格门数填写学生到统计数据为止成绩未达到60分的课程总门数，如李四只有《大学生安全教育》课程不及格，其他已经成绩合格，那么李四必修课不及格门数填写“1”；公共选修课已修学分填写学生到统计数据为止总共修得的学分，如李四共修公共选修课两门（一门课程学分为2分，另一门课程学分3分）并且成绩合格，那么李四公选课程已修学分为“5”，专选课已修学分填写方式与公共选修课填写方式一致。 4.第二课堂学分和诚信分填写具体获得的分数，若第二课堂学分>=120，填写“是”，若＜填“否”；诚信分>=1800，填写“是”，若＜填“否”。 德育审查如有仍未解除的，填写“否”，如没有违纪记录的，在“违纪处分是否解除”栏划斜线“/”。德育审查结果不能留空。 5.假若学生“必修课程不及格门数”为“0”、“选修课已修学分”总分15分（其中公选课学分 ≥6 分，专选课学分≥5 ）、“第二课堂学分>=120”、“诚信分>=1800”都填写“是”，则学生达到毕业要求，在“是否达到毕业资格”填写“是”，若以上条件有一列未达到要求，请填写“否”； 6.请如实填写“欠费金额”。 7.上交纸质材料的时候二级学院要盖公章，电子档不需要盖电子章，但是要如实填写上报日期、专业要与《2023届学信网学生信息基础数据》专业名称一致、专业总人数填写实际在校在籍人数。 8.结业原因填写序号：①必修课未通过②选修课未达标③综合素质考评不达标（综合素质包括第二课堂活动分、诚信分及德育审查项目）
A3: 二级学院（盖章）：电子信息工程学院 专业：大数据技术与应用 应毕业人数：80 毕业人数：67 结业人数：13 辅导员： 填表日期：
A4: 序号 | B4: 班别 | C4: 学号 | D4: 学生姓名 | E4: 必修课不及格门数 | F4: 必修课不及格具体课程名称 | G4: 选修课学分 | J4: 第二课堂活动分 | L4: 诚信分 | N4: 德育审查 | P4: 是否达到毕业要求 | Q4: 毕结业 结论 | R4: 欠费金额 | S4: 结业 原因
G5: 公选课已修学分 | H5: 专选课已修学分 | I5: 总学分 | J5: 分数 | K5: 是否≥120 | L5: 分数 | M5: 是否≥1800 | N5: 是否有违纪处分 | O5: 违纪处分是否解除
A6: 1 | B6: 全日制2020大数据技术与应用1班 | C6: 20200205153 | D6: 廖文鹏 | E6: =VLOOKUP(C6,[5]sheet1!$A:$AU,46,0) -> 0 | F6: =VLOOKUP(C6,[5]sheet1!$A:$AU,47,0) | G6: 12 | H6: 8 | I6: =SUM(G6:H6) -> 20 | J6: 254 | K6: =IF(J6>=120,"是","否") -> 是 | L6: 3510 | M6: =IF(L6>=1800,"是","否") -> 是 | N6: 否 | O6: / | P6: =IF(AND(E6=0,SUM(G6:H6)>=15,G6>=6,H6>=5,J6>=120,L6>=1800),"是","否") -> 是 | Q6: 毕业 | R6: 0
A7: 2 | B7: 全日制2020大数据技术与应用1班 | C7: 20200317078 | D7: 王子瑞 | E7: =VLOOKUP(C7,[5]sheet1!$A:$AU,46,0) -> 0 | F7: =VLOOKUP(C7,[5]sheet1!$A:$AU,47,0) | G7: 12 | H7: 8 | I7: =SUM(G7:H7) -> 20 | J7: 245 | K7: =IF(J7>=120,"是","否") -> 是 | L7: 3660 | M7: =IF(L7>=1800,"是","否") -> 是 | N7: 否 | O7: / | P7: =IF(AND(E7=0,SUM(G7:H7)>=15,G7>=6,H7>=5,J7>=120,L7>=1800),"是","否") -> 是 | Q7: 毕业 | R7: 0
A8: 3 | B8: 全日制2020大数据技术与应用1班 | C8: 20200317053 | D8: 何兆龙 | E8: =VLOOKUP(C8,[5]sheet1!$A:$AU,46,0) -> 0 | F8: =VLOOKUP(C8,[5]sheet1!$A:$AU,47,0) | G8: 13 | H8: 8 | I8: =SUM(G8:H8) -> 21 | J8: 280 | K8: =IF(J8>=120,"是","否") -> 是 | L8: 3060 | M8: =IF(L8>=1800,"是","否") -> 是 | N8: 否 | O8: / | P8: =IF(AND(E8=0,SUM(G8:H8)>=15,G8>=6,H8>=5,J8>=120,L8>=1800),"是","否") -> 是 | Q8: 毕业 | R8: 0
A9: 4 | B9: 全日制2020大数据技术与应用1班 | C9: 20200317085 | D9: 张玉妍 | E9: =VLOOKUP(C9,[5]sheet1!$A:$AU,46,0) -> 0 | F9: =VLOOKUP(C9,[5]sheet1!$A:$AU,47,0) | G9: 12 | H9: 8 | I9: =SUM(G9:H9) -> 20 | J9: 301 | K9: =IF(J9>=120,"是","否") -> 是 | L9: 4030 | M9: =IF(L9>=1800,"是","否") -> 是 | N9: 否 | O9: / | P9: =IF(AND(E9=0,SUM(G9:H9)>=15,G9>=6,H9>=5,J9>=120,L9>=1800),"是","否") -> 是 | Q9: 毕业 | R9: 0
A10: 5 | B10: 全日制2020大数据技术与应用1班 | C10: 20200317061 | D10: 黎远柱 | E10: =VLOOKUP(C10,[5]sheet1!$A:$AU,46,0) -> 0 | F10: =VLOOKUP(C10,[5]sheet1!$A:$AU,47,0) | G10: 12 | H10: 8 | I10: =SUM(G10:H10) -> 20 | J10: 243 | K10: =IF(J10>=120,"是","否") -> 是 | L10: 3360 | M10: =IF(L10>=1800,"是","否") -> 是 | N10: 否 | O10: / | P10: =IF(AND(E10=0,SUM(G10:H10)>=15,G10>=6,H10>=5,J10>=120,L10>=1800),"是","否") -> 是 | Q10: 毕业 | R10: 0
A11: 6 | B11: 全日制2020大数据技术与应用1班 | C11: 20200317056 | D11: 黄丽娜 | E11: =VLOOKUP(C11,[5]sheet1!$A:$AU,46,0) -> 0 | F11: =VLOOKUP(C11,[5]sheet1!$A:$AU,47,0) | G11: 12 | H11: 8 | I11: =SUM(G11:H11) -> 20 | J11: 258 | K11: =IF(J11>=120,"是","否") -> 是 | L11: 3680 | M11: =IF(L11>=1800,"是","否") -> 是 | N11: 否 | O11: / | P11: =IF(AND(E11=0,SUM(G11:H11)>=15,G11>=6,H11>=5,J11>=120,L11>=1800),"是","否") -> 是 | Q11: 毕业 | R11: 0
A12: 7 | B12: 全日制2020大数据技术与应用1班 | C12: 20200317076 | D12: 覃立春 | E12: =VLOOKUP(C12,[5]sheet1!$A:$AU,46,0) -> 0 | F12: =VLOOKUP(C12,[5]sheet1!$A:$AU,47,0) | G12: 11 | H12: 8 | I12: =SUM(G12:H12) -> 19 | J12: 884 | K12: =IF(J12>=120,"是","否") -> 是 | L12: 4410 | M12: =IF(L12>=1800,"是","否") -> 是 | N12: 否 | O12: / | P12: =IF(AND(E12=0,SUM(G12:H12)>=15,G12>=6,H12>=5,J12>=120,L12>=1800),"是","否") -> 是 | Q12: 毕业 | R12: 0
A13: 8 | B13: 全日制2020大数据技术与应用1班 | C13: 20200317020 | D13: 龙明超 | E13: =VLOOKUP(C13,[5]sheet1!$A:$AU,46,0) -> 0 | F13: =VLOOKUP(C13,[5]sheet1!$A:$AU,47,0) | G13: 12 | H13: 8 | I13: =SUM(G13:H13) -> 20 | J13: 336 | K13: =IF(J13>=120,"是","否") -> 是 | L13: 3510 | M13: =IF(L13>=1800,"是","否") -> 是 | N13: 否 | O13: / | P13: =IF(AND(E13=0,SUM(G13:H13)>=15,G13>=6,H13>=5,J13>=120,L13>=1800),"是","否") -> 是 | Q13: 毕业 | R13: 0
A14: 9 | B14: 全日制2020大数据技术与应用1班 | C14: 20200317022 | D14: 卢鑫 | E14: =VLOOKUP(C14,[5]sheet1!$A:$AU,46,0) -> 0 | F14: =VLOOKUP(C14,[5]sheet1!$A:$AU,47,0) | G14: 14 | H14: 8 | I14: =SUM(G14:H14) -> 22 | J14: 314 | K14: =IF(J14>=120,"是","否") -> 是 | L14: 4330 | M14: =IF(L14>=1800,"是","否") -> 是 | N14: 否 | O14: / | P14: =IF(AND(E14=0,SUM(G14:H14)>=15,G14>=6,H14>=5,J14>=120,L14>=1800),"是","否") -> 是 | Q14: 毕业 | R14: 0
A15: 10 | B15: 全日制2020大数据技术与应用1班 | C15: 20200317018 | D15: 刘凯 | E15: =VLOOKUP(C15,[5]sheet1!$A:$AU,46,0) -> 0 | F15: =VLOOKUP(C15,[5]sheet1!$A:$AU,47,0) | G15: 20 | H15: 8 | I15: =SUM(G15:H15) -> 28 | J15: 711 | K15: =IF(J15>=120,"是","否") -> 是 | L15: 5720 | M15: =IF(L15>=1800,"是","否") -> 是 | N15: 否 | O15: / | P15: =IF(AND(E15=0,SUM(G15:H15)>=15,G15>=6,H15>=5,J15>=120,L15>=1800),"是","否") -> 是 | Q15: 毕业 | R15: 0
A16: 11 | B16: 全日制2020大数据技术与应用1班 | C16: 20200317041 | D16: 黄敬智 | E16: =VLOOKUP(C16,[5]sheet1!$A:$AU,46,0) -> 0 | F16: =VLOOKUP(C16,[5]sheet1!$A:$AU,47,0) | G16: 11 | H16: 8 | I16: =SUM(G16:H16) -> 19 | J16: 232 | K16: =IF(J16>=120,"是","否") -> 是 | L16: 3980 | M16: =IF(L16>=1800,"是","否") -> 是 | N16: 否 | O16: / | P16: =IF(AND(E16=0,SUM(G16:H16)>=15,G16>=6,H16>=5,J16>=120,L16>=1800),"是","否") -> 是 | Q16: 毕业 | R16: 0
A17: 12 | B17: 全日制2020大数据技术与应用1班 | C17: 20200317064 | D17: 梁光亮 | E17: =VLOOKUP(C17,[5]sheet1!$A:$AU,46,0) -> 0 | F17: =VLOOKUP(C17,[5]sheet1!$A:$AU,47,0) | G17: 12 | H17: 8 | I17: =SUM(G17:H17) -> 20 | J17: 200 | K17: =IF(J17>=120,"是","否") -> 是 | L17: 3060 | M17: =IF(L17>=1800,"是","否") -> 是 | N17: 否 | O17: / | P17: =IF(AND(E17=0,SUM(G17:H17)>=15,G17>=6,H17>=5,J17>=120,L17>=1800),"是","否") -> 是 | Q17: 毕业 | R17: 0
... A38: 33 | B38: 全日制2020大数据技术与应用1班 | C38: 20200316041 | D38: 马晓春 | E38: =VLOOKUP(C38,[5]sheet1!$A:$AU,46,0) -> 0 | F38: =VLOOKUP(C38,[5]sheet1!$A:$AU,47,0) | G38: 15 | H38: 8 | I38: =SUM(G38:H38) -> 23 | J38: 210 | K38: =IF(J38>=120,"是","否") -> 是 | L38: 2790 | M38: =IF(L38>=1800,"是","否") -> 是 | N38: 否 | O38: / | P38: =IF(AND(E38=0,SUM(G38:H38)>=15,G38>=6,H38>=5,J38>=120,L38>=1800),"是","否") -> 是 | Q38: 毕业 | R38: 0
A39: 34 | B39: 全日制2020大数据技术与应用1班 | C39: 20200317091 | D39: 刘静 | E39: =VLOOKUP(C39,[5]sheet1!$A:$AU,46,0) -> 1 | F39: =VLOOKUP(C39,[5]sheet1!$A:$AU,47,0) -> 预就业实习 | G39: 12 | H39: 8 | I39: =SUM(G39:H39) -> 20 | J39: 240 | K39: =IF(J39>=120,"是","否") -> 是 | L39: 3050 | M39: =IF(L39>=1800,"是","否") -> 是 | N39: 否 | O39: / | P39: =IF(AND(E39=0,SUM(G39:H39)>=15,G39>=6,H39>=5,J39>=120,L39>=1800),"是","否") -> 否 | Q39: 结业 | R39: 0 | S39: 1
A40: 35 | B40: 全日制2020大数据技术与应用1班 | C40: 20200317034 | D40: 吴思婷 | E40: =VLOOKUP(C40,[5]sheet1!$A:$AU,46,0) -> 0 | F40: =VLOOKUP(C40,[5]sheet1!$A:$AU,47,0) | G40: 10 | H40: 8 | I40: =SUM(G40:H40) -> 18 | J40: 210 | K40: =IF(J40>=120,"是","否") -> 是 | L40: 2850 | M40: =IF(L40>=1800,"是","否") -> 是 | N40: 否 | O40: / | P40: =IF(AND(E40=0,SUM(G40:H40)>=15,G40>=6,H40>=5,J40>=120,L40>=1800),"是","否") -> 是 | Q40: 毕业 | R40: 0
A41: 36 | B41: 全日制2020大数据技术与应用1班 | C41: 20200317005 | D41: 丁伟 | E41: =VLOOKUP(C41,[5]sheet1!$A:$AU,46,0) -> 0 | F41: =VLOOKUP(C41,[5]sheet1!$A:$AU,47,0) | G41: 15 | H41: 8 | I41: =SUM(G41:H41) -> 23 | J41: 204 | K41: =IF(J41>=120,"是","否") -> 是 | L41: 2200 | M41: =IF(L41>=1800,"是","否") -> 是 | N41: 否 | O41: / | P41: =IF(AND(E41=0,SUM(G41:H41)>=15,G41>=6,H41>=5,J41>=120,L41>=1800),"是","否") -> 是 | Q41: 毕业 | R41: 0
A42: 37 | B42: 全日制2020大数据技术与应用1班 | C42: 20200317011 | D42: 黄柳菲 | E42: =VLOOKUP(C42,[5]sheet1!$A:$AU,46,0) -> 0 | F42: =VLOOKUP(C42,[5]sheet1!$A:$AU,47,0) | G42: 11 | H42: 8 | I42: =SUM(G42:H42) -> 19 | J42: 207 | K42: =IF(J42>=120,"是","否") -> 是 | L42: 2890 | M42: =IF(L42>=1800,"是","否") -> 是 | N42: 否 | O42: / | P42: =IF(AND(E42=0,SUM(G42:H42)>=15,G42>=6,H42>=5,J42>=120,L42>=1800),"是","否") -> 是 | Q42: 毕业 | R42: 0
A43: 38 | B43: 全日制2020大数据技术与应用1班 | C43: 20200317023 | D43: 骆冠杰 | E43: =VLOOKUP(C43,[5]sheet1!$A:$AU,46,0) -> 0 | F43: =VLOOKUP(C43,[5]sheet1!$A:$AU,47,0) | G43: 14 | H43: 8 | I43: =SUM(G43:H43) -> 22 | J43: 371 | K43: =IF(J43>=120,"是","否") -> 是 | L43: 1900 | M43: =IF(L43>=1800,"是","否") -> 是 | N43: 否 | O43: / | P43: =IF(AND(E43=0,SUM(G43:H43)>=15,G43>=6,H43>=5,J43>=120,L43>=1800),"是","否") -> 是 | Q43: 毕业 | R43: 0
A44: 39 | B44: 全日制2020大数据技术与应用1班 | C44: 20200317089 | D44: 彭荟珊 | E44: =VLOOKUP(C44,[5]sheet1!$A:$AU,46,0) -> 0 | F44: =VLOOKUP(C44,[5]sheet1!$A:$AU,47,0) | G44: 12 | H44: 8 | I44: =SUM(G44:H44) -> 20 | J44: 222 | K44: =IF(J44>=120,"是","否") -> 是 | L44: 2890 | M44: =IF(L44>=1800,"是","否") -> 是 | N44: 是 | O44: 否 | P44: 否 | Q44: 结业 | R44: 0 | S44: 3
A45: 40 | B45: 全日制2020大数据技术与应用1班 | C45: 20200317068 | D45: 龙鑫 | E45: =VLOOKUP(C45,[5]sheet1!$A:$AU,46,0) -> 0 | F45: =VLOOKUP(C45,[5]sheet1!$A:$AU,47,0) | G45: 15 | H45: 8 | I45: =SUM(G45:H45) -> 23 | J45: 241 | K45: =IF(J45>=120,"是","否") -> 是 | L45: 2540 | M45: =IF(L45>=1800,"是","否") -> 是 | N45: 否 | O45: / | P45: =IF(AND(E45=0,SUM(G45:H45)>=15,G45>=6,H45>=5,J45>=120,L45>=1800),"是","否") -> 是 | Q45: 毕业 | R45: 0
A46: 41 | B46: 全日制2020大数据技术与应用1班 | C46: 20200317004 | D46: 邓扬颂 | E46: =VLOOKUP(C46,[5]sheet1!$A:$AU,46,0) -> 0 | F46: =VLOOKUP(C46,[5]sheet1!$A:$AU,47,0) | G46: 12 | H46: 8 | I46: =SUM(G46:H46) -> 20 | J46: 169 | K46: =IF(J46>=120,"是","否") -> 是 | L46: 2630 | M46: =IF(L46>=1800,"是","否") -> 是 | N46: 否 | O46: / | P46: =IF(AND(E46=0,SUM(G46:H46)>=15,G46>=6,H46>=5,J46>=120,L46>=1800),"是","否") -> 是 | Q46: 毕业 | R46: 0
A47: 42 | B47: 全日制2020大数据技术与应用1班 | C47: 20200317088 | D47: 王越 | E47: =VLOOKUP(C47,[5]sheet1!$A:$AU,46,0) -> 1 | F47: =VLOOKUP(C47,[5]sheet1!$A:$AU,47,0) -> Linux系统基础 | G47: 9 | H47: 8 | I47: =SUM(G47:H47) -> 17 | J47: 173 | K47: =IF(J47>=120,"是","否") -> 是 | L47: 1860 | M47: =IF(L47>=1800,"是","否") -> 是 | N47: 否 | O47: / | P47: =IF(AND(E47=0,SUM(G47:H47)>=15,G47>=6,H47>=5,J47>=120,L47>=1800),"是","否") -> 否 | Q47: 结业 | R47: 907.8 | S47: 1
A48: 43 | B48: 全日制2020大数据技术与应用2班 | C48: 20200314068 | D48: 苏桂轩 | E48: =VLOOKUP(C48,[5]sheet1!$A:$AU,46,0) -> 0 | F48: =VLOOKUP(C48,[5]sheet1!$A:$AU,47,0) | G48: 15 | H48: 6.5 | I48: =SUM(G48:H48) -> 21.5 | J48: 296 | K48: =IF(J48>=120,"是","否") -> 是 | L48: 3580 | M48: =IF(L48>=1800,"是","否") -> 是 | N48: 否 | O48: / | P48: =IF(AND(E48=0,SUM(G48:H48)>=15,G48>=6,H48>=5,J48>=120,L48>=1800),"是","否") -> 是 | Q48: 毕业 | R48: 0
A49: 44 | B49: 全日制2020大数据技术与应用2班 | C49: 20200317008 | D49: 韩开呈 | E49: =VLOOKUP(C49,[5]sheet1!$A:$AU,46,0) -> 0 | F49: =VLOOKUP(C49,[5]sheet1!$A:$AU,47,0) | G49: 18 | H49: 6.5 | I49: =SUM(G49:H49) -> 24.5 | J49: 189 | K49: =IF(J49>=120,"是","否") -> 是 | L49: 2710 | M49: =IF(L49>=1800,"是","否") -> 是 | N49: 否 | O49: / | P49: =IF(AND(E49=0,SUM(G49:H49)>=15,G49>=6,H49>=5,J49>=120,L49>=1800),"是","否") -> 是 | Q49: 毕业 | R49: 0
A50: 45 | B50: 全日制2020大数据技术与应用2班 | C50: 20200317069 | D50: 陆大军 | E50: =VLOOKUP(C50,[5]sheet1!$A:$AU,46,0) -> 0 | F50: =VLOOKUP(C50,[5]sheet1!$A:$AU,47,0) | G50: 18 | H50: 6.5 | I50: =SUM(G50:H50) -> 24.5 | J50: 282 | K50: =IF(J50>=120,"是","否") -> 是 | L50: 2910 | M50: =IF(L50>=1800,"是","否") -> 是 | N50: 否 | O50: / | P50: =IF(AND(E50=0,SUM(G50:H50)>=15,G50>=6,H50>=5,J50>=120,L50>=1800),"是","否") -> 是 | Q50: 毕业 | R50: 0
A51: 46 | B51: 全日制2020大数据技术与应用2班 | C51: 20200317081 | D51: 颜林廷 | E51: =VLOOKUP(C51,[5]sheet1!$A:$AU,46,0) -> 0 | F51: =VLOOKUP(C51,[5]sheet1!$A:$AU,47,0) | G51: 17 | H51: 6.5 | I51: =SUM(G51:H51) -> 23.5 | J51: 487 | K51: =IF(J51>=120,"是","否") -> 是 | L51: 3470 | M51: =IF(L51>=1800,"是","否") -> 是 | N51: 否 | O51: / | P51: =IF(AND(E51=0,SUM(G51:H51)>=15,G51>=6,H51>=5,J51>=120,L51>=1800),"是","否") -> 是 | Q51: 毕业 | R51: 0
A52: 47 | B52: 全日制2020大数据技术与应用2班 | C52: 20200317029 | D52: 韦国荣 | E52: =VLOOKUP(C52,[5]sheet1!$A:$AU,46,0) -> 0 | F52: =VLOOKUP(C52,[5]sheet1!$A:$AU,47,0) | G52: 17 | H52: 6.5 | I52: =SUM(G52:H52) -> 23.5 | J52: 277 | K52: =IF(J52>=120,"是","否") -> 是 | L52: 3920 | M52: =IF(L52>=1800,"是","否") -> 是 | N52: 否 | O52: / | P52: =IF(AND(E52=0,SUM(G52:H52)>=15,G52>=6,H52>=5,J52>=120,L52>=1800),"是","否") -> 是 | Q52: 毕业 | R52: 0
A53: 48 | B53: 全日制2020大数据技术与应用2班 | C53: 20200317042 | D53: 赖华昌 | E53: =VLOOKUP(C53,[5]sheet1!$A:$AU,46,0) -> 0 | F53: =VLOOKUP(C53,[5]sheet1!$A:$AU,47,0) | G53: 15 | H53: 6.5 | I53: =SUM(G53:H53) -> 21.5 | J53: 323 | K53: =IF(J53>=120,"是","否") -> 是 | L53: 3000 | M53: =IF(L53>=1800,"是","否") -> 是 | N53: 否 | O53: / | P53: =IF(AND(E53=0,SUM(G53:H53)>=15,G53>=6,H53>=5,J53>=120,L53>=1800),"是","否") -> 是 | Q53: 毕业 | R53: 0
A54: 49 | B54: 全日制2020大数据技术与应用2班 | C54: 20200317035 | D54: 杨红 | E54: =VLOOKUP(C54,[5]sheet1!$A:$AU,46,0) -> 0 | F54: =VLOOKUP(C54,[5]sheet1!$A:$AU,47,0) | G54: 17 | H54: 6.5 | I54: =SUM(G54:H54) -> 23.5 | J54: 485 | K54: =IF(J54>=120,"是","否") -> 是 | L54: 3630 | M54: =IF(L54>=1800,"是","否") -> 是 | N54: 否 | O54: / | P54: =IF(AND(E54=0,SUM(G54:H54)>=15,G54>=6,H54>=5,J54>=120,L54>=1800),"是","否") -> 是 | Q54: 毕业 | R54: 0
A55: 50 | B55: 全日制2020大数据技术与应用2班 | C55: 20200317003 | D55: 陈霜 | E55: =VLOOKUP(C55,[5]sheet1!$A:$AU,46,0) -> 0 | F55: =VLOOKUP(C55,[5]sheet1!$A:$AU,47,0) | G55: 13 | H55: 6.5 | I55: =SUM(G55:H55) -> 19.5 | J55: 302 | K55: =IF(J55>=120,"是","否") -> 是 | L55: 2800 | M55: =IF(L55>=1800,"是","否") -> 是 | N55: 否 | O55: / | P55: =IF(AND(E55=0,SUM(G55:H55)>=15,G55>=6,H55>=5,J55>=120,L55>=1800),"是","否") -> 是 | Q55: 毕业 | R55: 0
A56: 51 | B56: 全日制2020大数据技术与应用2班 | C56: 20200317070 | D56: 陆泽清 | E56: =VLOOKUP(C56,[5]sheet1!$A:$AU,46,0) -> 0 | F56: =VLOOKUP(C56,[5]sheet1!$A:$AU,47,0) | G56: 18 | H56: 6.5 | I56: =SUM(G56:H56) -> 24.5 | J56: 374 | K56: =IF(J56>=120,"是","否") -> 是 | L56: 2950 | M56: =IF(L56>=1800,"是","否") -> 是 | N56: 否 | O56: / | P56: =IF(AND(E56=0,SUM(G56:H56)>=15,G56>=6,H56>=5,J56>=120,L56>=1800),"是","否") -> 是 | Q56: 毕业 | R56: 0
A57: 52 | B57: 全日制2020大数据技术与应用2班 | C57: 20200317071 | D57: 蒙侯丽 | E57: =VLOOKUP(C57,[5]sheet1!$A:$AU,46,0) -> 0 | F57: =VLOOKUP(C57,[5]sheet1!$A:$AU,47,0) | G57: 14 | H57: 6.5 | I57: =SUM(G57:H57) -> 20.5 | J57: 280 | K57: =IF(J57>=120,"是","否") -> 是 | L57: 3230 | M57: =IF(L57>=1800,"是","否") -> 是 | N57: 否 | O57: / | P57: =IF(AND(E57=0,SUM(G57:H57)>=15,G57>=6,H57>=5,J57>=120,L57>=1800),"是","否") -> 是 | Q57: 毕业 | R57: 0
A58: 53 | B58: 全日制2020大数据技术与应用2班 | C58: 20200317049 | D58: 张耀全 | E58: =VLOOKUP(C58,[5]sheet1!$A:$AU,46,0) -> 0 | F58: =VLOOKUP(C58,[5]sheet1!$A:$AU,47,0) | G58: 14 | H58: 6.5 | I58: =SUM(G58:H58) -> 20.5 | J58: 205 | K58: =IF(J58>=120,"是","否") -> 是 | L58: 2480 | M58: =IF(L58>=1800,"是","否") -> 是 | N58: 否 | O58: / | P58: =IF(AND(E58=0,SUM(G58:H58)>=15,G58>=6,H58>=5,J58>=120,L58>=1800),"是","否") -> 是 | Q58: 毕业 | R58: 0
A59: 54 | B59: 全日制2020大数据技术与应用2班 | C59: 20200317084 | D59: 张田田 | E59: =VLOOKUP(C59,[5]sheet1!$A:$AU,46,0) -> 0 | F59: =VLOOKUP(C59,[5]sheet1!$A:$AU,47,0) | G59: 14 | H59: 6.5 | I59: =SUM(G59:H59) -> 20.5 | J59: 337 | K59: =IF(J59>=120,"是","否") -> 是 | L59: 2950 | M59: =IF(L59>=1800,"是","否") -> 是 | N59: 否 | O59: / | P59: =IF(AND(E59=0,SUM(G59:H59)>=15,G59>=6,H59>=5,J59>=120,L59>=1800),"是","否") -> 是 | Q59: 毕业 | R59: 0
... A75: 70 | B75: 全日制2020大数据技术与应用2班 | C75: 20200317060 | D75: 雷启超 | E75: =VLOOKUP(C75,[5]sheet1!$A:$AU,46,0) -> 0 | F75: =VLOOKUP(C75,[5]sheet1!$A:$AU,47,0) | G75: 16 | H75: 6.5 | I75: =SUM(G75:H75) -> 22.5 | J75: 259 | K75: =IF(J75>=120,"是","否") -> 是 | L75: 3690 | M75: =IF(L75>=1800,"是","否") -> 是 | N75: 否 | O75: / | P75: =IF(AND(E75=0,SUM(G75:H75)>=15,G75>=6,H75>=5,J75>=120,L75>=1800),"是","否") -> 是 | Q75: 毕业 | R75: 0
A76: 71 | B76: 全日制2020大数据技术与应用2班 | C76: 20180317083 | D76: 兰福山 | E76: =VLOOKUP(C76,[5]sheet1!$A:$AU,46,0) -> 5 | F76: =VLOOKUP(C76,[5]sheet1!$A:$AU,47,0) -> 毕业设计（论文）/职业能力测试大数据分析与应用数据可视化Hadoop核心技术通用核心能力测试 | G76: 13 | H76: 6 | I76: =SUM(G76:H76) -> 19 | J76: 206 | K76: =IF(J76>=120,"是","否") -> 是 | L76: 3370 | M76: =IF(L76>=1800,"是","否") -> 是 | N76: 否 | O76: / | P76: =IF(AND(E76=0,SUM(G76:H76)>=15,G76>=6,H76>=5,J76>=120,L76>=1800),"是","否") -> 否 | Q76: 结业 | R76: 0 | S76: 1
A77: 72 | B77: 全日制2020大数据技术与应用2班 | C77: 20200317010 | D77: 黄俊 | E77: =VLOOKUP(C77,[5]sheet1!$A:$AU,46,0) -> 1 | F77: =VLOOKUP(C77,[5]sheet1!$A:$AU,47,0) -> 大学生安全教育(四) | G77: 11 | H77: 6.5 | I77: =SUM(G77:H77) -> 17.5 | J77: 173 | K77: =IF(J77>=120,"是","否") -> 是 | L77: 1800 | M77: =IF(L77>=1800,"是","否") -> 是 | N77: 否 | O77: / | P77: =IF(AND(E77=0,SUM(G77:H77)>=15,G77>=6,H77>=5,J77>=120,L77>=1800),"是","否") -> 否 | Q77: 结业 | R77: 0 | S77: 1
A78: 73 | B78: 全日制2020大数据技术与应用2班 | C78: 20200317024 | D78: 马富恒 | E78: =VLOOKUP(C78,[5]sheet1!$A:$AU,46,0) -> 2 | F78: =VLOOKUP(C78,[5]sheet1!$A:$AU,47,0) -> 毕业设计（论文）/职业能力测试预就业实习 | G78: 13 | H78: 6.5 | I78: =SUM(G78:H78) -> 19.5 | J78: 356 | K78: =IF(J78>=120,"是","否") -> 是 | L78: 2350 | M78: =IF(L78>=1800,"是","否") -> 是 | N78: 否 | O78: / | P78: =IF(AND(E78=0,SUM(G78:H78)>=15,G78>=6,H78>=5,J78>=120,L78>=1800),"是","否") -> 否 | Q78: 结业 | R78: 0 | S78: 1
A79: 74 | B79: 全日制2020大数据技术与应用2班 | C79: 20200317017 | D79: 刘汉豪 | E79: =VLOOKUP(C79,[5]sheet1!$A:$AU,46,0) -> 1 | F79: =VLOOKUP(C79,[5]sheet1!$A:$AU,47,0) -> 毕业设计（论文）/职业能力测试 | G79: 14 | H79: 6.5 | I79: =SUM(G79:H79) -> 20.5 | J79: 122 | K79: =IF(J79>=120,"是","否") -> 是 | L79: 1870 | M79: =IF(L79>=1800,"是","否") -> 是 | N79: 否 | O79: / | P79: =IF(AND(E79=0,SUM(G79:H79)>=15,G79>=6,H79>=5,J79>=120,L79>=1800),"是","否") -> 否 | Q79: 结业 | R79: 0 | S79: 1
A80: 75 | B80: 全日制2020大数据技术与应用2班 | C80: 20200317052 | D80: 何雨昊 | E80: =VLOOKUP(C80,[5]sheet1!$A:$AU,46,0) -> 3 | F80: =VLOOKUP(C80,[5]sheet1!$A:$AU,47,0) -> 毕业设计（论文）/职业能力测试网络爬虫Java高级程序设计 | G80: 11 | H80: 6.5 | I80: =SUM(G80:H80) -> 17.5 | J80: 130 | K80: =IF(J80>=120,"是","否") -> 是 | L80: 1920 | M80: =IF(L80>=1800,"是","否") -> 是 | N80: 否 | O80: / | P80: =IF(AND(E80=0,SUM(G80:H80)>=15,G80>=6,H80>=5,J80>=120,L80>=1800),"是","否") -> 否 | Q80: 结业 | R80: 0 | S80: 1
A81: 76 | B81: 全日制2020大数据技术与应用2班 | C81: 20200317047 | D81: 韦永冬 | E81: =VLOOKUP(C81,[5]sheet1!$A:$AU,46,0) -> 5 | F81: =VLOOKUP(C81,[5]sheet1!$A:$AU,47,0) -> Linux系统基础网络爬虫Java高级程序设计数据可视化预就业实习 | G81: 12 | H81: 6.5 | I81: =SUM(G81:H81) -> 18.5 | J81: 161 | K81: =IF(J81>=120,"是","否") -> 是 | L81: 1830 | M81: =IF(L81>=1800,"是","否") -> 是 | N81: 是 | O81: 否 | P81: =IF(AND(E81=0,SUM(G81:H81)>=15,G81>=6,H81>=5,J81>=120,L81>=1800),"是","否") -> 否 | Q81: 结业 | R81: 8535.8 | S81: 1.3
A82: 77 | B82: 全日制2020大数据技术与应用2班 | C82: 20200317083 | D82: 余晓华 | E82: =VLOOKUP(C82,[5]sheet1!$A:$AU,46,0) -> 5 | F82: =VLOOKUP(C82,[5]sheet1!$A:$AU,47,0) -> 形势与政策(一)Linux系统基础网络爬虫Java高级程序设计数据可视化 | G82: 12 | H82: 4.5 | I82: =SUM(G82:H82) -> 16.5 | J82: 120 | K82: =IF(J82>=120,"是","否") -> 是 | L82: 950 | M82: =IF(L82>=1800,"是","否") -> 否 | N82: 是 | O82: 是 | P82: =IF(AND(E82=0,SUM(G82:H82)>=15,G82>=6,H82>=5,J82>=120,L82>=1800),"是","否") -> 否 | Q82: 结业 | R82: 0 | S82: 1.2.3
A83: 78 | B83: 全日制2020大数据技术与应用2班 | C83: 20200317015 | D83: 梁鸿飞 | E83: =VLOOKUP(C83,[5]sheet1!$A:$AU,46,0) -> 4 | F83: =VLOOKUP(C83,[5]sheet1!$A:$AU,47,0) -> 大学生安全教育(四)Linux系统基础Java编程基础Java高级程序设计 | G83: 14 | H83: 5.5 | I83: =SUM(G83:H83) -> 19.5 | J83: 181 | K83: =IF(J83>=120,"是","否") -> 是 | L83: 1800 | M83: =IF(L83>=1800,"是","否") -> 是 | N83: 否 | O83: / | P83: =IF(AND(E83=0,SUM(G83:H83)>=15,G83>=6,H83>=5,J83>=120,L83>=1800),"是","否") -> 否 | Q83: 结业 | R83: 0 | S83: 1
A84: 79 | B84: 全日制2020大数据技术与应用2班 | C84: 20200317087 | D84: 阿卜杜萨拉木·努尔 | E84: =VLOOKUP(C84,[5]sheet1!$A:$AU,46,0) -> 6 | F84: =VLOOKUP(C84,[5]sheet1!$A:$AU,47,0) -> 毕业设计（论文）/职业能力测试Linux系统基础Java编程基础网络爬虫创新与创业实务预就业实习 | G84: 8 | H84: 4.5 | I84: =SUM(G84:H84) -> 12.5 | J84: 230 | K84: =IF(J84>=120,"是","否") -> 是 | L84: 2400 | M84: =IF(L84>=1800,"是","否") -> 是 | N84: 否 | O84: / | P84: =IF(AND(E84=0,SUM(G84:H84)>=15,G84>=6,H84>=5,J84>=120,L84>=1800),"是","否") -> 否 | Q84: 结业 | R84: 907.8 | S84: 1.2
A85: 80 | B85: 全日制2020大数据技术与应用2班 | C85: 20200317090 | D85: 董成志 | E85: =VLOOKUP(C85,[5]sheet1!$A:$AU,46,0) -> 6 | F85: =VLOOKUP(C85,[5]sheet1!$A:$AU,47,0) -> 毕业设计（论文）/职业能力测试Linux系统基础Java编程基础Java高级程序设计SSM企业框架实战预就业实习 | G85: 14 | H85: 2.5 | I85: =SUM(G85:H85) -> 16.5 | J85: 159 | K85: =IF(J85>=120,"是","否") -> 是 | L85: 960 | M85: =IF(L85>=1800,"是","否") -> 否 | N85: 是 | O85: 是 | P85: =IF(AND(E85=0,SUM(G85:H85)>=15,G85>=6,H85>=5,J85>=120,L85>=1800),"是","否") -> 否 | Q85: 结业 | R85: 950 | S85: 1.2.3

Sheet 电子信息工程技术
A1: 柳州职业技术学院2023届毕业生毕业资格审核表
A2: 填表说明： 1.第6、7、8行是填写模板。 2.学号、姓名的信息从《2023届学信网学生信息基础数据》表中按照班级筛选并粘贴。 3.必修课不及格门数填写学生到统计数据为止成绩未达到60分的课程总门数，如李四只有《大学生安全教育》课程不及格，其他已经成绩合格，那么李四必修课不及格门数填写“1”；公共选修课已修学分填写学生到统计数据为止总共修得的学分，如李四共修公共选修课两门（一门课程学分为2分，另一门课程学分3分）并且成绩合格，那么李四公选课程已修学分为“5”，专选课已修学分填写方式与公共选修课填写方式一致。 4.第二课堂学分和诚信分填写具体获得的分数，若第二课堂学分>=120，填写“是”，若＜填“否”；诚信分>=1800，填写“是”，若＜填“否”。 德育审查如有仍未解除的，填写“否”，如没有违纪记录的，在“违纪处分是否解除”栏划斜线“/”。德育审查结果不能留空。 5.假若学生“必修课程不及格门数”为“0”、“选修课已修学分”总分15分（其中公选课学分 ≥6 分，专选课学分≥5 ）、“第二课堂学分>=120”、“诚信分>=1800”都填写“是”，则学生达到毕业要求，在“是否达到毕业资格”填写“是”，若以上条件有一列未达到要求，请填写“否”； 6.请如实填写“欠费金额”。 7.上交纸质材料的时候二级学院要盖公章，电子档不需要盖电子章，但是要如实填写上报日期、专业要与《2023届学信网学生信息基础数据》专业名称一致、专业总人数填写实际在校在籍人数。 8.结业原因填写序号：①必修课未通过②选修课未达标③综合素质考评不达标（综合素质包括第二课堂活动分、诚信分及德育审查项目）
A3: 二级学院（盖章）：电子信息工程学院 专业：电子信息工程技术 应毕业人数：53 毕业人数：42 结业人数：11 辅导员： 填表日期：
A4: 序号 | B4: 班别 | C4: 学号 | D4: 学生姓名 | E4: 必修课不及格门数 | F4: 必修课不及格具体课程名称 | G4: 选修课学分 | J4: 第二课堂活动分 | L4: 诚信分 | N4: 德育审查 | P4: 是否达到毕业要求 | Q4: 毕结业 结论 | R4: 欠费金额 | S4: 结业 原因
G5: 公选课已修学分 | H5: 专选课已修学分 | I5: 总学分 | J5: 分数 | K5: 是否≥120 | L5: 分数 | M5: 是否≥1800 | N5: 是否有违纪处分 | O5: 违纪处分是否解除
A6: 1 | B6: 全日制2020电子信息工程技术1班 | C6: 20200302034 | D6: 邱楚 | E6: =VLOOKUP(C6,[1]sheet1!$A:$AU,46,0) -> 0 | F6: =VLOOKUP(C6,[1]sheet1!$A:$AU,47,0) | G6: 14 | H6: 5 | I6: =SUM(G6:H6) -> 19 | J6: 404 | K6: =IF(J6>=120,"是","否") -> 是 | L6: 3770 | M6: =IF(L6>=1800,"是","否") -> 是 | N6: 否 | O6: / | P6: =IF(AND(E6=0,SUM(G6:H6)>=15,G6>=6,H6>=5,J6>=120,L6>=1800),"是","否") -> 是 | Q6: 毕业 | R6: 0
A7: 2 | B7: 全日制2020电子信息工程技术1班 | C7: 20200302065 | D7: 朱伟灿 | E7: =VLOOKUP(C7,[1]sheet1!$A:$AU,46,0) -> 0 | F7: =VLOOKUP(C7,[1]sheet1!$A:$AU,47,0) | G7: 16 | H7: 6 | I7: =SUM(G7:H7) -> 22 | J7: 642 | K7: =IF(J7>=120,"是","否") -> 是 | L7: 6930 | M7: =IF(L7>=1800,"是","否") -> 是 | N7: 否 | O7: / | P7: =IF(AND(E7=0,SUM(G7:H7)>=15,G7>=6,H7>=5,J7>=120,L7>=1800),"是","否") -> 是 | Q7: 毕业 | R7: 0
A8: 3 | B8: 全日制2020电子信息工程技术1班 | C8: 20200302049 | D8: 李文捷 | E8: =VLOOKUP(C8,[1]sheet1!$A:$AU,46,0) -> 0 | F8: =VLOOKUP(C8,[1]sheet1!$A:$AU,47,0) | G8: 13 | H8: 6 | I8: =SUM(G8:H8) -> 19 | J8: 259 | K8: =IF(J8>=120,"是","否") -> 是 | L8: 2420 | M8: =IF(L8>=1800,"是","否") -> 是 | N8: 否 | O8: / | P8: =IF(AND(E8=0,SUM(G8:H8)>=15,G8>=6,H8>=5,J8>=120,L8>=1800),"是","否") -> 是 | Q8: 毕业 | R8: 0
A9: 4 | B9: 全日制2020电子信息工程技术1班 | C9: 20200302050 | D9: 李志民 | E9: =VLOOKUP(C9,[1]sheet1!$A:$AU,46,0) -> 0 | F9: =VLOOKUP(C9,[1]sheet1!$A:$AU,47,0) | G9: 13 | H9: 5 | I9: =SUM(G9:H9) -> 18 | J9: 252 | K9: =IF(J9>=120,"是","否") -> 是 | L9: 2120 | M9: =IF(L9>=1800,"是","否") -> 是 | N9: 否 | O9: / | P9: =IF(AND(E9=0,SUM(G9:H9)>=15,G9>=6,H9>=5,J9>=120,L9>=1800),"是","否") -> 是 | Q9: 毕业 | R9: 0
A10: 5 | B10: 全日制2020电子信息工程技术1班 | C10: 20180302049 | D10: 杨鸿森 | E10: =VLOOKUP(C10,[1]sheet1!$A:$AU,46,0) -> 0 | F10: =VLOOKUP(C10,[1]sheet1!$A:$AU,47,0) | G10: 15 | H10: 5 | I10: =SUM(G10:H10) -> 20 | J10: 374 | K10: =IF(J10>=120,"是","否") -> 是 | L10: 3550 | M10: =IF(L10>=1800,"是","否") -> 是 | N10: 否 | O10: / | P10: =IF(AND(E10=0,SUM(G10:H10)>=15,G10>=6,H10>=5,J10>=120,L10>=1800),"是","否") -> 是 | Q10: 毕业 | R10: 0
A11: 6 | B11: 全日制2020电子信息工程技术1班 | C11: 20200302064 | D11: 张旭阳 | E11: =VLOOKUP(C11,[1]sheet1!$A:$AU,46,0) -> 0 | F11: =VLOOKUP(C11,[1]sheet1!$A:$AU,47,0) | G11: 11 | H11: 6 | I11: =SUM(G11:H11) -> 17 | J11: 328 | K11: =IF(J11>=120,"是","否") -> 是 | L11: 2630 | M11: =IF(L11>=1800,"是","否") -> 是 | N11: 否 | O11: / | P11: =IF(AND(E11=0,SUM(G11:H11)>=15,G11>=6,H11>=5,J11>=120,L11>=1800),"是","否") -> 是 | Q11: 毕业 | R11: 0
A12: 7 | B12: 全日制2020电子信息工程技术1班 | C12: 20200302016 | D12: 谢凯郝 | E12: =VLOOKUP(C12,[1]sheet1!$A:$AU,46,0) -> 0 | F12: =VLOOKUP(C12,[1]sheet1!$A:$AU,47,0) | G12: 17 | H12: 5 | I12: =SUM(G12:H12) -> 22 | J12: 300 | K12: =IF(J12>=120,"是","否") -> 是 | L12: 2320 | M12: =IF(L12>=1800,"是","否") -> 是 | N12: 否 | O12: / | P12: =IF(AND(E12=0,SUM(G12:H12)>=15,G12>=6,H12>=5,J12>=120,L12>=1800),"是","否") -> 是 | Q12: 毕业 | R12: 0
A13: 8 | B13: 全日制2020电子信息工程技术1班 | C13: 20200302042 | D13: 何卓毅 | E13: =VLOOKUP(C13,[1]sheet1!$A:$AU,46,0) -> 0 | F13: =VLOOKUP(C13,[1]sheet1!$A:$AU,47,0) | G13: 11 | H13: 5 | I13: =SUM(G13:H13) -> 16 | J13: 304 | K13: =IF(J13>=120,"是","否") -> 是 | L13: 2650 | M13: =IF(L13>=1800,"是","否") -> 是 | N13: 否 | O13: / | P13: =IF(AND(E13=0,SUM(G13:H13)>=15,G13>=6,H13>=5,J13>=120,L13>=1800),"是","否") -> 是 | Q13: 毕业 | R13: 0
A14: 9 | B14: 全日制2020电子信息工程技术1班 | C14: 20200302001 | D14: 陈坤远 | E14: =VLOOKUP(C14,[1]sheet1!$A:$AU,46,0) -> 0 | F14: =VLOOKUP(C14,[1]sheet1!$A:$AU,47,0) | G14: 11 | H14: 6 | I14: =SUM(G14:H14) -> 17 | J14: 343 | K14: =IF(J14>=120,"是","否") -> 是 | L14: 2420 | M14: =IF(L14>=1800,"是","否") -> 是 | N14: 否 | O14: / | P14: =IF(AND(E14=0,SUM(G14:H14)>=15,G14>=6,H14>=5,J14>=120,L14>=1800),"是","否") -> 是 | Q14: 毕业 | R14: 0
A15: 10 | B15: 全日制2020电子信息工程技术1班 | C15: 20200302008 | D15: 陆尚志 | E15: =VLOOKUP(C15,[1]sheet1!$A:$AU,46,0) -> 0 | F15: =VLOOKUP(C15,[1]sheet1!$A:$AU,47,0) | G15: 12 | H15: 6 | I15: =SUM(G15:H15) -> 18 | J15: 434 | K15: =IF(J15>=120,"是","否") -> 是 | L15: 3260 | M15: =IF(L15>=1800,"是","否") -> 是 | N15: 否 | O15: / | P15: =IF(AND(E15=0,SUM(G15:H15)>=15,G15>=6,H15>=5,J15>=120,L15>=1800),"是","否") -> 是 | Q15: 毕业 | R15: 0
A16: 11 | B16: 全日制2020电子信息工程技术1班 | C16: 20200101026 | D16: 李培森 | E16: =VLOOKUP(C16,[1]sheet1!$A:$AU,46,0) -> 0 | F16: =VLOOKUP(C16,[1]sheet1!$A:$AU,47,0) | G16: 14 | H16: 6 | I16: =SUM(G16:H16) -> 20 | J16: 296 | K16: =IF(J16>=120,"是","否") -> 是 | L16: 2650 | M16: =IF(L16>=1800,"是","否") -> 是 | N16: 否 | O16: / | P16: =IF(AND(E16=0,SUM(G16:H16)>=15,G16>=6,H16>=5,J16>=120,L16>=1800),"是","否") -> 是 | Q16: 毕业 | R16: 0
A17: 12 | B17: 全日制2020电子信息工程技术1班 | C17: 20200302054 | D17: 磨志辉 | E17: =VLOOKUP(C17,[1]sheet1!$A:$AU,46,0) -> 0 | F17: =VLOOKUP(C17,[1]sheet1!$A:$AU,47,0) | G17: 11 | H17: 6 | I17: =SUM(G17:H17) -> 17 | J17: 266 | K17: =IF(J17>=120,"是","否") -> 是 | L17: 2270 | M17: =IF(L17>=1800,"是","否") -> 是 | N17: 否 | O17: / | P17: =IF(AND(E17=0,SUM(G17:H17)>=15,G17>=6,H17>=5,J17>=120,L17>=1800),"是","否") -> 是 | Q17: 毕业 | R17: 0
... A29: 24 | B29: 全日制2020电子信息工程技术1班 | C29: 20180302082 | D29: 李承禧 | E29: =VLOOKUP(C29,[1]sheet1!$A:$AU,46,0) -> 0 | F29: =VLOOKUP(C29,[1]sheet1!$A:$AU,47,0) | G29: 20 | H29: 6 | I29: =SUM(G29:H29) -> 26 | J29: 312 | K29: =IF(J29>=120,"是","否") -> 是 | L29: 3730 | M29: =IF(L29>=1800,"是","否") -> 是 | N29: 否 | O29: / | P29: =IF(AND(E29=0,SUM(G29:H29)>=15,G29>=6,H29>=5,J29>=120,L29>=1800),"是","否") -> 是 | Q29: 毕业 | R29: 0
A30: 25 | B30: 全日制2020电子信息工程技术1班 | C30: 20200302028 | D30: 刘文祎 | E30: =VLOOKUP(C30,[1]sheet1!$A:$AU,46,0) -> 0 | F30: =VLOOKUP(C30,[1]sheet1!$A:$AU,47,0) | G30: 9 | H30: 5 | I30: =SUM(G30:H30) -> 14 | J30: 258 | K30: =IF(J30>=120,"是","否") -> 是 | L30: 2220 | M30: =IF(L30>=1800,"是","否") -> 是 | N30: 否 | O30: / | P30: =IF(AND(E30=0,SUM(G30:H30)>=15,G30>=6,H30>=5,J30>=120,L30>=1800),"是","否") -> 否 | Q30: 结业 | R30: 0 | S30: 2
A31: 26 | B31: 全日制2020电子信息工程技术1班 | C31: 20200302066 | D31: 朱永寿 | E31: =VLOOKUP(C31,[1]sheet1!$A:$AU,46,0) -> 0 | F31: =VLOOKUP(C31,[1]sheet1!$A:$AU,47,0) | G31: 10 | H31: 5 | I31: =SUM(G31:H31) -> 15 | J31: 311 | K31: =IF(J31>=120,"是","否") -> 是 | L31: 2200 | M31: =IF(L31>=1800,"是","否") -> 是 | N31: 否 | O31: / | P31: =IF(AND(E31=0,SUM(G31:H31)>=15,G31>=6,H31>=5,J31>=120,L31>=1800),"是","否") -> 是 | Q31: 毕业 | R31: 0
A32: 27 | B32: 全日制2020电子信息工程技术2班 | C32: 20200302058 | D32: 邱远武 | E32: =VLOOKUP(C32,[1]sheet1!$A:$AU,46,0) -> 1 | F32: =VLOOKUP(C32,[1]sheet1!$A:$AU,47,0) -> 预就业实习 | G32: 17 | H32: 5 | I32: =SUM(G32:H32) -> 22 | J32: 699 | K32: =IF(J32>=120,"是","否") -> 是 | L32: 6560 | M32: =IF(L32>=1800,"是","否") -> 是 | N32: 否 | O32: / | P32: =IF(AND(E32=0,SUM(G32:H32)>=15,G32>=6,H32>=5,J32>=120,L32>=1800),"是","否") -> 否 | Q32: 结业 | R32: 0 | S32: 1
A33: 28 | B33: 全日制2020电子信息工程技术2班 | C33: 20200302046 | D33: 黎剑培 | E33: =VLOOKUP(C33,[1]sheet1!$A:$AU,46,0) -> 0 | F33: =VLOOKUP(C33,[1]sheet1!$A:$AU,47,0) | G33: 11 | H33: 5 | I33: =SUM(G33:H33) -> 16 | J33: 375 | K33: =IF(J33>=120,"是","否") -> 是 | L33: 2560 | M33: =IF(L33>=1800,"是","否") -> 是 | N33: 否 | O33: / | P33: =IF(AND(E33=0,SUM(G33:H33)>=15,G33>=6,H33>=5,J33>=120,L33>=1800),"是","否") -> 是 | Q33: 毕业 | R33: 0
A34: 29 | B34: 全日制2020电子信息工程技术2班 | C34: 20200302045 | D34: 黎冠 | E34: =VLOOKUP(C34,[1]sheet1!$A:$AU,46,0) -> 1 | F34: =VLOOKUP(C34,[1]sheet1!$A:$AU,47,0) -> 预就业实习 | G34: 14 | H34: 6 | I34: =SUM(G34:H34) -> 20 | J34: 353 | K34: =IF(J34>=120,"是","否") -> 是 | L34: 2580 | M34: =IF(L34>=1800,"是","否") -> 是 | N34: 否 | O34: / | P34: =IF(AND(E34=0,SUM(G34:H34)>=15,G34>=6,H34>=5,J34>=120,L34>=1800),"是","否") -> 否 | Q34: 结业 | R34: 0 | S34: 1
A35: 30 | B35: 全日制2020电子信息工程技术2班 | C35: 20200302037 | D35: 谢远宏 | E35: =VLOOKUP(C35,[1]sheet1!$A:$AU,46,0) -> 0 | F35: =VLOOKUP(C35,[1]sheet1!$A:$AU,47,0) | G35: 16 | H35: 5 | I35: =SUM(G35:H35) -> 21 | J35: 483 | K35: =IF(J35>=120,"是","否") -> 是 | L35: 3520 | M35: =IF(L35>=1800,"是","否") -> 是 | N35: 否 | O35: / | P35: =IF(AND(E35=0,SUM(G35:H35)>=15,G35>=6,H35>=5,J35>=120,L35>=1800),"是","否") -> 是 | Q35: 毕业 | R35: 0
A36: 31 | B36: 全日制2020电子信息工程技术2班 | C36: 20200302053 | D36: 蒙茂敬 | E36: =VLOOKUP(C36,[1]sheet1!$A:$AU,46,0) -> 0 | F36: =VLOOKUP(C36,[1]sheet1!$A:$AU,47,0) | G36: 11 | H36: 5 | I36: =SUM(G36:H36) -> 16 | J36: 238 | K36: =IF(J36>=120,"是","否") -> 是 | L36: 3120 | M36: =IF(L36>=1800,"是","否") -> 是 | N36: 否 | O36: / | P36: =IF(AND(E36=0,SUM(G36:H36)>=15,G36>=6,H36>=5,J36>=120,L36>=1800),"是","否") -> 是 | Q36: 毕业 | R36: 0
A37: 32 | B37: 全日制2020电子信息工程技术2班 | C37: 20180302068 | D37: 覃周敏 | E37: =VLOOKUP(C37,[1]sheet1!$A:$AU,46,0) -> 0 | F37: =VLOOKUP(C37,[1]sheet1!$A:$AU,47,0) | G37: 14 | H37: 5 | I37: =SUM(G37:H37) -> 19 | J37: 359 | K37: =IF(J37>=120,"是","否") -> 是 | L37: 2530 | M37: =IF(L37>=1800,"是","否") -> 是 | N37: 否 | O37: / | P37: =IF(AND(E37=0,SUM(G37:H37)>=15,G37>=6,H37>=5,J37>=120,L37>=1800),"是","否") -> 是 | Q37: 毕业 | R37: 0
A38: 33 | B38: 全日制2020电子信息工程技术2班 | C38: 20200205087 | D38: 余铠勋 | E38: =VLOOKUP(C38,[1]sheet1!$A:$AU,46,0) -> 0 | F38: =VLOOKUP(C38,[1]sheet1!$A:$AU,47,0) | G38: 12 | H38: 7 | I38: =SUM(G38:H38) -> 19 | J38: 239 | K38: =IF(J38>=120,"是","否") -> 是 | L38: 2560 | M38: =IF(L38>=1800,"是","否") -> 是 | N38: 否 | O38: / | P38: =IF(AND(E38=0,SUM(G38:H38)>=15,G38>=6,H38>=5,J38>=120,L38>=1800),"是","否") -> 是 | Q38: 毕业 | R38: 0
A39: 34 | B39: 全日制2020电子信息工程技术2班 | C39: 20200302027 | D39: 刘朝修 | E39: =VLOOKUP(C39,[1]sheet1!$A:$AU,46,0) -> 0 | F39: =VLOOKUP(C39,[1]sheet1!$A:$AU,47,0) | G39: 11 | H39: 5 | I39: =SUM(G39:H39) -> 16 | J39: 152 | K39: =IF(J39>=120,"是","否") -> 是 | L39: 2890 | M39: =IF(L39>=1800,"是","否") -> 是 | N39: 否 | O39: / | P39: =IF(AND(E39=0,SUM(G39:H39)>=15,G39>=6,H39>=5,J39>=120,L39>=1800),"是","否") -> 是 | Q39: 毕业 | R39: 0
A40: 35 | B40: 全日制2020电子信息工程技术2班 | C40: 20200302020 | D40: 周国清 | E40: =VLOOKUP(C40,[1]sheet1!$A:$AU,46,0) -> 0 | F40: =VLOOKUP(C40,[1]sheet1!$A:$AU,47,0) | G40: 14 | H40: 5 | I40: =SUM(G40:H40) -> 19 | J40: 277 | K40: =IF(J40>=120,"是","否") -> 是 | L40: 2780 | M40: =IF(L40>=1800,"是","否") -> 是 | N40: 否 | O40: / | P40: =IF(AND(E40=0,SUM(G40:H40)>=15,G40>=6,H40>=5,J40>=120,L40>=1800),"是","否") -> 是 | Q40: 毕业 | R40: 0
A41: 36 | B41: 全日制2020电子信息工程技术2班 | C41: 20180302010 | D41: 胡敏华 | E41: =VLOOKUP(C41,[1]sheet1!$A:$AU,46,0) -> 0 | F41: =VLOOKUP(C41,[1]sheet1!$A:$AU,47,0) | G41: 14 | H41: 5 | I41: =SUM(G41:H41) -> 19 | J41: 410 | K41: =IF(J41>=120,"是","否") -> 是 | L41: 3800 | M41: =IF(L41>=1800,"是","否") -> 是 | N41: 否 | O41: / | P41: =IF(AND(E41=0,SUM(G41:H41)>=15,G41>=6,H41>=5,J41>=120,L41>=1800),"是","否") -> 是 | Q41: 毕业 | R41: 0
A42: 37 | B42: 全日制2020电子信息工程技术2班 | C42: 20200302051 | D42: 梁文海 | E42: =VLOOKUP(C42,[1]sheet1!$A:$AU,46,0) -> 0 | F42: =VLOOKUP(C42,[1]sheet1!$A:$AU,47,0) | G42: 10 | H42: 5 | I42: =SUM(G42:H42) -> 15 | J42: 262 | K42: =IF(J42>=120,"是","否") -> 是 | L42: 2780 | M42: =IF(L42>=1800,"是","否") -> 是 | N42: 否 | O42: / | P42: =IF(AND(E42=0,SUM(G42:H42)>=15,G42>=6,H42>=5,J42>=120,L42>=1800),"是","否") -> 是 | Q42: 毕业 | R42: 0
A43: 38 | B43: 全日制2020电子信息工程技术2班 | C43: 20200302023 | D43: 方胜源 | E43: =VLOOKUP(C43,[1]sheet1!$A:$AU,46,0) -> 0 | F43: =VLOOKUP(C43,[1]sheet1!$A:$AU,47,0) | G43: 12 | H43: 5 | I43: =SUM(G43:H43) -> 17 | J43: 330 | K43: =IF(J43>=120,"是","否") -> 是 | L43: 2710 | M43: =IF(L43>=1800,"是","否") -> 是 | N43: 否 | O43: / | P43: =IF(AND(E43=0,SUM(G43:H43)>=15,G43>=6,H43>=5,J43>=120,L43>=1800),"是","否") -> 是 | Q43: 毕业 | R43: 0
A44: 39 | B44: 全日制2020电子信息工程技术2班 | C44: 20200302033 | D44: 盘进行 | E44: =VLOOKUP(C44,[1]sheet1!$A:$AU,46,0) -> 0 | F44: =VLOOKUP(C44,[1]sheet1!$A:$AU,47,0) | G44: 12 | H44: 5 | I44: =SUM(G44:H44) -> 17 | J44: 259 | K44: =IF(J44>=120,"是","否") -> 是 | L44: 2620 | M44: =IF(L44>=1800,"是","否") -> 是 | N44: 否 | O44: / | P44: =IF(AND(E44=0,SUM(G44:H44)>=15,G44>=6,H44>=5,J44>=120,L44>=1800),"是","否") -> 是 | Q44: 毕业 | R44: 0
A45: 40 | B45: 全日制2020电子信息工程技术2班 | C45: 20200302056 | D45: 宁志浩 | E45: =VLOOKUP(C45,[1]sheet1!$A:$AU,46,0) -> 1 | F45: =VLOOKUP(C45,[1]sheet1!$A:$AU,47,0) -> 预就业实习 | G45: 16 | H45: 5 | I45: =SUM(G45:H45) -> 21 | J45: 255 | K45: =IF(J45>=120,"是","否") -> 是 | L45: 3120 | M45: =IF(L45>=1800,"是","否") -> 是 | N45: 否 | O45: / | P45: =IF(AND(E45=0,SUM(G45:H45)>=15,G45>=6,H45>=5,J45>=120,L45>=1800),"是","否") -> 否 | Q45: 结业 | R45: 0 | S45: 1
A46: 41 | B46: 全日制2020电子信息工程技术2班 | C46: 20200302007 | D46: 刘伟聪 | E46: =VLOOKUP(C46,[1]sheet1!$A:$AU,46,0) -> 0 | F46: =VLOOKUP(C46,[1]sheet1!$A:$AU,47,0) | G46: 11 | H46: 5 | I46: =SUM(G46:H46) -> 16 | J46: 428 | K46: =IF(J46>=120,"是","否") -> 是 | L46: 3640 | M46: =IF(L46>=1800,"是","否") -> 是 | N46: 否 | O46: / | P46: =IF(AND(E46=0,SUM(G46:H46)>=15,G46>=6,H46>=5,J46>=120,L46>=1800),"是","否") -> 是 | Q46: 毕业 | R46: 0
A47: 42 | B47: 全日制2020电子信息工程技术2班 | C47: 20200202082 | D47: 韦东强 | E47: =VLOOKUP(C47,[1]sheet1!$A:$AU,46,0) -> 1 | F47: =VLOOKUP(C47,[1]sheet1!$A:$AU,47,0) -> 高等数学(二) | G47: 12 | H47: 5 | I47: =SUM(G47:H47) -> 17 | J47: 243 | K47: =IF(J47>=120,"是","否") -> 是 | L47: 2050 | M47: =IF(L47>=1800,"是","否") -> 是 | N47: 否 | O47: / | P47: =IF(AND(E47=0,SUM(G47:H47)>=15,G47>=6,H47>=5,J47>=120,L47>=1800),"是","否") -> 否 | Q47: 结业 | R47: 0 | S47: 1
A48: 43 | B48: 全日制2020电子信息工程技术2班 | C48: 20200302011 | D48: 马远枫 | E48: =VLOOKUP(C48,[1]sheet1!$A:$AU,46,0) -> 0 | F48: =VLOOKUP(C48,[1]sheet1!$A:$AU,47,0) | G48: 14 | H48: 5 | I48: =SUM(G48:H48) -> 19 | J48: 358 | K48: =IF(J48>=120,"是","否") -> 是 | L48: 2800 | M48: =IF(L48>=1800,"是","否") -> 是 | N48: 否 | O48: / | P48: =IF(AND(E48=0,SUM(G48:H48)>=15,G48>=6,H48>=5,J48>=120,L48>=1800),"是","否") -> 是 | Q48: 毕业 | R48: 0
A49: 44 | B49: 全日制2020电子信息工程技术2班 | C49: 20200302043 | D49: 黄冰冰 | E49: =VLOOKUP(C49,[1]sheet1!$A:$AU,46,0) -> 0 | F49: =VLOOKUP(C49,[1]sheet1!$A:$AU,47,0) | G49: 9 | H49: 5 | I49: =SUM(G49:H49) -> 14 | J49: 244 | K49: =IF(J49>=120,"是","否") -> 是 | L49: 2390 | M49: =IF(L49>=1800,"是","否") -> 是 | N49: 否 | O49: / | P49: =IF(AND(E49=0,SUM(G49:H49)>=15,G49>=6,H49>=5,J49>=120,L49>=1800),"是","否") -> 否 | Q49: 结业 | R49: 0 | S49: 2
A50: 45 | B50: 全日制2020电子信息工程技术2班 | C50: 20200302036 | D50: 伍尚林 | E50: =VLOOKUP(C50,[1]sheet1!$A:$AU,46,0) -> 0 | F50: =VLOOKUP(C50,[1]sheet1!$A:$AU,47,0) | G50: 16 | H50: 5 | I50: =SUM(G50:H50) -> 21 | J50: 138 | K50: =IF(J50>=120,"是","否") -> 是 | L50: 1980 | M50: =IF(L50>=1800,"是","否") -> 是 | N50: 否 | O50: / | P50: =IF(AND(E50=0,SUM(G50:H50)>=15,G50>=6,H50>=5,J50>=120,L50>=1800),"是","否") -> 是 | Q50: 毕业 | R50: 0
A51: 46 | B51: 全日制2020电子信息工程技术2班 | C51: 20200302002 | D51: 陈震 | E51: =VLOOKUP(C51,[1]sheet1!$A:$AU,46,0) -> 0 | F51: =VLOOKUP(C51,[1]sheet1!$A:$AU,47,0) | G51: 9 | H51: 5 | I51: =SUM(G51:H51) -> 14 | J51: 331 | K51: =IF(J51>=120,"是","否") -> 是 | L51: 2920 | M51: =IF(L51>=1800,"是","否") -> 是 | N51: 否 | O51: / | P51: =IF(AND(E51=0,SUM(G51:H51)>=15,G51>=6,H51>=5,J51>=120,L51>=1800),"是","否") -> 否 | Q51: 结业 | R51: 0 | S51: 2
A52: 47 | B52: 全日制2020电子信息工程技术2班 | C52: 20200302031 | D52: 陆家林 | E52: =VLOOKUP(C52,[1]sheet1!$A:$AU,46,0) -> 1 | F52: =VLOOKUP(C52,[1]sheet1!$A:$AU,47,0) -> 预就业实习 | G52: 10 | H52: 5 | I52: =SUM(G52:H52) -> 15 | J52: 247 | K52: =IF(J52>=120,"是","否") -> 是 | L52: 2520 | M52: =IF(L52>=1800,"是","否") -> 是 | N52: 否 | O52: / | P52: =IF(AND(E52=0,SUM(G52:H52)>=15,G52>=6,H52>=5,J52>=120,L52>=1800),"是","否") -> 否 | Q52: 结业 | R52: 0 | S52: 1
A53: 48 | B53: 全日制2020电子信息工程技术2班 | C53: 20200302026 | D53: 梁锦莹 | E53: =VLOOKUP(C53,[1]sheet1!$A:$AU,46,0) -> 0 | F53: =VLOOKUP(C53,[1]sheet1!$A:$AU,47,0) | G53: 12 | H53: 6 | I53: =SUM(G53:H53) -> 18 | J53: 276 | K53: =IF(J53>=120,"是","否") -> 是 | L53: 2380 | M53: =IF(L53>=1800,"是","否") -> 是 | N53: 否 | O53: / | P53: =IF(AND(E53=0,SUM(G53:H53)>=15,G53>=6,H53>=5,J53>=120,L53>=1800),"是","否") -> 是 | Q53: 毕业 | R53: 0
A54: 49 | B54: 全日制2020电子信息工程技术2班 | C54: 20190302002 | D54: 蔡海雯 | E54: =VLOOKUP(C54,[1]sheet1!$A:$AU,46,0) -> 1 | F54: =VLOOKUP(C54,[1]sheet1!$A:$AU,47,0) -> 电子基本技能实训 | G54: 16 | H54: 5 | I54: =SUM(G54:H54) -> 21 | J54: 212 | K54: =IF(J54>=120,"是","否") -> 是 | L54: 2170 | M54: =IF(L54>=1800,"是","否") -> 是 | N54: 否 | O54: / | P54: =IF(AND(E54=0,SUM(G54:H54)>=15,G54>=6,H54>=5,J54>=120,L54>=1800),"是","否") -> 否 | Q54: 结业 | R54: 0 | S54: 1
A55: 50 | B55: 全日制2020电子信息工程技术2班 | C55: 20200302060 | D55: 孙永源 | E55: =VLOOKUP(C55,[1]sheet1!$A:$AU,46,0) -> 1 | F55: =VLOOKUP(C55,[1]sheet1!$A:$AU,47,0) -> 预就业实习 | G55: 11 | H55: 5 | I55: =SUM(G55:H55) -> 16 | J55: 171 | K55: =IF(J55>=120,"是","否") -> 是 | L55: 2920 | M55: =IF(L55>=1800,"是","否") -> 是 | N55: 否 | O55: / | P55: =IF(AND(E55=0,SUM(G55:H55)>=15,G55>=6,H55>=5,J55>=120,L55>=1800),"是","否") -> 否 | Q55: 结业 | R55: 0 | S55: 1
A56: 51 | B56: 全日制2020电子信息工程技术2班 | C56: 20200302055 | D56: 莫宗超 | E56: =VLOOKUP(C56,[1]sheet1!$A:$AU,46,0) -> 0 | F56: =VLOOKUP(C56,[1]sheet1!$A:$AU,47,0) | G56: 12 | H56: 5 | I56: =SUM(G56:H56) -> 17 | J56: 211 | K56: =IF(J56>=120,"是","否") -> 是 | L56: 2720 | M56: =IF(L56>=1800,"是","否") -> 是 | N56: 否 | O56: / | P56: =IF(AND(E56=0,SUM(G56:H56)>=15,G56>=6,H56>=5,J56>=120,L56>=1800),"是","否") -> 是 | Q56: 毕业 | R56: 0
A57: 52 | B57: 全日制2020电子信息工程技术2班 | C57: 20200302014 | D57: 覃家暖 | E57: =VLOOKUP(C57,[1]sheet1!$A:$AU,46,0) -> 0 | F57: =VLOOKUP(C57,[1]sheet1!$A:$AU,47,0) | G57: 12 | H57: 5 | I57: =SUM(G57:H57) -> 17 | J57: 244 | K57: =IF(J57>=120,"是","否") -> 是 | L57: 2480 | M57: =IF(L57>=1800,"是","否") -> 是 | N57: 否 | O57: / | P57: =IF(AND(E57=0,SUM(G57:H57)>=15,G57>=6,H57>=5,J57>=120,L57>=1800),"是","否") -> 是 | Q57: 毕业 | R57: 0
A58: 53 | B58: 全日制2020电子信息工程技术2班 | C58: 20200302039 | D58: 余启兴 | E58: =VLOOKUP(C58,[1]sheet1!$A:$AU,46,0) -> 1 | F58: =VLOOKUP(C58,[1]sheet1!$A:$AU,47,0) -> 预就业实习 | G58: 13 | H58: 5 | I58: =SUM(G58:H58) -> 18 | J58: 190 | K58: =IF(J58>=120,"是","否") -> 是 | L58: 2430 | M58: =IF(L58>=1800,"是","否") -> 是 | N58: 否 | O58: / | P58: =IF(AND(E58=0,SUM(G58:H58)>=15,G58>=6,H58>=5,J58>=120,L58>=1800),"是","否") -> 否 | Q58: 结业 | R58: 0 | S58: 1

Sheet 计算机网络技术 
A1: 柳州职业技术学院2023届毕业生毕业资格审核表
A2: 填表说明： 1.第6、7、8行是填写模板。 2.学号、姓名的信息从《2023届学信网学生信息基础数据》表中按照班级筛选并粘贴。 3.必修课不及格门数填写学生到统计数据为止成绩未达到60分的课程总门数，如李四只有《大学生安全教育》课程不及格，其他已经成绩合格，那么李四必修课不及格门数填写“1”；公共选修课已修学分填写学生到统计数据为止总共修得的学分，如李四共修公共选修课两门（一门课程学分为2分，另一门课程学分3分）并且成绩合格，那么李四公选课程已修学分为“5”，专选课已修学分填写方式与公共选修课填写方式一致。 4.第二课堂学分和诚信分填写具体获得的分数，若第二课堂学分>=120，填写“是”，若＜填“否”；诚信分>=1800，填写“是”，若＜填“否”。 德育审查如有仍未解除的，填写“否”，如没有违纪记录的，在“违纪处分是否解除”栏划斜线“/”。德育审查结果不能留空。 5.假若学生“必修课程不及格门数”为“0”、“选修课已修学分”总分15分（其中公选课学分 ≥6 分，专选课学分≥5 ）、“第二课堂学分>=120”、“诚信分>=1800”都填写“是”，则学生达到毕业要求，在“是否达到毕业资格”填写“是”，若以上条件有一列未达到要求，请填写“否”； 6.请如实填写“欠费金额”。 7.上交纸质材料的时候二级学院要盖公章，电子档不需要盖电子章，但是要如实填写上报日期、专业要与《2023届学信网学生信息基础数据》专业名称一致、专业总人数填写实际在校在籍人数。 8.结业原因填写序号：①必修课未通过②选修课未达标③综合素质考评不达标（综合素质包括第二课堂活动分、诚信分及德育审查项目）
A3: 二级学院（盖章）：电子信息工程学院 专业：计算机网络技术 应毕业人数：122 毕业人数：52 结业人数：70 辅导员： 填表日期：
A4: 序号 | B4: 班别 | C4: 学号 | D4: 学生姓名 | E4: 必修课不及格门数 | F4: 必修课不及格具体课程名称 | G4: 选修课学分 | J4: 第二课堂活动分 | L4: 诚信分 | N4: 德育审查 | P4: 是否达到毕业要求 | Q4: 毕结业 结论 | R4: 欠费金额 | S4: 结业 原因
G5: 公选课已修学分 | H5: 专选课已修学分 | I5: 总学分 | J5: 分数 | K5: 是否≥120 | L5: 分数 | M5: 是否≥1800 | N5: 是否有违纪处分 | O5: 违纪处分是否解除
A6: 1 | B6: 全日制2020计算机网络技术1班 | C6: 20200308124 | D6: 赵必彩 | E6: =VLOOKUP(C6,[6]sheet1!$A:$AQ,42,0) -> 1 | F6: =VLOOKUP(C6,[6]sheet1!$A:$AQ,43,0) -> 预就业实习 | G6: 12 | H6: 9.5 | I6: =SUM(G6:H6) -> 21.5 | J6: 530 | K6: =IF(J6>=120,"是","否") -> 是 | L6: 4120 | M6: =IF(L6>=1800,"是","否") -> 是 | N6: 否 | O6: / | P6: =IF(AND(E6=0,SUM(G6:H6)>=15,G6>=6,H6>=5,J6>=120,L6>=1800),"是","否") -> 否 | Q6: 结业 | R6: 0 | S6: 1
A7: 2 | B7: 全日制2020计算机网络技术1班 | C7: 20200308066 | D7: 莫嘉 | E7: =VLOOKUP(C7,[6]sheet1!$A:$AQ,42,0) -> 0 | F7: =VLOOKUP(C7,[6]sheet1!$A:$AQ,43,0) | G7: 13 | H7: 9.5 | I7: =SUM(G7:H7) -> 22.5 | J7: 509 | K7: =IF(J7>=120,"是","否") -> 是 | L7: 4780 | M7: =IF(L7>=1800,"是","否") -> 是 | N7: 否 | O7: / | P7: =IF(AND(E7=0,SUM(G7:H7)>=15,G7>=6,H7>=5,J7>=120,L7>=1800),"是","否") -> 是 | Q7: 毕业 | R7: 0
A8: 3 | B8: 全日制2020计算机网络技术1班 | C8: 20200308113 | D8: 潘向英 | E8: =VLOOKUP(C8,[6]sheet1!$A:$AQ,42,0) -> 1 | F8: =VLOOKUP(C8,[6]sheet1!$A:$AQ,43,0) -> 预就业实习 | G8: 13 | H8: 9.5 | I8: =SUM(G8:H8) -> 22.5 | J8: 457 | K8: =IF(J8>=120,"是","否") -> 是 | L8: 3400 | M8: =IF(L8>=1800,"是","否") -> 是 | N8: 否 | O8: / | P8: =IF(AND(E8=0,SUM(G8:H8)>=15,G8>=6,H8>=5,J8>=120,L8>=1800),"是","否") -> 否 | Q8: 结业 | R8: 0 | S8: 1
A9: 4 | B9: 全日制2020计算机网络技术1班 | C9: 20200308093 | D9: 黄奕锟 | E9: =VLOOKUP(C9,[6]sheet1!$A:$AQ,42,0) -> 1 | F9: =VLOOKUP(C9,[6]sheet1!$A:$AQ,43,0) -> 预就业实习 | G9: 13 | H9: 9.5 | I9: =SUM(G9:H9) -> 22.5 | J9: 282 | K9: =IF(J9>=120,"是","否") -> 是 | L9: 3140 | M9: =IF(L9>=1800,"是","否") -> 是 | N9: 否 | O9: / | P9: =IF(AND(E9=0,SUM(G9:H9)>=15,G9>=6,H9>=5,J9>=120,L9>=1800),"是","否") -> 否 | Q9: 结业 | R9: 0 | S9: 1
A10: 5 | B10: 全日制2020计算机网络技术1班 | C10: 20200308078 | D10: 吴锦灿 | E10: =VLOOKUP(C10,[6]sheet1!$A:$AQ,42,0) -> 0 | F10: =VLOOKUP(C10,[6]sheet1!$A:$AQ,43,0) | G10: 11 | H10: 9.5 | I10: =SUM(G10:H10) -> 20.5 | J10: 306 | K10: =IF(J10>=120,"是","否") -> 是 | L10: 2620 | M10: =IF(L10>=1800,"是","否") -> 是 | N10: 否 | O10: / | P10: =IF(AND(E10=0,SUM(G10:H10)>=15,G10>=6,H10>=5,J10>=120,L10>=1800),"是","否") -> 是 | Q10: 毕业 | R10: 0
A11: 6 | B11: 全日制2020计算机网络技术1班 | C11: 20200308109 | D11: 吕沛 | E11: =VLOOKUP(C11,[6]sheet1!$A:$AQ,42,0) -> 0 | F11: =VLOOKUP(C11,[6]sheet1!$A:$AQ,43,0) | G11: 19 | H11: 9.5 | I11: =SUM(G11:H11) -> 28.5 | J11: 388 | K11: =IF(J11>=120,"是","否") -> 是 | L11: 3180 | M11: =IF(L11>=1800,"是","否") -> 是 | N11: 否 | O11: / | P11: =IF(AND(E11=0,SUM(G11:H11)>=15,G11>=6,H11>=5,J11>=120,L11>=1800),"是","否") -> 是 | Q11: 毕业 | R11: 0
A12: 7 | B12: 全日制2020计算机网络技术1班 | C12: 20200308125 | D12: 郑晓彤 | E12: =VLOOKUP(C12,[6]sheet1!$A:$AQ,42,0) -> 1 | F12: =VLOOKUP(C12,[6]sheet1!$A:$AQ,43,0) -> 预就业实习 | G12: 12 | H12: 9.5 | I12: =SUM(G12:H12) -> 21.5 | J12: 521 | K12: =IF(J12>=120,"是","否") -> 是 | L12: 4080 | M12: =IF(L12>=1800,"是","否") -> 是 | N12: 否 | O12: / | P12: =IF(AND(E12=0,SUM(G12:H12)>=15,G12>=6,H12>=5,J12>=120,L12>=1800),"是","否") -> 否 | Q12: 结业 | R12: 0 | S12: 1
A13: 8 | B13: 全日制2020计算机网络技术1班 | C13: 20200308088 | D13: 池雪慧 | E13: =VLOOKUP(C13,[6]sheet1!$A:$AQ,42,0) -> 1 | F13: =VLOOKUP(C13,[6]sheet1!$A:$AQ,43,0) -> 预就业实习 | G13: 12 | H13: 9.5 | I13: =SUM(G13:H13) -> 21.5 | J13: 619 | K13: =IF(J13>=120,"是","否") -> 是 | L13: 4680 | M13: =IF(L13>=1800,"是","否") -> 是 | N13: 否 | O13: / | P13: =IF(AND(E13=0,SUM(G13:H13)>=15,G13>=6,H13>=5,J13>=120,L13>=1800),"是","否") -> 否 | Q13: 结业 | R13: 0 | S13: 1
A14: 9 | B14: 全日制2020计算机网络技术1班 | C14: 20200308087 | D14: 陈小花 | E14: =VLOOKUP(C14,[6]sheet1!$A:$AQ,42,0) -> 1 | F14: =VLOOKUP(C14,[6]sheet1!$A:$AQ,43,0) -> 预就业实习 | G14: 11 | H14: 9.5 | I14: =SUM(G14:H14) -> 20.5 | J14: 527 | K14: =IF(J14>=120,"是","否") -> 是 | L14: 3820 | M14: =IF(L14>=1800,"是","否") -> 是 | N14: 否 | O14: / | P14: =IF(AND(E14=0,SUM(G14:H14)>=15,G14>=6,H14>=5,J14>=120,L14>=1800),"是","否") -> 否 | Q14: 结业 | R14: 0 | S14: 1
A15: 10 | B15: 全日制2020计算机网络技术1班 | C15: 20200308110 | D15: 马建勋 | E15: =VLOOKUP(C15,[6]sheet1!$A:$AQ,42,0) -> 1 | F15: =VLOOKUP(C15,[6]sheet1!$A:$AQ,43,0) -> 预就业实习 | G15: 12 | H15: 9.5 | I15: =SUM(G15:H15) -> 21.5 | J15: 329 | K15: =IF(J15>=120,"是","否") -> 是 | L15: 2620 | M15: =IF(L15>=1800,"是","否") -> 是 | N15: 否 | O15: / | P15: =IF(AND(E15=0,SUM(G15:H15)>=15,G15>=6,H15>=5,J15>=120,L15>=1800),"是","否") -> 否 | Q15: 结业 | R15: 0 | S15: 1
A16: 11 | B16: 全日制2020计算机网络技术1班 | C16: 20200308108 | D16: 吕俊龙 | E16: =VLOOKUP(C16,[6]sheet1!$A:$AQ,42,0) -> 0 | F16: =VLOOKUP(C16,[6]sheet1!$A:$AQ,43,0) | G16: 12 | H16: 9.5 | I16: =SUM(G16:H16) -> 21.5 | J16: 422 | K16: =IF(J16>=120,"是","否") -> 是 | L16: 4960 | M16: =IF(L16>=1800,"是","否") -> 是 | N16: 否 | O16: / | P16: =IF(AND(E16=0,SUM(G16:H16)>=15,G16>=6,H16>=5,J16>=120,L16>=1800),"是","否") -> 是 | Q16: 毕业 | R16: 0
A17: 12 | B17: 全日制2020计算机网络技术1班 | C17: 20200308114 | D17: 邱梦玲 | E17: =VLOOKUP(C17,[6]sheet1!$A:$AQ,42,0) -> 1 | F17: =VLOOKUP(C17,[6]sheet1!$A:$AQ,43,0) -> 预就业实习 | G17: 10 | H17: 9.5 | I17: =SUM(G17:H17) -> 19.5 | J17: 381 | K17: =IF(J17>=120,"是","否") -> 是 | L17: 3190 | M17: =IF(L17>=1800,"是","否") -> 是 | N17: 否 | O17: / | P17: =IF(AND(E17=0,SUM(G17:H17)>=15,G17>=6,H17>=5,J17>=120,L17>=1800),"是","否") -> 否 | Q17: 结业 | R17: 0 | S17: 1
A18: 13 | B18: 全日制2020计算机网络技术1班 | C18: 20200308102 | D18: 廖丽姿 | E18: =VLOOKUP(C18,[6]sheet1!$A:$AQ,42,0) -> 1 | F18: =VLOOKUP(C18,[6]sheet1!$A:$AQ,43,0) -> 预就业实习 | G18: 13 | H18: 9.5 | I18: =SUM(G18:H18) -> 22.5 | J18: 437 | K18: =IF(J18>=120,"是","否") -> 是 | L18: 3190 | M18: =IF(L18>=1800,"是","否") -> 是 | N18: 否 | O18: / | P18: =IF(AND(E18=0,SUM(G18:H18)>=15,G18>=6,H18>=5,J18>=120,L18>=1800),"是","否") -> 否 | Q18: 结业 | R18: 0 | S18: 1
A19: 14 | B19: 全日制2020计算机网络技术1班 | C19: 20200308104 | D19: 陆建霖 | E19: =VLOOKUP(C19,[6]sheet1!$A:$AQ,42,0) -> 1 | F19: =VLOOKUP(C19,[6]sheet1!$A:$AQ,43,0) -> 预就业实习 | G19: 12 | H19: 9.5 | I19: =SUM(G19:H19) -> 21.5 | J19: 337 | K19: =IF(J19>=120,"是","否") -> 是 | L19: 3190 | M19: =IF(L19>=1800,"是","否") -> 是 | N19: 否 | O19: / | P19: =IF(AND(E19=0,SUM(G19:H19)>=15,G19>=6,H19>=5,J19>=120,L19>=1800),"是","否") -> 否 | Q19: 结业 | R19: 0 | S19: 1
A20: 15 | B20: 全日制2020计算机网络技术1班 | C20: 20200308092 | D20: 黄日森 | E20: =VLOOKUP(C20,[6]sheet1!$A:$AQ,42,0) -> 1 | F20: =VLOOKUP(C20,[6]sheet1!$A:$AQ,43,0) -> 预就业实习 | G20: 10 | H20: 9.5 | I20: =SUM(G20:H20) -> 19.5 | J20: 316 | K20: =IF(J20>=120,"是","否") -> 是 | L20: 2980 | M20: =IF(L20>=1800,"是","否") -> 是 | N20: 否 | O20: / | P20: =IF(AND(E20=0,SUM(G20:H20)>=15,G20>=6,H20>=5,J20>=120,L20>=1800),"是","否") -> 否 | Q20: 结业 | R20: 0 | S20: 1
A21: 16 | B21: 全日制2020计算机网络技术1班 | C21: 20200308122 | D21: 姚强 | E21: =VLOOKUP(C21,[6]sheet1!$A:$AQ,42,0) -> 0 | F21: =VLOOKUP(C21,[6]sheet1!$A:$AQ,43,0) | G21: 19 | H21: 9.5 | I21: =SUM(G21:H21) -> 28.5 | J21: 320 | K21: =IF(J21>=120,"是","否") -> 是 | L21: 3180 | M21: =IF(L21>=1800,"是","否") -> 是 | N21: 否 | O21: / | P21: =IF(AND(E21=0,SUM(G21:H21)>=15,G21>=6,H21>=5,J21>=120,L21>=1800),"是","否") -> 是 | Q21: 毕业 | R21: 0
A22: 17 | B22: 全日制2020计算机网络技术1班 | C22: 20200308103 | D22: 林迎 | E22: =VLOOKUP(C22,[6]sheet1!$A:$AQ,42,0) -> 1 | F22: =VLOOKUP(C22,[6]sheet1!$A:$AQ,43,0) -> 预就业实习 | G22: 13 | H22: 9.5 | I22: =SUM(G22:H22) -> 22.5 | J22: 530 | K22: =IF(J22>=120,"是","否") -> 是 | L22: 4240 | M22: =IF(L22>=1800,"是","否") -> 是 | N22: 否 | O22: / | P22: =IF(AND(E22=0,SUM(G22:H22)>=15,G22>=6,H22>=5,J22>=120,L22>=1800),"是","否") -> 否 | Q22: 结业 | R22: 0 | S22: 1
A23: 18 | B23: 全日制2020计算机网络技术1班 | C23: 20200308056 | D23: 黄建雄 | E23: =VLOOKUP(C23,[6]sheet1!$A:$AQ,42,0) -> 1 | F23: =VLOOKUP(C23,[6]sheet1!$A:$AQ,43,0) -> 预就业实习 | G23: 10 | H23: 9 | I23: =SUM(G23:H23) -> 19 | J23: 237 | K23: =IF(J23>=120,"是","否") -> 是 | L23: 2270 | M23: =IF(L23>=1800,"是","否") -> 是 | N23: 否 | O23: / | P23: =IF(AND(E23=0,SUM(G23:H23)>=15,G23>=6,H23>=5,J23>=120,L23>=1800),"是","否") -> 否 | Q23: 结业 | R23: 0 | S23: 1
A24: 19 | B24: 全日制2020计算机网络技术1班 | C24: 20200308121 | D24: 严婷婷 | E24: =VLOOKUP(C24,[6]sheet1!$A:$AQ,42,0) -> 1 | F24: =VLOOKUP(C24,[6]sheet1!$A:$AQ,43,0) -> 预就业实习 | G24: 11 | H24: 9.5 | I24: =SUM(G24:H24) -> 20.5 | J24: 619 | K24: =IF(J24>=120,"是","否") -> 是 | L24: 3320 | M24: =IF(L24>=1800,"是","否") -> 是 | N24: 否 | O24: / | P24: =IF(AND(E24=0,SUM(G24:H24)>=15,G24>=6,H24>=5,J24>=120,L24>=1800),"是","否") -> 否 | Q24: 结业 | R24: 0 | S24: 1
A25: 20 | B25: 全日制2020计算机网络技术1班 | C25: 20200308112 | D25: 宁子德 | E25: =VLOOKUP(C25,[6]sheet1!$A:$AQ,42,0) -> 1 | F25: =VLOOKUP(C25,[6]sheet1!$A:$AQ,43,0) -> 预就业实习 | G25: 12 | H25: 9.5 | I25: =SUM(G25:H25) -> 21.5 | J25: 270 | K25: =IF(J25>=120,"是","否") -> 是 | L25: 3090 | M25: =IF(L25>=1800,"是","否") -> 是 | N25: 否 | O25: / | P25: =IF(AND(E25=0,SUM(G25:H25)>=15,G25>=6,H25>=5,J25>=120,L25>=1800),"是","否") -> 否 | Q25: 结业 | R25: 0 | S25: 1
A26: 21 | B26: 全日制2020计算机网络技术1班 | C26: 20153312034 | D26: 李安善 | E26: =VLOOKUP(C26,[6]sheet1!$A:$AQ,42,0) -> 1 | F26: =VLOOKUP(C26,[6]sheet1!$A:$AQ,43,0) -> 军事理论 | G26: 11 | H26: 7.5 | I26: =SUM(G26:H26) -> 18.5 | J26: 361 | K26: =IF(J26>=120,"是","否") -> 是 | L26: 3700 | M26: =IF(L26>=1800,"是","否") -> 是 | N26: 否 | O26: / | P26: =IF(AND(E26=0,SUM(G26:H26)>=15,G26>=6,H26>=5,J26>=120,L26>=1800),"是","否") -> 否 | Q26: 结业 | R26: 0 | S26: 1
A27: 22 | B27: 全日制2020计算机网络技术1班 | C27: 20200308118 | D27: 谢杰龙 | E27: =VLOOKUP(C27,[6]sheet1!$A:$AQ,42,0) -> 1 | F27: =VLOOKUP(C27,[6]sheet1!$A:$AQ,43,0) -> 预就业实习 | G27: 16 | H27: 9.5 | I27: =SUM(G27:H27) -> 25.5 | J27: 309 | K27: =IF(J27>=120,"是","否") -> 是 | L27: 3000 | M27: =IF(L27>=1800,"是","否") -> 是 | N27: 否 | O27: / | P27: =IF(AND(E27=0,SUM(G27:H27)>=15,G27>=6,H27>=5,J27>=120,L27>=1800),"是","否") -> 否 | Q27: 结业 | R27: 0 | S27: 1
A28: 23 | B28: 全日制2020计算机网络技术1班 | C28: 20200308089 | D28: 龚燕红 | E28: =VLOOKUP(C28,[6]sheet1!$A:$AQ,42,0) -> 1 | F28: =VLOOKUP(C28,[6]sheet1!$A:$AQ,43,0) -> 预就业实习 | G28: 13 | H28: 9.5 | I28: =SUM(G28:H28) -> 22.5 | J28: 285 | K28: =IF(J28>=120,"是","否") -> 是 | L28: 2520 | M28: =IF(L28>=1800,"是","否") -> 是 | N28: 否 | O28: / | P28: =IF(AND(E28=0,SUM(G28:H28)>=15,G28>=6,H28>=5,J28>=120,L28>=1800),"是","否") -> 否 | Q28: 结业 | R28: 0 | S28: 1
A29: 24 | B29: 全日制2020计算机网络技术1班 | C29: 20200308096 | D29: 赖志毅 | E29: =VLOOKUP(C29,[6]sheet1!$A:$AQ,42,0) -> 0 | F29: =VLOOKUP(C29,[6]sheet1!$A:$AQ,43,0) | G29: 10 | H29: 9.5 | I29: =SUM(G29:H29) -> 19.5 | J29: 221 | K29: =IF(J29>=120,"是","否") -> 是 | L29: 2510 | M29: =IF(L29>=1800,"是","否") -> 是 | N29: 否 | O29: / | P29: =IF(AND(E29=0,SUM(G29:H29)>=15,G29>=6,H29>=5,J29>=120,L29>=1800),"是","否") -> 是 | Q29: 毕业 | R29: 0
A30: 25 | B30: 全日制2020计算机网络技术1班 | C30: 20200308117 | D30: 谢国璋 | E30: =VLOOKUP(C30,[6]sheet1!$A:$AQ,42,0) -> 0 | F30: =VLOOKUP(C30,[6]sheet1!$A:$AQ,43,0) | G30: 16 | H30: 9.5 | I30: =SUM(G30:H30) -> 25.5 | J30: 403 | K30: =IF(J30>=120,"是","否") -> 是 | L30: 3020 | M30: =IF(L30>=1800,"是","否") -> 是 | N30: 否 | O30: / | P30: =IF(AND(E30=0,SUM(G30:H30)>=15,G30>=6,H30>=5,J30>=120,L30>=1800),"是","否") -> 是 | Q30: 毕业 | R30: 0
A31: 26 | B31: 全日制2020计算机网络技术1班 | C31: 20200202061 | D31: 刘业铭 | E31: =VLOOKUP(C31,[6]sheet1!$A:$AQ,42,0) -> 1 | F31: =VLOOKUP(C31,[6]sheet1!$A:$AQ,43,0) -> 预就业实习 | G31: 10 | H31: 9.5 | I31: =SUM(G31:H31) -> 19.5 | J31: 265 | K31: =IF(J31>=120,"是","否") -> 是 | L31: 2660 | M31: =IF(L31>=1800,"是","否") -> 是 | N31: 否 | O31: / | P31: =IF(AND(E31=0,SUM(G31:H31)>=15,G31>=6,H31>=5,J31>=120,L31>=1800),"是","否") -> 否 | Q31: 结业 | R31: 0 | S31: 1
A32: 27 | B32: 全日制2020计算机网络技术1班 | C32: 20200308094 | D32: 黄永寿 | E32: =VLOOKUP(C32,[6]sheet1!$A:$AQ,42,0) -> 1 | F32: =VLOOKUP(C32,[6]sheet1!$A:$AQ,43,0) -> 预就业实习 | G32: 18 | H32: 9.5 | I32: =SUM(G32:H32) -> 27.5 | J32: 333 | K32: =IF(J32>=120,"是","否") -> 是 | L32: 2930 | M32: =IF(L32>=1800,"是","否") -> 是 | N32: 否 | O32: / | P32: =IF(AND(E32=0,SUM(G32:H32)>=15,G32>=6,H32>=5,J32>=120,L32>=1800),"是","否") -> 否 | Q32: 结业 | R32: 0 | S32: 1
A33: 28 | B33: 全日制2020计算机网络技术1班 | C33: 20200308085 | D33: 陈国远 | E33: =VLOOKUP(C33,[6]sheet1!$A:$AQ,42,0) -> 0 | F33: =VLOOKUP(C33,[6]sheet1!$A:$AQ,43,0) | G33: 11 | H33: 9.5 | I33: =SUM(G33:H33) -> 20.5 | J33: 255 | K33: =IF(J33>=120,"是","否") -> 是 | L33: 2890 | M33: =IF(L33>=1800,"是","否") -> 是 | N33: 否 | O33: / | P33: =IF(AND(E33=0,SUM(G33:H33)>=15,G33>=6,H33>=5,J33>=120,L33>=1800),"是","否") -> 是 | Q33: 毕业 | R33: 0
A34: 29 | B34: 全日制2020计算机网络技术1班 | C34: 20200308115 | D34: 苏世财 | E34: =VLOOKUP(C34,[6]sheet1!$A:$AQ,42,0) -> 1 | F34: =VLOOKUP(C34,[6]sheet1!$A:$AQ,43,0) -> 预就业实习 | G34: 11 | H34: 9.5 | I34: =SUM(G34:H34) -> 20.5 | J34: 327 | K34: =IF(J34>=120,"是","否") -> 是 | L34: 2820 | M34: =IF(L34>=1800,"是","否") -> 是 | N34: 否 | O34: / | P34: =IF(AND(E34=0,SUM(G34:H34)>=15,G34>=6,H34>=5,J34>=120,L34>=1800),"是","否") -> 否 | Q34: 结业 | R34: 0 | S34: 1
A35: 30 | B35: 全日制2020计算机网络技术1班 | C35: 20200308123 | D35: 游柏权 | E35: =VLOOKUP(C35,[6]sheet1!$A:$AQ,42,0) -> 1 | F35: =VLOOKUP(C35,[6]sheet1!$A:$AQ,43,0) -> 预就业实习 | G35: 12 | H35: 9.5 | I35: =SUM(G35:H35) -> 21.5 | J35: 385 | K35: =IF(J35>=120,"是","否") -> 是 | L35: 3060 | M35: =IF(L35>=1800,"是","否") -> 是 | N35: 否 | O35: / | P35: =IF(AND(E35=0,SUM(G35:H35)>=15,G35>=6,H35>=5,J35>=120,L35>=1800),"是","否") -> 否 | Q35: 结业 | R35: 0 | S35: 1
A36: 31 | B36: 全日制2020计算机网络技术1班 | C36: 20200308107 | D36: 罗显台 | E36: =VLOOKUP(C36,[6]sheet1!$A:$AQ,42,0) -> 1 | F36: =VLOOKUP(C36,[6]sheet1!$A:$AQ,43,0) -> 预就业实习 | G36: 16 | H36: 9.5 | I36: =SUM(G36:H36) -> 25.5 | J36: 398 | K36: =IF(J36>=120,"是","否") -> 是 | L36: 2860 | M36: =IF(L36>=1800,"是","否") -> 是 | N36: 否 | O36: / | P36: =IF(AND(E36=0,SUM(G36:H36)>=15,G36>=6,H36>=5,J36>=120,L36>=1800),"是","否") -> 否 | Q36: 结业 | R36: 0 | S36: 1
A37: 32 | B37: 全日制2020计算机网络技术1班 | C37: 20200308116 | D37: 覃世轩 | E37: =VLOOKUP(C37,[6]sheet1!$A:$AQ,42,0) -> 0 | F37: =VLOOKUP(C37,[6]sheet1!$A:$AQ,43,0) | G37: 17 | H37: 9.5 | I37: =SUM(G37:H37) -> 26.5 | J37: 323 | K37: =IF(J37>=120,"是","否") -> 是 | L37: 3070 | M37: =IF(L37>=1800,"是","否") -> 是 | N37: 否 | O37: / | P37: =IF(AND(E37=0,SUM(G37:H37)>=15,G37>=6,H37>=5,J37>=120,L37>=1800),"是","否") -> 是 | Q37: 毕业 | R37: 0
A38: 33 | B38: 全日制2020计算机网络技术1班 | C38: 20200308098 | D38: 李显威 | E38: =VLOOKUP(C38,[6]sheet1!$A:$AQ,42,0) -> 0 | F38: =VLOOKUP(C38,[6]sheet1!$A:$AQ,43,0) | G38: 10 | H38: 9.5 | I38: =SUM(G38:H38) -> 19.5 | J38: 254 | K38: =IF(J38>=120,"是","否") -> 是 | L38: 2610 | M38: =IF(L38>=1800,"是","否") -> 是 | N38: 否 | O38: / | P38: =IF(AND(E38=0,SUM(G38:H38)>=15,G38>=6,H38>=5,J38>=120,L38>=1800),"是","否") -> 是 | Q38: 毕业 | R38: 0
A39: 34 | B39: 全日制2020计算机网络技术1班 | C39: 20200308091 | D39: 黄仟林 | E39: =VLOOKUP(C39,[6]sheet1!$A:$AQ,42,0) -> 1 | F39: =VLOOKUP(C39,[6]sheet1!$A:$AQ,43,0) -> 预就业实习 | G39: 16 | H39: 9.5 | I39: =SUM(G39:H39) -> 25.5 | J39: 351 | K39: =IF(J39>=120,"是","否") -> 是 | L39: 2820 | M39: =IF(L39>=1800,"是","否") -> 是 | N39: 否 | O39: / | P39: =IF(AND(E39=0,SUM(G39:H39)>=15,G39>=6,H39>=5,J39>=120,L39>=1800),"是","否") -> 否 | Q39: 结业 | R39: 0 | S39: 1
A40: 35 | B40: 全日制2020计算机网络技术1班 | C40: 20200107177 | D40: 张文军 | E40: =VLOOKUP(C40,[6]sheet1!$A:$AQ,42,0) -> 1 | F40: =VLOOKUP(C40,[6]sheet1!$A:$AQ,43,0) -> 预就业实习 | G40: 11 | H40: 9.5 | I40: =SUM(G40:H40) -> 20.5 | J40: 271 | K40: =IF(J40>=120,"是","否") -> 是 | L40: 2800 | M40: =IF(L40>=1800,"是","否") -> 是 | N40: 否 | O40: / | P40: =IF(AND(E40=0,SUM(G40:H40)>=15,G40>=6,H40>=5,J40>=120,L40>=1800),"是","否") -> 否 | Q40: 结业 | R40: 0 | S40: 1
A41: 36 | B41: 全日制2020计算机网络技术1班 | C41: 20200207110 | D41: 韩武锋 | E41: =VLOOKUP(C41,[6]sheet1!$A:$AQ,42,0) -> 1 | F41: =VLOOKUP(C41,[6]sheet1!$A:$AQ,43,0) -> 预就业实习 | G41: 12 | H41: 9.5 | I41: =SUM(G41:H41) -> 21.5 | J41: 261 | K41: =IF(J41>=120,"是","否") -> 是 | L41: 2450 | M41: =IF(L41>=1800,"是","否") -> 是 | N41: 否 | O41: / | P41: =IF(AND(E41=0,SUM(G41:H41)>=15,G41>=6,H41>=5,J41>=120,L41>=1800),"是","否") -> 否 | Q41: 结业 | R41: 0 | S41: 1
A42: 37 | B42: 全日制2020计算机网络技术1班 | C42: 20200308086 | D42: 陈树玮 | E42: =VLOOKUP(C42,[6]sheet1!$A:$AQ,42,0) -> 1 | F42: =VLOOKUP(C42,[6]sheet1!$A:$AQ,43,0) -> 预就业实习 | G42: 11 | H42: 9.5 | I42: =SUM(G42:H42) -> 20.5 | J42: 288 | K42: =IF(J42>=120,"是","否") -> 是 | L42: 2810 | M42: =IF(L42>=1800,"是","否") -> 是 | N42: 否 | O42: / | P42: =IF(AND(E42=0,SUM(G42:H42)>=15,G42>=6,H42>=5,J42>=120,L42>=1800),"是","否") -> 否 | Q42: 结业 | R42: 0 | S42: 1
A43: 38 | B43: 全日制2020计算机网络技术1班 | C43: 20200308120 | D43: 徐衎 | E43: =VLOOKUP(C43,[6]sheet1!$A:$AQ,42,0) -> 1 | F43: =VLOOKUP(C43,[6]sheet1!$A:$AQ,43,0) -> 预就业实习 | G43: 11 | H43: 9.5 | I43: =SUM(G43:H43) -> 20.5 | J43: 153 | K43: =IF(J43>=120,"是","否") -> 是 | L43: 2560 | M43: =IF(L43>=1800,"是","否") -> 是 | N43: 否 | O43: / | P43: =IF(AND(E43=0,SUM(G43:H43)>=15,G43>=6,H43>=5,J43>=120,L43>=1800),"是","否") -> 否 | Q43: 结业 | R43: 0 | S43: 1
A44: 39 | B44: 全日制2020计算机网络技术1班 | C44: 20200308106 | D44: 陆文泽 | E44: =VLOOKUP(C44,[6]sheet1!$A:$AQ,42,0) -> 1 | F44: =VLOOKUP(C44,[6]sheet1!$A:$AQ,43,0) -> 预就业实习 | G44: 13 | H44: 9.5 | I44: =SUM(G44:H44) -> 22.5 | J44: 236 | K44: =IF(J44>=120,"是","否") -> 是 | L44: 2560 | M44: =IF(L44>=1800,"是","否") -> 是 | N44: 否 | O44: / | P44: =IF(AND(E44=0,SUM(G44:H44)>=15,G44>=6,H44>=5,J44>=120,L44>=1800),"是","否") -> 否 | Q44: 结业 | R44: 0 | S44: 1
A45: 40 | B45: 全日制2020计算机网络技术1班 | C45: 20153312027 | D45: 莫仲华 | E45: =VLOOKUP(C45,[6]sheet1!$A:$AQ,42,0) -> 6 | F45: =VLOOKUP(C45,[6]sheet1!$A:$AQ,43,0) -> 创新思维训练大学生安全教育(四)军事理论前端开发技术通用核心能力测试创新与创业实务 | G45: 9 | H45: 5 | I45: =SUM(G45:H45) -> 14 | J45: 260 | K45: =IF(J45>=120,"是","否") -> 是 | L45: 3160 | M45: =IF(L45>=1800,"是","否") -> 是 | N45: 否 | O45: / | P45: =IF(AND(E45=0,SUM(G45:H45)>=15,G45>=6,H45>=5,J45>=120,L45>=1800),"是","否") -> 否 | Q45: 结业 | R45: 183.4 | S45: 1.2
A46: 41 | B46: 全日制2020计算机网络技术1班 | C46: 20190308076 | D46: 龚春勇 | E46: =VLOOKUP(C46,[6]sheet1!$A:$AQ,42,0) -> 9 | F46: =VLOOKUP(C46,[6]sheet1!$A:$AQ,43,0) -> 大学生安全教育(四)职业素养实习与劳动教育毕业设计（论文）/职业能力测试信息安全技术企业网络组建与维护前端开发技术通用核心能力测试创新与创业实务预就业实习 | G46: 6 | H46: 5 | I46: =SUM(G46:H46) -> 11 | J46: 293 | K46: =IF(J46>=120,"是","否") -> 是 | L46: 2100 | M46: =IF(L46>=1800,"是","否") -> 是 | N46: 否 | O46: / | P46: =IF(AND(E46=0,SUM(G46:H46)>=15,G46>=6,H46>=5,J46>=120,L46>=1800),"是","否") -> 否 | Q46: 结业 | R46: 0 | S46: 1.2
A47: 42 | B47: 全日制2020计算机网络技术2班 | C47: 20200308057 | D47: 黄贤昌 | E47: =VLOOKUP(C47,[6]sheet1!$A:$AQ,42,0) -> 1 | F47: =VLOOKUP(C47,[6]sheet1!$A:$AQ,43,0) -> 预就业实习 | G47: 14 | H47: 10 | I47: =SUM(G47:H47) -> 24 | J47: 393 | K47: =IF(J47>=120,"是","否") -> 是 | L47: 3020 | M47: =IF(L47>=1800,"是","否") -> 是 | N47: 否 | O47: / | P47: =IF(AND(E47=0,SUM(G47:H47)>=15,G47>=6,H47>=5,J47>=120,L47>=1800),"是","否") -> 否 | Q47: 结业 | R47: 0 | S47: 1
A48: 43 | B48: 全日制2020计算机网络技术2班 | C48: 20200202026 | D48: 陈昭燊 | E48: =VLOOKUP(C48,[6]sheet1!$A:$AQ,42,0) -> 0 | F48: =VLOOKUP(C48,[6]sheet1!$A:$AQ,43,0) | G48: 10 | H48: 10 | I48: =SUM(G48:H48) -> 20 | J48: 276 | K48: =IF(J48>=120,"是","否") -> 是 | L48: 2590 | M48: =IF(L48>=1800,"是","否") -> 是 | N48: 否 | O48: / | P48: =IF(AND(E48=0,SUM(G48:H48)>=15,G48>=6,H48>=5,J48>=120,L48>=1800),"是","否") -> 是 | Q48: 毕业 | R48: 0
A49: 44 | B49: 全日制2020计算机网络技术2班 | C49: 20200308024 | D49: 刘铁柱 | E49: =VLOOKUP(C49,[6]sheet1!$A:$AQ,42,0) -> 0 | F49: =VLOOKUP(C49,[6]sheet1!$A:$AQ,43,0) | G49: 10 | H49: 10 | I49: =SUM(G49:H49) -> 20 | J49: 383 | K49: =IF(J49>=120,"是","否") -> 是 | L49: 2960 | M49: =IF(L49>=1800,"是","否") -> 是 | N49: 否 | O49: / | P49: =IF(AND(E49=0,SUM(G49:H49)>=15,G49>=6,H49>=5,J49>=120,L49>=1800),"是","否") -> 是 | Q49: 毕业 | R49: 0
A50: 45 | B50: 全日制2020计算机网络技术2班 | C50: 20200308058 | D50: 黄晓杰 | E50: =VLOOKUP(C50,[6]sheet1!$A:$AQ,42,0) -> 0 | F50: =VLOOKUP(C50,[6]sheet1!$A:$AQ,43,0) | G50: 12 | H50: 10 | I50: =SUM(G50:H50) -> 22 | J50: 291 | K50: =IF(J50>=120,"是","否") -> 是 | L50: 2830 | M50: =IF(L50>=1800,"是","否") -> 是 | N50: 否 | O50: / | P50: =IF(AND(E50=0,SUM(G50:H50)>=15,G50>=6,H50>=5,J50>=120,L50>=1800),"是","否") -> 是 | Q50: 毕业 | R50: 0
A51: 46 | B51: 全日制2020计算机网络技术2班 | C51: 20200308002 | D51: 曾丽霞 | E51: =VLOOKUP(C51,[6]sheet1!$A:$AQ,42,0) -> 0 | F51: =VLOOKUP(C51,[6]sheet1!$A:$AQ,43,0) | G51: 10 | H51: 10 | I51: =SUM(G51:H51) -> 20 | J51: 302 | K51: =IF(J51>=120,"是","否") -> 是 | L51: 3080 | M51: =IF(L51>=1800,"是","否") -> 是 | N51: 否 | O51: / | P51: =IF(AND(E51=0,SUM(G51:H51)>=15,G51>=6,H51>=5,J51>=120,L51>=1800),"是","否") -> 是 | Q51: 毕业 | R51: 0
A52: 47 | B52: 全日制2020计算机网络技术2班 | C52: 20200308082 | D52: 张国良 | E52: =VLOOKUP(C52,[6]sheet1!$A:$AQ,42,0) -> 1 | F52: =VLOOKUP(C52,[6]sheet1!$A:$AQ,43,0) -> 预就业实习 | G52: 8 | H52: 10 | I52: =SUM(G52:H52) -> 18 | J52: 222 | K52: =IF(J52>=120,"是","否") -> 是 | L52: 2740 | M52: =IF(L52>=1800,"是","否") -> 是 | N52: 否 | O52: / | P52: =IF(AND(E52=0,SUM(G52:H52)>=15,G52>=6,H52>=5,J52>=120,L52>=1800),"是","否") -> 否 | Q52: 结业 | R52: 168.48 | S52: 1
A53: 48 | B53: 全日制2020计算机网络技术2班 | C53: 20200308005 | D53: 邓荣昌 | E53: =VLOOKUP(C53,[6]sheet1!$A:$AQ,42,0) -> 0 | F53: =VLOOKUP(C53,[6]sheet1!$A:$AQ,43,0) | G53: 10 | H53: 10 | I53: =SUM(G53:H53) -> 20 | J53: 342 | K53: =IF(J53>=120,"是","否") -> 是 | L53: 2700 | M53: =IF(L53>=1800,"是","否") -> 是 | N53: 否 | O53: / | P53: =IF(AND(E53=0,SUM(G53:H53)>=15,G53>=6,H53>=5,J53>=120,L53>=1800),"是","否") -> 是 | Q53: 毕业 | R53: 0
A54: 49 | B54: 全日制2020计算机网络技术2班 | C54: 20200308063 | D54: 刘文智 | E54: =VLOOKUP(C54,[6]sheet1!$A:$AQ,42,0) -> 1 | F54: =VLOOKUP(C54,[6]sheet1!$A:$AQ,43,0) -> 预就业实习 | G54: 13 | H54: 10 | I54: =SUM(G54:H54) -> 23 | J54: 228 | K54: =IF(J54>=120,"是","否") -> 是 | L54: 2790 | M54: =IF(L54>=1800,"是","否") -> 是 | N54: 否 | O54: / | P54: =IF(AND(E54=0,SUM(G54:H54)>=15,G54>=6,H54>=5,J54>=120,L54>=1800),"是","否") -> 否 | Q54: 结业 | R54: 0 | S54: 1
A55: 50 | B55: 全日制2020计算机网络技术2班 | C55: 20200402019 | D55: 廖俊宏 | E55: =VLOOKUP(C55,[6]sheet1!$A:$AQ,42,0) -> 1 | F55: =VLOOKUP(C55,[6]sheet1!$A:$AQ,43,0) -> 预就业实习 | G55: 15 | H55: 10 | I55: =SUM(G55:H55) -> 25 | J55: 299 | K55: =IF(J55>=120,"是","否") -> 是 | L55: 3330 | M55: =IF(L55>=1800,"是","否") -> 是 | N55: 否 | O55: / | P55: =IF(AND(E55=0,SUM(G55:H55)>=15,G55>=6,H55>=5,J55>=120,L55>=1800),"是","否") -> 否 | Q55: 结业 | R55: 0 | S55: 1
A56: 51 | B56: 全日制2020计算机网络技术2班 | C56: 20200308014 | D56: 黄忠斌 | E56: =VLOOKUP(C56,[6]sheet1!$A:$AQ,42,0) -> 0 | F56: =VLOOKUP(C56,[6]sheet1!$A:$AQ,43,0) | G56: 12 | H56: 10 | I56: =SUM(G56:H56) -> 22 | J56: 349 | K56: =IF(J56>=120,"是","否") -> 是 | L56: 2910 | M56: =IF(L56>=1800,"是","否") -> 是 | N56: 否 | O56: / | P56: =IF(AND(E56=0,SUM(G56:H56)>=15,G56>=6,H56>=5,J56>=120,L56>=1800),"是","否") -> 是 | Q56: 毕业 | R56: 0
A57: 52 | B57: 全日制2020计算机网络技术2班 | C57: 20180308108 | D57: 韦耀鹏 | E57: =VLOOKUP(C57,[6]sheet1!$A:$AQ,42,0) -> 1 | F57: =VLOOKUP(C57,[6]sheet1!$A:$AQ,43,0) -> 军事理论通用核心能力测试预就业实习 | G57: 13 | H57: 5 | I57: =SUM(G57:H57) -> 18 | J57: 271 | K57: =IF(J57>=120,"是","否") -> 是 | L57: 3600 | M57: =IF(L57>=1800,"是","否") -> 是 | N57: 否 | O57: / | P57: =IF(AND(E57=0,SUM(G57:H57)>=15,G57>=6,H57>=5,J57>=120,L57>=1800),"是","否") -> 否 | Q57: 结业 | R57: 0 | S57: 1
A58: 53 | B58: 全日制2020计算机网络技术2班 | C58: 20200308009 | D58: 高兴习 | E58: =VLOOKUP(C58,[6]sheet1!$A:$AQ,42,0) -> 0 | F58: =VLOOKUP(C58,[6]sheet1!$A:$AQ,43,0) | G58: 14 | H58: 10 | I58: =SUM(G58:H58) -> 24 | J58: 202 | K58: =IF(J58>=120,"是","否") -> 是 | L58: 2390 | M58: =IF(L58>=1800,"是","否") -> 是 | N58: 否 | O58: / | P58: =IF(AND(E58=0,SUM(G58:H58)>=15,G58>=6,H58>=5,J58>=120,L58>=1800),"是","否") -> 是 | Q58: 毕业 | R58: 0
A59: 54 | B59: 全日制2020计算机网络技术2班 | C59: 20200308008 | D59: 甘悦 | E59: =VLOOKUP(C59,[6]sheet1!$A:$AQ,42,0) -> 0 | F59: =VLOOKUP(C59,[6]sheet1!$A:$AQ,43,0) | G59: 13 | H59: 10 | I59: =SUM(G59:H59) -> 23 | J59: 310 | K59: =IF(J59>=120,"是","否") -> 是 | L59: 2700 | M59: =IF(L59>=1800,"是","否") -> 是 | N59: 否 | O59: / | P59: =IF(AND(E59=0,SUM(G59:H59)>=15,G59>=6,H59>=5,J59>=120,L59>=1800),"是","否") -> 是 | Q59: 毕业 | R59: 0
A60: 55 | B60: 全日制2020计算机网络技术2班 | C60: 20200308061 | D60: 梁连 | E60: =VLOOKUP(C60,[6]sheet1!$A:$AQ,42,0) -> 1 | F60: =VLOOKUP(C60,[6]sheet1!$A:$AQ,43,0) -> 预就业实习 | G60: 10 | H60: 10 | I60: =SUM(G60:H60) -> 20 | J60: 358 | K60: =IF(J60>=120,"是","否") -> 是 | L60: 2300 | M60: =IF(L60>=1800,"是","否") -> 是 | N60: 否 | O60: / | P60: =IF(AND(E60=0,SUM(G60:H60)>=15,G60>=6,H60>=5,J60>=120,L60>=1800),"是","否") -> 否 | Q60: 结业 | R60: 0 | S60: 1
A61: 56 | B61: 全日制2020计算机网络技术2班 | C61: 20200308073 | D61: 陶橹冰 | E61: =VLOOKUP(C61,[6]sheet1!$A:$AQ,42,0) -> 0 | F61: =VLOOKUP(C61,[6]sheet1!$A:$AQ,43,0) | G61: 11 | H61: 10 | I61: =SUM(G61:H61) -> 21 | J61: 252 | K61: =IF(J61>=120,"是","否") -> 是 | L61: 2590 | M61: =IF(L61>=1800,"是","否") -> 是 | N61: 否 | O61: / | P61: =IF(AND(E61=0,SUM(G61:H61)>=15,G61>=6,H61>=5,J61>=120,L61>=1800),"是","否") -> 是 | Q61: 毕业 | R61: 0
A62: 57 | B62: 全日制2020计算机网络技术2班 | C62: 20200302040 | D62: 周世富 | E62: =VLOOKUP(C62,[6]sheet1!$A:$AQ,42,0) -> 0 | F62: =VLOOKUP(C62,[6]sheet1!$A:$AQ,43,0) | G62: 10 | H62: 10 | I62: =SUM(G62:H62) -> 20 | J62: 225 | K62: =IF(J62>=120,"是","否") -> 是 | L62: 2490 | M62: =IF(L62>=1800,"是","否") -> 是 | N62: 否 | O62: / | P62: =IF(AND(E62=0,SUM(G62:H62)>=15,G62>=6,H62>=5,J62>=120,L62>=1800),"是","否") -> 是 | Q62: 毕业 | R62: 0
A63: 58 | B63: 全日制2020计算机网络技术2班 | C63: 20200308035 | D63: 宋明 | E63: =VLOOKUP(C63,[6]sheet1!$A:$AQ,42,0) -> 0 | F63: =VLOOKUP(C63,[6]sheet1!$A:$AQ,43,0) | G63: 11 | H63: 10 | I63: =SUM(G63:H63) -> 21 | J63: 318 | K63: =IF(J63>=120,"是","否") -> 是 | L63: 3020 | M63: =IF(L63>=1800,"是","否") -> 是 | N63: 否 | O63: / | P63: =IF(AND(E63=0,SUM(G63:H63)>=15,G63>=6,H63>=5,J63>=120,L63>=1800),"是","否") -> 是 | Q63: 毕业 | R63: 0
A64: 59 | B64: 全日制2020计算机网络技术2班 | C64: 20200308046 | D64: 张丽杰 | E64: =VLOOKUP(C64,[6]sheet1!$A:$AQ,42,0) -> 1 | F64: =VLOOKUP(C64,[6]sheet1!$A:$AQ,43,0) -> 预就业实习 | G64: 11 | H64: 10 | I64: =SUM(G64:H64) -> 21 | J64: 244 | K64: =IF(J64>=120,"是","否") -> 是 | L64: 2410 | M64: =IF(L64>=1800,"是","否") -> 是 | N64: 否 | O64: / | P64: =IF(AND(E64=0,SUM(G64:H64)>=15,G64>=6,H64>=5,J64>=120,L64>=1800),"是","否") -> 否 | Q64: 结业 | R64: 0 | S64: 1
A65: 60 | B65: 全日制2020计算机网络技术2班 | C65: 20200302019 | D65: 张帝杨 | E65: =VLOOKUP(C65,[6]sheet1!$A:$AQ,42,0) -> 0 | F65: =VLOOKUP(C65,[6]sheet1!$A:$AQ,43,0) | G65: 15 | H65: 10 | I65: =SUM(G65:H65) -> 25 | J65: 215 | K65: =IF(J65>=120,"是","否") -> 是 | L65: 2430 | M65: =IF(L65>=1800,"是","否") -> 是 | N65: 否 | O65: / | P65: =IF(AND(E65=0,SUM(G65:H65)>=15,G65>=6,H65>=5,J65>=120,L65>=1800),"是","否") -> 是 | Q65: 毕业 | R65: 0
A66: 61 | B66: 全日制2020计算机网络技术2班 | C66: 20200308031 | D66: 陆忠辉 | E66: =VLOOKUP(C66,[6]sheet1!$A:$AQ,42,0) -> 0 | F66: =VLOOKUP(C66,[6]sheet1!$A:$AQ,43,0) | G66: 12 | H66: 10 | I66: =SUM(G66:H66) -> 22 | J66: 206 | K66: =IF(J66>=120,"是","否") -> 是 | L66: 2540 | M66: =IF(L66>=1800,"是","否") -> 是 | N66: 否 | O66: / | P66: =IF(AND(E66=0,SUM(G66:H66)>=15,G66>=6,H66>=5,J66>=120,L66>=1800),"是","否") -> 是 | Q66: 毕业 | R66: 0
A67: 62 | B67: 全日制2020计算机网络技术2班 | C67: 20200308013 | D67: 黄杰锋 | E67: =VLOOKUP(C67,[6]sheet1!$A:$AQ,42,0) -> 0 | F67: =VLOOKUP(C67,[6]sheet1!$A:$AQ,43,0) | G67: 11 | H67: 10 | I67: =SUM(G67:H67) -> 21 | J67: 210 | K67: =IF(J67>=120,"是","否") -> 是 | L67: 2470 | M67: =IF(L67>=1800,"是","否") -> 是 | N67: 否 | O67: / | P67: =IF(AND(E67=0,SUM(G67:H67)>=15,G67>=6,H67>=5,J67>=120,L67>=1800),"是","否") -> 是 | Q67: 毕业 | R67: 0
A68: 63 | B68: 全日制2020计算机网络技术2班 | C68: 20200308023 | D68: 刘浪滔 | E68: =VLOOKUP(C68,[6]sheet1!$A:$AQ,42,0) -> 0 | F68: =VLOOKUP(C68,[6]sheet1!$A:$AQ,43,0) | G68: 9 | H68: 10 | I68: =SUM(G68:H68) -> 19 | J68: 315 | K68: =IF(J68>=120,"是","否") -> 是 | L68: 2810 | M68: =IF(L68>=1800,"是","否") -> 是 | N68: 否 | O68: / | P68: =IF(AND(E68=0,SUM(G68:H68)>=15,G68>=6,H68>=5,J68>=120,L68>=1800),"是","否") -> 是 | Q68: 毕业 | R68: 0
A69: 64 | B69: 全日制2020计算机网络技术2班 | C69: 20200503133 | D69: 韦小燕 | E69: =VLOOKUP(C69,[6]sheet1!$A:$AQ,42,0) -> 2 | F69: =VLOOKUP(C69,[6]sheet1!$A:$AQ,43,0) -> 体育与健康(二)预就业实习 | G69: 10 | H69: 10 | I69: =SUM(G69:H69) -> 20 | J69: 291 | K69: =IF(J69>=120,"是","否") -> 是 | L69: 2530 | M69: =IF(L69>=1800,"是","否") -> 是 | N69: 否 | O69: / | P69: =IF(AND(E69=0,SUM(G69:H69)>=15,G69>=6,H69>=5,J69>=120,L69>=1800),"是","否") -> 否 | Q69: 结业 | R69: 0 | S69: 1
A70: 65 | B70: 全日制2020计算机网络技术2班 | C70: 20200308044 | D70: 颜卉 | E70: =VLOOKUP(C70,[6]sheet1!$A:$AQ,42,0) -> 0 | F70: =VLOOKUP(C70,[6]sheet1!$A:$AQ,43,0) | G70: 12 | H70: 10 | I70: =SUM(G70:H70) -> 22 | J70: 342 | K70: =IF(J70>=120,"是","否") -> 是 | L70: 2550 | M70: =IF(L70>=1800,"是","否") -> 是 | N70: 否 | O70: / | P70: =IF(AND(E70=0,SUM(G70:H70)>=15,G70>=6,H70>=5,J70>=120,L70>=1800),"是","否") -> 是 | Q70: 毕业 | R70: 0
A71: 66 | B71: 全日制2020计算机网络技术2班 | C71: 20190308081 | D71: 黄叙然 | E71: =VLOOKUP(C71,[6]sheet1!$A:$AQ,42,0) -> 2 | F71: =VLOOKUP(C71,[6]sheet1!$A:$AQ,43,0) -> 毕业设计（论文）/职业能力测试预就业实习 | G71: 11 | H71: 10 | I71: =SUM(G71:H71) -> 21 | J71: 173 | K71: =IF(J71>=120,"是","否") -> 是 | L71: 2680 | M71: =IF(L71>=1800,"是","否") -> 是 | N71: 否 | O71: / | P71: =IF(AND(E71=0,SUM(G71:H71)>=15,G71>=6,H71>=5,J71>=120,L71>=1800),"是","否") -> 否 | Q71: 结业 | R71: 0 | S71: 1
A72: 67 | B72: 全日制2020计算机网络技术2班 | C72: 20200701066 | D72: 杨秀鑫 | E72: =VLOOKUP(C72,[6]sheet1!$A:$AQ,42,0) -> 1 | F72: =VLOOKUP(C72,[6]sheet1!$A:$AQ,43,0) -> 预就业实习 | G72: 12 | H72: 10 | I72: =SUM(G72:H72) -> 22 | J72: 271 | K72: =IF(J72>=120,"是","否") -> 是 | L72: 2340 | M72: =IF(L72>=1800,"是","否") -> 是 | N72: 否 | O72: / | P72: =IF(AND(E72=0,SUM(G72:H72)>=15,G72>=6,H72>=5,J72>=120,L72>=1800),"是","否") -> 否 | Q72: 结业 | R72: 0 | S72: 1
A73: 68 | B73: 全日制2020计算机网络技术2班 | C73: 20200308026 | D73: 刘业毅 | E73: =VLOOKUP(C73,[6]sheet1!$A:$AQ,42,0) -> 1 | F73: =VLOOKUP(C73,[6]sheet1!$A:$AQ,43,0) -> 预就业实习 | G73: 13 | H73: 10 | I73: =SUM(G73:H73) -> 23 | J73: 326 | K73: =IF(J73>=120,"是","否") -> 是 | L73: 3110 | M73: =IF(L73>=1800,"是","否") -> 是 | N73: 否 | O73: / | P73: =IF(AND(E73=0,SUM(G73:H73)>=15,G73>=6,H73>=5,J73>=120,L73>=1800),"是","否") -> 否 | Q73: 结业 | R73: 0 | S73: 1
A74: 69 | B74: 全日制2020计算机网络技术2班 | C74: 20200308025 | D74: 刘锡耀 | E74: =VLOOKUP(C74,[6]sheet1!$A:$AQ,42,0) -> 0 | F74: =VLOOKUP(C74,[6]sheet1!$A:$AQ,43,0) | G74: 10 | H74: 10 | I74: =SUM(G74:H74) -> 20 | J74: 224 | K74: =IF(J74>=120,"是","否") -> 是 | L74: 2680 | M74: =IF(L74>=1800,"是","否") -> 是 | N74: 否 | O74: / | P74: =IF(AND(E74=0,SUM(G74:H74)>=15,G74>=6,H74>=5,J74>=120,L74>=1800),"是","否") -> 是 | Q74: 毕业 | R74: 0
A75: 70 | B75: 全日制2020计算机网络技术2班 | C75: 20200308027 | D75: 龙辉辉 | E75: =VLOOKUP(C75,[6]sheet1!$A:$AQ,42,0) -> 0 | F75: =VLOOKUP(C75,[6]sheet1!$A:$AQ,43,0) | G75: 14 | H75: 10 | I75: =SUM(G75:H75) -> 24 | J75: 280 | K75: =IF(J75>=120,"是","否") -> 是 | L75: 2570 | M75: =IF(L75>=1800,"是","否") -> 是 | N75: 否 | O75: / | P75: =IF(AND(E75=0,SUM(G75:H75)>=15,G75>=6,H75>=5,J75>=120,L75>=1800),"是","否") -> 是 | Q75: 毕业 | R75: 0
A76: 71 | B76: 全日制2020计算机网络技术2班 | C76: 20200308028 | D76: 卢昆義 | E76: =VLOOKUP(C76,[6]sheet1!$A:$AQ,42,0) -> 0 | F76: =VLOOKUP(C76,[6]sheet1!$A:$AQ,43,0) | G76: 11 | H76: 10 | I76: =SUM(G76:H76) -> 21 | J76: 305 | K76: =IF(J76>=120,"是","否") -> 是 | L76: 2660 | M76: =IF(L76>=1800,"是","否") -> 是 | N76: 否 | O76: / | P76: =IF(AND(E76=0,SUM(G76:H76)>=15,G76>=6,H76>=5,J76>=120,L76>=1800),"是","否") -> 是 | Q76: 毕业 | R76: 0
A77: 72 | B77: 全日制2020计算机网络技术2班 | C77: 20200308048 | D77: 张祖落 | E77: =VLOOKUP(C77,[6]sheet1!$A:$AQ,42,0) -> 2 | F77: =VLOOKUP(C77,[6]sheet1!$A:$AQ,43,0) -> 毕业设计（论文）/职业能力测试预就业实习 | G77: 11 | H77: 10 | I77: =SUM(G77:H77) -> 21 | J77: 210 | K77: =IF(J77>=120,"是","否") -> 是 | L77: 2540 | M77: =IF(L77>=1800,"是","否") -> 是 | N77: 否 | O77: / | P77: =IF(AND(E77=0,SUM(G77:H77)>=15,G77>=6,H77>=5,J77>=120,L77>=1800),"是","否") -> 否 | Q77: 结业 | R77: 0 | S77: 1
A78: 73 | B78: 全日制2020计算机网络技术2班 | C78: 20200202040 | D78: 赖振源 | E78: =VLOOKUP(C78,[6]sheet1!$A:$AQ,42,0) -> 0 | F78: =VLOOKUP(C78,[6]sheet1!$A:$AQ,43,0) | G78: 9 | H78: 10 | I78: =SUM(G78:H78) -> 19 | J78: 245 | K78: =IF(J78>=120,"是","否") -> 是 | L78: 2500 | M78: =IF(L78>=1800,"是","否") -> 是 | N78: 否 | O78: / | P78: =IF(AND(E78=0,SUM(G78:H78)>=15,G78>=6,H78>=5,J78>=120,L78>=1800),"是","否") -> 是 | Q78: 毕业 | R78: 0
A79: 74 | B79: 全日制2020计算机网络技术2班 | C79: 20200308004 | D79: 邓付友 | E79: =VLOOKUP(C79,[6]sheet1!$A:$AQ,42,0) -> 2 | F79: =VLOOKUP(C79,[6]sheet1!$A:$AQ,43,0) -> 职业素养实习与劳动教育预就业实习 | G79: 17 | H79: 10 | I79: =SUM(G79:H79) -> 27 | J79: 216 | K79: =IF(J79>=120,"是","否") -> 是 | L79: 2520 | M79: =IF(L79>=1800,"是","否") -> 是 | N79: 否 | O79: / | P79: =IF(AND(E79=0,SUM(G79:H79)>=15,G79>=6,H79>=5,J79>=120,L79>=1800),"是","否") -> 否 | Q79: 结业 | R79: 0 | S79: 1
A80: 75 | B80: 全日制2020计算机网络技术2班 | C80: 20200308076 | D80: 韦诗萍 | E80: =VLOOKUP(C80,[6]sheet1!$A:$AQ,42,0) -> 1 | F80: =VLOOKUP(C80,[6]sheet1!$A:$AQ,43,0) -> 预就业实习 | G80: 15 | H80: 10 | I80: =SUM(G80:H80) -> 25 | J80: 190 | K80: =IF(J80>=120,"是","否") -> 是 | L80: 2190 | M80: =IF(L80>=1800,"是","否") -> 是 | N80: 否 | O80: / | P80: =IF(AND(E80=0,SUM(G80:H80)>=15,G80>=6,H80>=5,J80>=120,L80>=1800),"是","否") -> 否 | Q80: 结业 | R80: 0 | S80: 1
A81: 76 | B81: 全日制2020计算机网络技术2班 | C81: 20200308049 | D81: 周斌 | E81: =VLOOKUP(C81,[6]sheet1!$A:$AQ,42,0) -> 1 | F81: =VLOOKUP(C81,[6]sheet1!$A:$AQ,43,0) -> 高职生心理健康教育 | G81: 16 | H81: 10 | I81: =SUM(G81:H81) -> 26 | J81: 220 | K81: =IF(J81>=120,"是","否") -> 是 | L81: 3340 | M81: =IF(L81>=1800,"是","否") -> 是 | N81: 否 | O81: / | P81: =IF(AND(E81=0,SUM(G81:H81)>=15,G81>=6,H81>=5,J81>=120,L81>=1800),"是","否") -> 否 | Q81: 结业 | R81: 7353.88 | S81: 1
A82: 77 | B82: 全日制2020计算机网络技术2班 | C82: 20200308012 | D82: 黄大勇 | E82: =VLOOKUP(C82,[6]sheet1!$A:$AQ,42,0) -> 0 | F82: =VLOOKUP(C82,[6]sheet1!$A:$AQ,43,0) | G82: 10 | H82: 10 | I82: =SUM(G82:H82) -> 20 | J82: 210 | K82: =IF(J82>=120,"是","否") -> 是 | L82: 2320 | M82: =IF(L82>=1800,"是","否") -> 是 | N82: 否 | O82: / | P82: =IF(AND(E82=0,SUM(G82:H82)>=15,G82>=6,H82>=5,J82>=120,L82>=1800),"是","否") -> 是 | Q82: 毕业 | R82: 0
A83: 78 | B83: 全日制2020计算机网络技术2班 | C83: 20200308068 | D83: 盘华聪 | E83: =VLOOKUP(C83,[6]sheet1!$A:$AQ,42,0) -> 5 | F83: =VLOOKUP(C83,[6]sheet1!$A:$AQ,43,0) -> 计算机网络应用,网页设计与制作体育与健康(二)毕业设计（论文）/职业能力测试预就业实习 | G83: 9 | H83: 10 | I83: =SUM(G83:H83) -> 19 | J83: 151 | K83: =IF(J83>=120,"是","否") -> 是 | L83: 2410 | M83: =IF(L83>=1800,"是","否") -> 是 | N83: 否 | O83: / | P83: =IF(AND(E83=0,SUM(G83:H83)>=15,G83>=6,H83>=5,J83>=120,L83>=1800),"是","否") -> 否 | Q83: 结业 | R83: 0 | S83: 1
A84: 79 | B84: 全日制2020计算机网络技术2班 | C84: 20200308075 | D84: 韦敬诗 | E84: =VLOOKUP(C84,[6]sheet1!$A:$AQ,42,0) -> 1 | F84: =VLOOKUP(C84,[6]sheet1!$A:$AQ,43,0) -> 预就业实习 | G84: 14 | H84: 10 | I84: =SUM(G84:H84) -> 24 | J84: 173 | K84: =IF(J84>=120,"是","否") -> 是 | L84: 2360 | M84: =IF(L84>=1800,"是","否") -> 是 | N84: 否 | O84: / | P84: =IF(AND(E84=0,SUM(G84:H84)>=15,G84>=6,H84>=5,J84>=120,L84>=1800),"是","否") -> 否 | Q84: 结业 | R84: 0 | S84: 1
A85: 80 | B85: 全日制2020计算机网络技术2班 | C85: 20200318126 | D85: 劳良润 | E85: =VLOOKUP(C85,[6]sheet1!$A:$AQ,42,0) -> 4 | F85: =VLOOKUP(C85,[6]sheet1!$A:$AQ,43,0) -> 计算机网络应用,网页设计与制作企业网络组建与维护预就业实习 | G85: 15 | H85: 10 | I85: =SUM(G85:H85) -> 25 | J85: 171 | K85: =IF(J85>=120,"是","否") -> 是 | L85: 2370 | M85: =IF(L85>=1800,"是","否") -> 是 | N85: 否 | O85: / | P85: =IF(AND(E85=0,SUM(G85:H85)>=15,G85>=6,H85>=5,J85>=120,L85>=1800),"是","否") -> 否 | Q85: 结业 | R85: 6483.4 | S85: 1
A86: 81 | B86: 全日制2020计算机网络技术3班 | C86: 20200308033 | D86: 莫文定 | E86: =VLOOKUP(C86,[6]sheet1!$A:$AQ,42,0) -> 0 | F86: =VLOOKUP(C86,[6]sheet1!$A:$AQ,43,0) | G86: 11 | H86: 9 | I86: =SUM(G86:H86) -> 20 | J86: 351 | K86: =IF(J86>=120,"是","否") -> 是 | L86: 3610 | M86: =IF(L86>=1800,"是","否") -> 是 | N86: 否 | O86: / | P86: =IF(AND(E86=0,SUM(G86:H86)>=15,G86>=6,H86>=5,J86>=120,L86>=1800),"是","否") -> 是 | Q86: 毕业 | R86: 0
A87: 82 | B87: 全日制2020计算机网络技术3班 | C87: 20200308079 | D87: 谢晓娟 | E87: =VLOOKUP(C87,[6]sheet1!$A:$AQ,42,0) -> 0 | F87: =VLOOKUP(C87,[6]sheet1!$A:$AQ,43,0) | G87: 14 | H87: 9 | I87: =SUM(G87:H87) -> 23 | J87: 543 | K87: =IF(J87>=120,"是","否") -> 是 | L87: 3180 | M87: =IF(L87>=1800,"是","否") -> 是 | N87: 否 | O87: / | P87: =IF(AND(E87=0,SUM(G87:H87)>=15,G87>=6,H87>=5,J87>=120,L87>=1800),"是","否") -> 是 | Q87: 毕业 | R87: 0
A88: 83 | B88: 全日制2020计算机网络技术3班 | C88: 20200314059 | D88: 梁杰 | E88: =VLOOKUP(C88,[6]sheet1!$A:$AQ,42,0) -> 0 | F88: =VLOOKUP(C88,[6]sheet1!$A:$AQ,43,0) | G88: 13 | H88: 9 | I88: =SUM(G88:H88) -> 22 | J88: 258 | K88: =IF(J88>=120,"是","否") -> 是 | L88: 2580 | M88: =IF(L88>=1800,"是","否") -> 是 | N88: 否 | O88: / | P88: =IF(AND(E88=0,SUM(G88:H88)>=15,G88>=6,H88>=5,J88>=120,L88>=1800),"是","否") -> 是 | Q88: 毕业 | R88: 0
A89: 84 | B89: 全日制2020计算机网络技术3班 | C89: 20200308064 | D89: 龙康健 | E89: =VLOOKUP(C89,[6]sheet1!$A:$AQ,42,0) -> 0 | F89: =VLOOKUP(C89,[6]sheet1!$A:$AQ,43,0) | G89: 10 | H89: 9 | I89: =SUM(G89:H89) -> 19 | J89: 319 | K89: =IF(J89>=120,"是","否") -> 是 | L89: 2780 | M89: =IF(L89>=1800,"是","否") -> 是 | N89: 否 | O89: / | P89: =IF(AND(E89=0,SUM(G89:H89)>=15,G89>=6,H89>=5,J89>=120,L89>=1800),"是","否") -> 是 | Q89: 毕业 | R89: 0
A90: 85 | B90: 全日制2020计算机网络技术3班 | C90: 20200308077 | D90: 吴超龙 | E90: =VLOOKUP(C90,[6]sheet1!$A:$AQ,42,0) -> 0 | F90: =VLOOKUP(C90,[6]sheet1!$A:$AQ,43,0) | G90: 12 | H90: 9 | I90: =SUM(G90:H90) -> 21 | J90: 229 | K90: =IF(J90>=120,"是","否") -> 是 | L90: 2770 | M90: =IF(L90>=1800,"是","否") -> 是 | N90: 否 | O90: / | P90: =IF(AND(E90=0,SUM(G90:H90)>=15,G90>=6,H90>=5,J90>=120,L90>=1800),"是","否") -> 是 | Q90: 毕业 | R90: 0
A91: 86 | B91: 全日制2020计算机网络技术3班 | C91: 20200308069 | D91: 容情 | E91: =VLOOKUP(C91,[6]sheet1!$A:$AQ,42,0) -> 0 | F91: =VLOOKUP(C91,[6]sheet1!$A:$AQ,43,0) | G91: 12 | H91: 9 | I91: =SUM(G91:H91) -> 21 | J91: 432 | K91: =IF(J91>=120,"是","否") -> 是 | L91: 3480 | M91: =IF(L91>=1800,"是","否") -> 是 | N91: 否 | O91: / | P91: =IF(AND(E91=0,SUM(G91:H91)>=15,G91>=6,H91>=5,J91>=120,L91>=1800),"是","否") -> 是 | Q91: 毕业 | R91: 0
A92: 87 | B92: 全日制2020计算机网络技术3班 | C92: 20200308010 | D92: 龚中良 | E92: =VLOOKUP(C92,[6]sheet1!$A:$AQ,42,0) -> 1 | F92: =VLOOKUP(C92,[6]sheet1!$A:$AQ,43,0) -> 预就业实习 | G92: 13 | H92: 9 | I92: =SUM(G92:H92) -> 22 | J92: 341 | K92: =IF(J92>=120,"是","否") -> 是 | L92: 2930 | M92: =IF(L92>=1800,"是","否") -> 是 | N92: 否 | O92: / | P92: =IF(AND(E92=0,SUM(G92:H92)>=15,G92>=6,H92>=5,J92>=120,L92>=1800),"是","否") -> 否 | Q92: 结业 | R92: 0 | S92: 1
A93: 88 | B93: 全日制2020计算机网络技术3班 | C93: 20200308084 | D93: 朱志云 | E93: =VLOOKUP(C93,[6]sheet1!$A:$AQ,42,0) -> 0 | F93: =VLOOKUP(C93,[6]sheet1!$A:$AQ,43,0) | G93: 11 | H93: 9 | I93: =SUM(G93:H93) -> 20 | J93: 271 | K93: =IF(J93>=120,"是","否") -> 是 | L93: 2550 | M93: =IF(L93>=1800,"是","否") -> 是 | N93: 否 | O93: / | P93: =IF(AND(E93=0,SUM(G93:H93)>=15,G93>=6,H93>=5,J93>=120,L93>=1800),"是","否") -> 是 | Q93: 毕业 | R93: 0
A94: 89 | B94: 全日制2020计算机网络技术3班 | C94: 20200205011 | D94: 方勇 | E94: =VLOOKUP(C94,[6]sheet1!$A:$AQ,42,0) -> 1 | F94: =VLOOKUP(C94,[6]sheet1!$A:$AQ,43,0) -> 预就业实习 | G94: 10 | H94: 9 | I94: =SUM(G94:H94) -> 19 | J94: 251 | K94: =IF(J94>=120,"是","否") -> 是 | L94: 2550 | M94: =IF(L94>=1800,"是","否") -> 是 | N94: 否 | O94: / | P94: =IF(AND(E94=0,SUM(G94:H94)>=15,G94>=6,H94>=5,J94>=120,L94>=1800),"是","否") -> 否 | Q94: 结业 | R94: 0 | S94: 1
A95: 90 | B95: 全日制2020计算机网络技术3班 | C95: 20200308036 | D95: 覃秋娥 | E95: =VLOOKUP(C95,[6]sheet1!$A:$AQ,42,0) -> 1 | F95: =VLOOKUP(C95,[6]sheet1!$A:$AQ,43,0) -> 预就业实习 | G95: 12 | H95: 9 | I95: =SUM(G95:H95) -> 21 | J95: 253 | K95: =IF(J95>=120,"是","否") -> 是 | L95: 2560 | M95: =IF(L95>=1800,"是","否") -> 是 | N95: 否 | O95: / | P95: =IF(AND(E95=0,SUM(G95:H95)>=15,G95>=6,H95>=5,J95>=120,L95>=1800),"是","否") -> 否 | Q95: 结业 | R95: 0 | S95: 1
A96: 91 | B96: 全日制2020计算机网络技术3班 | C96: 20200308065 | D96: 卢淑敏 | E96: =VLOOKUP(C96,[6]sheet1!$A:$AQ,42,0) -> 0 | F96: =VLOOKUP(C96,[6]sheet1!$A:$AQ,43,0) | G96: 16 | H96: 8.5 | I96: =SUM(G96:H96) -> 24.5 | J96: 347 | K96: =IF(J96>=120,"是","否") -> 是 | L96: 3140 | M96: =IF(L96>=1800,"是","否") -> 是 | N96: 否 | O96: / | P96: =IF(AND(E96=0,SUM(G96:H96)>=15,G96>=6,H96>=5,J96>=120,L96>=1800),"是","否") -> 是 | Q96: 毕业 | R96: 0
A97: 92 | B97: 全日制2020计算机网络技术3班 | C97: 20200308016 | D97: 黄宗念 | E97: =VLOOKUP(C97,[6]sheet1!$A:$AQ,42,0) -> 1 | F97: =VLOOKUP(C97,[6]sheet1!$A:$AQ,43,0) -> 预就业实习 | G97: 9 | H97: 9 | I97: =SUM(G97:H97) -> 18 | J97: 191 | K97: =IF(J97>=120,"是","否") -> 是 | L97: 2580 | M97: =IF(L97>=1800,"是","否") -> 是 | N97: 否 | O97: / | P97: =IF(AND(E97=0,SUM(G97:H97)>=15,G97>=6,H97>=5,J97>=120,L97>=1800),"是","否") -> 否 | Q97: 结业 | R97: 0 | S97: 1
A98: 93 | B98: 全日制2020计算机网络技术3班 | C98: 20200308006 | D98: 董梦兰 | E98: =VLOOKUP(C98,[6]sheet1!$A:$AQ,42,0) -> 1 | F98: =VLOOKUP(C98,[6]sheet1!$A:$AQ,43,0) -> 预就业实习 | G98: 11 | H98: 9 | I98: =SUM(G98:H98) -> 20 | J98: 284 | K98: =IF(J98>=120,"是","否") -> 是 | L98: 2530 | M98: =IF(L98>=1800,"是","否") -> 是 | N98: 否 | O98: / | P98: =IF(AND(E98=0,SUM(G98:H98)>=15,G98>=6,H98>=5,J98>=120,L98>=1800),"是","否") -> 否 | Q98: 结业 | R98: 0 | S98: 1
A99: 94 | B99: 全日制2020计算机网络技术3班 | C99: 20200308040 | D99: 韦家鸿 | E99: =VLOOKUP(C99,[6]sheet1!$A:$AQ,42,0) -> 0 | F99: =VLOOKUP(C99,[6]sheet1!$A:$AQ,43,0) | G99: 10 | H99: 9 | I99: =SUM(G99:H99) -> 19 | J99: 248 | K99: =IF(J99>=120,"是","否") -> 是 | L99: 2590 | M99: =IF(L99>=1800,"是","否") -> 是 | N99: 否 | O99: / | P99: =IF(AND(E99=0,SUM(G99:H99)>=15,G99>=6,H99>=5,J99>=120,L99>=1800),"是","否") -> 是 | Q99: 毕业 | R99: 0
A100: 95 | B100: 全日制2020计算机网络技术3班 | C100: 20200201102 | D100: 覃山峰 | E100: =VLOOKUP(C100,[6]sheet1!$A:$AQ,42,0) -> 1 | F100: =VLOOKUP(C100,[6]sheet1!$A:$AQ,43,0) -> 预就业实习 | G100: 12 | H100: 9 | I100: =SUM(G100:H100) -> 21 | J100: 214 | K100: =IF(J100>=120,"是","否") -> 是 | L100: 2750 | M100: =IF(L100>=1800,"是","否") -> 是 | N100: 否 | O100: / | P100: =IF(AND(E100=0,SUM(G100:H100)>=15,G100>=6,H100>=5,J100>=120,L100>=1800),"是","否") -> 否 | Q100: 结业 | R100: 0 | S100: 1
...

Sheet 计算机应用技术(联) 
A1: 柳州职业技术学院2023届毕业生毕业资格审核表
A2: 填表说明： 1.第6、7、8行是填写模板。 2.学号、姓名的信息从《2023届学信网学生信息基础数据》表中按照班级筛选并粘贴。 3.必修课不及格门数填写学生到统计数据为止成绩未达到60分的课程总门数，如李四只有《大学生安全教育》课程不及格，其他已经成绩合格，那么李四必修课不及格门数填写“1”；公共选修课已修学分填写学生到统计数据为止总共修得的学分，如李四共修公共选修课两门（一门课程学分为2分，另一门课程学分3分）并且成绩合格，那么李四公选课程已修学分为“5”，专选课已修学分填写方式与公共选修课填写方式一致。 4.第二课堂学分和诚信分填写具体获得的分数，若第二课堂学分>=120，填写“是”，若＜填“否”；诚信分>=1800，填写“是”，若＜填“否”。 德育审查如有仍未解除的，填写“否”，如没有违纪记录的，在“违纪处分是否解除”栏划斜线“/”。德育审查结果不能留空。 5.假若学生“必修课程不及格门数”为“0”、“选修课已修学分”总分15分（其中公选课学分 ≥6 分，专选课学分≥5 ）、“第二课堂学分>=120”、“诚信分>=1800”都填写“是”，则学生达到毕业要求，在“是否达到毕业资格”填写“是”，若以上条件有一列未达到要求，请填写“否”； 6.请如实填写“欠费金额”。 7.上交纸质材料的时候二级学院要盖公章，电子档不需要盖电子章，但是要如实填写上报日期、专业要与《2023届学信网学生信息基础数据》专业名称一致、专业总人数填写实际在校在籍人数。 8.结业原因填写序号：①必修课未通过②选修课未达标③综合素质考评不达标（综合素质包括第二课堂活动分、诚信分及德育审查项目）
A3: 二级学院（盖章）：电子信息工程学院 专业：计算机应用技术(联) 应毕业人数：53 毕业人数：0 结业人数：53 辅导员： 填表日期：
A4: 序号 | B4: 班别 | C4: 学号 | D4: 学生姓名 | E4: 必修课不及格门数 | F4: 必修课不及格具体课程名称 | G4: 选修课学分 | J4: 第二课堂活动分 | L4: 诚信分 | N4: 德育审查 | P4: 是否达到毕业要求 | Q4: 毕结业 结论 | R4: 欠费金额 | S4: 结业 原因
G5: 公选课已修学分 | H5: 专选课已修学分 | I5: 总学分 | J5: 分数 | K5: 是否≥120 | L5: 分数 | M5: 是否≥1800 | N5: 是否有违纪处分 | O5: 违纪处分是否解除
A6: 1 | B6: 全日制2020计算机应用技术(联)1班 | C6: 20200109849 | D6: 苏晓傲 | E6: =VLOOKUP(C6,[7]sheet1!$A:$AU,46,0) -> 2 | F6: =VLOOKUP(C6,[7]sheet1!$A:$AU,47,0) -> 预就业实习职业素养实习与劳动教育 | G6: 12 | H6: 11 | I6: =SUM(G6:H6) -> 23 | J6: 254 | K6: =IF(J6>=120,"是","否") -> 是 | L6: 2550 | M6: =IF(L6>=1800,"是","否") -> 是 | N6: 否 | O6: / | P6: =IF(AND(E6=0,SUM(G6:H6)>=15,G6>=6,H6>=5,J6>=120,L6>=1800),"是","否") -> 否 | Q6: 结业 | R6: 0 | S6: 1
A7: 2 | B7: 全日制2020计算机应用技术(联)1班 | C7: 20200306859 | D7: 周晟伊 | E7: =VLOOKUP(C7,[7]sheet1!$A:$AU,46,0) -> 1 | F7: =VLOOKUP(C7,[7]sheet1!$A:$AU,47,0) -> 职业素养实习与劳动教育 | G7: 12 | H7: 11 | I7: =SUM(G7:H7) -> 23 | J7: 243 | K7: =IF(J7>=120,"是","否") -> 是 | L7: 2420 | M7: =IF(L7>=1800,"是","否") -> 是 | N7: 否 | O7: / | P7: =IF(AND(E7=0,SUM(G7:H7)>=15,G7>=6,H7>=5,J7>=120,L7>=1800),"是","否") -> 否 | Q7: 结业 | R7: 0 | S7: 1
A8: 3 | B8: 全日制2020计算机应用技术(联)1班 | C8: 20200306833 | D8: 莫玉培 | E8: =VLOOKUP(C8,[7]sheet1!$A:$AU,46,0) -> 1 | F8: =VLOOKUP(C8,[7]sheet1!$A:$AU,47,0) -> 职业素养实习与劳动教育 | G8: 16 | H8: 11 | I8: =SUM(G8:H8) -> 27 | J8: 269 | K8: =IF(J8>=120,"是","否") -> 是 | L8: 2730 | M8: =IF(L8>=1800,"是","否") -> 是 | N8: 否 | O8: / | P8: =IF(AND(E8=0,SUM(G8:H8)>=15,G8>=6,H8>=5,J8>=120,L8>=1800),"是","否") -> 否 | Q8: 结业 | R8: 0 | S8: 1
A9: 4 | B9: 全日制2020计算机应用技术(联)1班 | C9: 20200306818 | D9: 李奕权 | E9: =VLOOKUP(C9,[7]sheet1!$A:$AU,46,0) -> 1 | F9: =VLOOKUP(C9,[7]sheet1!$A:$AU,47,0) -> 职业素养实习与劳动教育 | G9: 14 | H9: 11 | I9: =SUM(G9:H9) -> 25 | J9: 252 | K9: =IF(J9>=120,"是","否") -> 是 | L9: 2210 | M9: =IF(L9>=1800,"是","否") -> 是 | N9: 否 | O9: / | P9: =IF(AND(E9=0,SUM(G9:H9)>=15,G9>=6,H9>=5,J9>=120,L9>=1800),"是","否") -> 否 | Q9: 结业 | R9: 0 | S9: 1
A10: 5 | B10: 全日制2020计算机应用技术(联)1班 | C10: 20200306807 | D10: 龚榕蓉 | E10: =VLOOKUP(C10,[7]sheet1!$A:$AU,46,0) -> 1 | F10: =VLOOKUP(C10,[7]sheet1!$A:$AU,47,0) -> 职业素养实习与劳动教育 | G10: 12 | H10: 11 | I10: =SUM(G10:H10) -> 23 | J10: 234 | K10: =IF(J10>=120,"是","否") -> 是 | L10: 2690 | M10: =IF(L10>=1800,"是","否") -> 是 | N10: 否 | O10: / | P10: =IF(AND(E10=0,SUM(G10:H10)>=15,G10>=6,H10>=5,J10>=120,L10>=1800),"是","否") -> 否 | Q10: 结业 | R10: 0 | S10: 1
A11: 6 | B11: 全日制2020计算机应用技术(联)1班 | C11: 20200306836 | D11: 潘文婕 | E11: =VLOOKUP(C11,[7]sheet1!$A:$AU,46,0) -> 1 | F11: =VLOOKUP(C11,[7]sheet1!$A:$AU,47,0) -> 职业素养实习与劳动教育 | G11: 14 | H11: 11 | I11: =SUM(G11:H11) -> 25 | J11: 246 | K11: =IF(J11>=120,"是","否") -> 是 | L11: 2310 | M11: =IF(L11>=1800,"是","否") -> 是 | N11: 否 | O11: / | P11: =IF(AND(E11=0,SUM(G11:H11)>=15,G11>=6,H11>=5,J11>=120,L11>=1800),"是","否") -> 否 | Q11: 结业 | R11: 0 | S11: 1
A12: 7 | B12: 全日制2020计算机应用技术(联)1班 | C12: 20200306853 | D12: 吴生妹 | E12: =VLOOKUP(C12,[7]sheet1!$A:$AU,46,0) -> 1 | F12: =VLOOKUP(C12,[7]sheet1!$A:$AU,47,0) -> 职业素养实习与劳动教育 | G12: 14 | H12: 11 | I12: =SUM(G12:H12) -> 25 | J12: 269 | K12: =IF(J12>=120,"是","否") -> 是 | L12: 1980 | M12: =IF(L12>=1800,"是","否") -> 是 | N12: 否 | O12: / | P12: =IF(AND(E12=0,SUM(G12:H12)>=15,G12>=6,H12>=5,J12>=120,L12>=1800),"是","否") -> 否 | Q12: 结业 | R12: 0 | S12: 1
A13: 8 | B13: 全日制2020计算机应用技术(联)1班 | C13: 20200109821 | D13: 黄舜 | E13: =VLOOKUP(C13,[7]sheet1!$A:$AU,46,0) -> 1 | F13: =VLOOKUP(C13,[7]sheet1!$A:$AU,47,0) -> 职业素养实习与劳动教育 | G13: 12 | H13: 11 | I13: =SUM(G13:H13) -> 23 | J13: 272 | K13: =IF(J13>=120,"是","否") -> 是 | L13: 2180 | M13: =IF(L13>=1800,"是","否") -> 是 | N13: 否 | O13: / | P13: =IF(AND(E13=0,SUM(G13:H13)>=15,G13>=6,H13>=5,J13>=120,L13>=1800),"是","否") -> 否 | Q13: 结业 | R13: 0 | S13: 1
A14: 9 | B14: 全日制2020计算机应用技术(联)1班 | C14: 20200306815 | D14: 蓝艳美 | E14: =VLOOKUP(C14,[7]sheet1!$A:$AU,46,0) -> 1 | F14: =VLOOKUP(C14,[7]sheet1!$A:$AU,47,0) -> 职业素养实习与劳动教育 | G14: 12 | H14: 11 | I14: =SUM(G14:H14) -> 23 | J14: 248 | K14: =IF(J14>=120,"是","否") -> 是 | L14: 2750 | M14: =IF(L14>=1800,"是","否") -> 是 | N14: 否 | O14: / | P14: =IF(AND(E14=0,SUM(G14:H14)>=15,G14>=6,H14>=5,J14>=120,L14>=1800),"是","否") -> 否 | Q14: 结业 | R14: 0 | S14: 1
A15: 10 | B15: 全日制2020计算机应用技术(联)1班 | C15: 20200306915 | D15: 覃弘怡 | E15: =VLOOKUP(C15,[7]sheet1!$A:$AU,46,0) -> 4 | F15: =VLOOKUP(C15,[7]sheet1!$A:$AU,47,0) -> 大学生安全教育(一)形势与政策(一)入学教育职业素养实习与劳动教育 | G15: 14 | H15: 11 | I15: =SUM(G15:H15) -> 25 | J15: 257 | K15: =IF(J15>=120,"是","否") -> 是 | L15: 2270 | M15: =IF(L15>=1800,"是","否") -> 是 | N15: 否 | O15: / | P15: =IF(AND(E15=0,SUM(G15:H15)>=15,G15>=6,H15>=5,J15>=120,L15>=1800),"是","否") -> 否 | Q15: 结业 | R15: 0 | S15: 1
A16: 11 | B16: 全日制2020计算机应用技术(联)1班 | C16: 20200306911 | D16: 吕明 | E16: =VLOOKUP(C16,[7]sheet1!$A:$AU,46,0) -> 4 | F16: =VLOOKUP(C16,[7]sheet1!$A:$AU,47,0) -> 大学生安全教育(一)形势与政策(一)入学教育职业素养实习与劳动教育 | G16: 12 | H16: 11 | I16: =SUM(G16:H16) -> 23 | J16: 245 | K16: =IF(J16>=120,"是","否") -> 是 | L16: 2110 | M16: =IF(L16>=1800,"是","否") -> 是 | N16: 否 | O16: / | P16: =IF(AND(E16=0,SUM(G16:H16)>=15,G16>=6,H16>=5,J16>=120,L16>=1800),"是","否") -> 否 | Q16: 结业 | R16: 0 | S16: 1
A17: 12 | B17: 全日制2020计算机应用技术(联)1班 | C17: 20200306857 | D17: 赵静燕 | E17: =VLOOKUP(C17,[7]sheet1!$A:$AU,46,0) -> 1 | F17: =VLOOKUP(C17,[7]sheet1!$A:$AU,47,0) -> 职业素养实习与劳动教育 | G17: 11 | H17: 11 | I17: =SUM(G17:H17) -> 22 | J17: 272 | K17: =IF(J17>=120,"是","否") -> 是 | L17: 2690 | M17: =IF(L17>=1800,"是","否") -> 是 | N17: 否 | O17: / | P17: =IF(AND(E17=0,SUM(G17:H17)>=15,G17>=6,H17>=5,J17>=120,L17>=1800),"是","否") -> 否 | Q17: 结业 | R17: 0 | S17: 1
... A58: 53 | B58: 全日制2020计算机应用技术(联)1班 | C58: 20200306826 | D58: 卢颖亮 | E58: =VLOOKUP(C58,[7]sheet1!$A:$AU,46,0) -> 5 | F58: =VLOOKUP(C58,[7]sheet1!$A:$AU,47,0) -> 职业发展与生涯规划高等数学(一)数据结构与算法预就业实习职业素养实习与劳动教育 | G58: 9 | H58: 7 | I58: =SUM(G58:H58) -> 16 | J58: 228 | K58: =IF(J58>=120,"是","否") -> 是 | L58: 1800 | M58: =IF(L58>=1800,"是","否") -> 是 | N58: 否 | O58: / | P58: =IF(AND(E58=0,SUM(G58:H58)>=15,G58>=6,H58>=5,J58>=120,L58>=1800),"是","否") -> 否 | Q58: 结业 | R58: 11380.36 | S58: 1

Sheet 计算机应用技术
A1: 柳州职业技术学院2023届毕业生毕业资格审核表
A2: 填表说明： 1.第6、7、8行是填写模板。 2.学号、姓名的信息从《2023届学信网学生信息基础数据》表中按照班级筛选并粘贴。 3.必修课不及格门数填写学生到统计数据为止成绩未达到60分的课程总门数，如李四只有《大学生安全教育》课程不及格，其他已经成绩合格，那么李四必修课不及格门数填写“1”；公共选修课已修学分填写学生到统计数据为止总共修得的学分，如李四共修公共选修课两门（一门课程学分为2分，另一门课程学分3分）并且成绩合格，那么李四公选课程已修学分为“5”，专选课已修学分填写方式与公共选修课填写方式一致。 4.第二课堂学分和诚信分填写具体获得的分数，若第二课堂学分>=120，填写“是”，若＜填“否”；诚信分>=1800，填写“是”，若＜填“否”。 德育审查如有仍未解除的，填写“否”，如没有违纪记录的，在“违纪处分是否解除”栏划斜线“/”。德育审查结果不能留空。 5.假若学生“必修课程不及格门数”为“0”、“选修课已修学分”总分15分（其中公选课学分 ≥6 分，专选课学分≥5 ）、“第二课堂学分>=120”、“诚信分>=1800”都填写“是”，则学生达到毕业要求，在“是否达到毕业资格”填写“是”，若以上条件有一列未达到要求，请填写“否”； 6.请如实填写“欠费金额”。 7.上交纸质材料的时候二级学院要盖公章，电子档不需要盖电子章，但是要如实填写上报日期、专业要与《2023届学信网学生信息基础数据》专业名称一致、专业总人数填写实际在校在籍人数。 8.结业原因填写序号：①必修课未通过②选修课未达标③综合素质考评不达标（综合素质包括第二课堂活动分、诚信分及德育审查项目）
A3: 二级学院（盖章）：电子信息工程学院 专业：计算机应用技术 应毕业人数：166 毕业人数：132 结业人数：34 辅导员： 填表日期：
A4: 序号 | B4: 班别 | C4: 学号 | D4: 学生姓名 | E4: 必修课不及格门数 | F4: 必修课不及格具体课程名称 | G4: 选修课学分 | J4: 第二课堂活动分 | L4: 诚信分 | N4: 德育审查 | P4: 是否达到毕业要求 | Q4: 毕结业 结论 | R4: 欠费金额 | S4: 结业 原因
G5: 公选课已修学分 | H5: 专选课已修学分 | I5: 总学分 | J5: 分数 | K5: 是否≥120 | L5: 分数 | M5: 是否≥1800 | N5: 是否有违纪处分 | O5: 违纪处分是否解除
A6: 1 | B6: 全日制2020计算机应用技术1班 | C6: 20200306156 | D6: 王定茗 | E6: =VLOOKUP(C6,[2]sheet1!$A:$AO,40,0) -> 0 | F6: =VLOOKUP(C6,[2]sheet1!$A:$AO,41,0) | G6: 14 | H6: 8 | I6: =SUM(G6:H6) -> 22 | J6: 268 | K6: =IF(J6>=120,"是","否") -> 是 | L6: 2620 | M6: =IF(L6>=1800,"是","否") -> 是 | N6: 否 | O6: / | P6: =IF(AND(E6=0,SUM(G6:H6)>=15,G6>=6,H6>=5,J6>=120,L6>=1800),"是","否") -> 是 | Q6: 毕业 | R6: 0
A7: 2 | B7: 全日制2020计算机应用技术1班 | C7: 20200306151 | D7: 苏靖惠 | E7: =VLOOKUP(C7,[2]sheet1!$A:$AO,40,0) -> 0 | F7: =VLOOKUP(C7,[2]sheet1!$A:$AO,41,0) | G7: 14 | H7: 8 | I7: =SUM(G7:H7) -> 22 | J7: 375 | K7: =IF(J7>=120,"是","否") -> 是 | L7: 3110 | M7: =IF(L7>=1800,"是","否") -> 是 | N7: 否 | O7: / | P7: =IF(AND(E7=0,SUM(G7:H7)>=15,G7>=6,H7>=5,J7>=120,L7>=1800),"是","否") -> 是 | Q7: 毕业 | R7: 0
A8: 3 | B8: 全日制2020计算机应用技术1班 | C8: 20200206064 | D8: 杨磊 | E8: =VLOOKUP(C8,[2]sheet1!$A:$AO,40,0) -> 0 | F8: =VLOOKUP(C8,[2]sheet1!$A:$AO,41,0) | G8: 13 | H8: 8 | I8: =SUM(G8:H8) -> 21 | J8: 268 | K8: =IF(J8>=120,"是","否") -> 是 | L8: 2670 | M8: =IF(L8>=1800,"是","否") -> 是 | N8: 否 | O8: / | P8: =IF(AND(E8=0,SUM(G8:H8)>=15,G8>=6,H8>=5,J8>=120,L8>=1800),"是","否") -> 是 | Q8: 毕业 | R8: 0
A9: 4 | B9: 全日制2020计算机应用技术1班 | C9: 20200306055 | D9: 韦美玲 | E9: =VLOOKUP(C9,[2]sheet1!$A:$AO,40,0) -> 0 | F9: =VLOOKUP(C9,[2]sheet1!$A:$AO,41,0) | G9: 14 | H9: 8 | I9: =SUM(G9:H9) -> 22 | J9: 383 | K9: =IF(J9>=120,"是","否") -> 是 | L9: 2860 | M9: =IF(L9>=1800,"是","否") -> 是 | N9: 否 | O9: / | P9: =IF(AND(E9=0,SUM(G9:H9)>=15,G9>=6,H9>=5,J9>=120,L9>=1800),"是","否") -> 是 | Q9: 毕业 | R9: 0
A10: 5 | B10: 全日制2020计算机应用技术1班 | C10: 20200306053 | D10: 王健南 | E10: =VLOOKUP(C10,[2]sheet1!$A:$AO,40,0) -> 0 | F10: =VLOOKUP(C10,[2]sheet1!$A:$AO,41,0) | G10: 14 | H10: 8 | I10: =SUM(G10:H10) -> 22 | J10: 263 | K10: =IF(J10>=120,"是","否") -> 是 | L10: 2750 | M10: =IF(L10>=1800,"是","否") -> 是 | N10: 否 | O10: / | P10: =IF(AND(E10=0,SUM(G10:H10)>=15,G10>=6,H10>=5,J10>=120,L10>=1800),"是","否") -> 是 | Q10: 毕业 | R10: 0
A11: 6 | B11: 全日制2020计算机应用技术1班 | C11: 20200306168 | D11: 许淼婵 | E11: =VLOOKUP(C11,[2]sheet1!$A:$AO,40,0) -> 0 | F11: =VLOOKUP(C11,[2]sheet1!$A:$AO,41,0) | G11: 14 | H11: 8 | I11: =SUM(G11:H11) -> 22 | J11: 340 | K11: =IF(J11>=120,"是","否") -> 是 | L11: 2720 | M11: =IF(L11>=1800,"是","否") -> 是 | N11: 否 | O11: / | P11: =IF(AND(E11=0,SUM(G11:H11)>=15,G11>=6,H11>=5,J11>=120,L11>=1800),"是","否") -> 是 | Q11: 毕业 | R11: 0
A12: 7 | B12: 全日制2020计算机应用技术1班 | C12: 20200306041 | D12: 彭达洪 | E12: =VLOOKUP(C12,[2]sheet1!$A:$AO,40,0) -> 2 | F12: =VLOOKUP(C12,[2]sheet1!$A:$AO,41,0) -> 预就业实习职业素养实习与劳动教育 | G12: 16 | H12: 8 | I12: =SUM(G12:H12) -> 24 | J12: 367 | K12: =IF(J12>=120,"是","否") -> 是 | L12: 3060 | M12: =IF(L12>=1800,"是","否") -> 是 | N12: 否 | O12: / | P12: =IF(AND(E12=0,SUM(G12:H12)>=15,G12>=6,H12>=5,J12>=120,L12>=1800),"是","否") -> 否 | Q12: 结业 | R12: 0 | S12: 1
A13: 8 | B13: 全日制2020计算机应用技术1班 | C13: 20200306109 | D13: 黄瑞莹 | E13: =VLOOKUP(C13,[2]sheet1!$A:$AO,40,0) -> 0 | F13: =VLOOKUP(C13,[2]sheet1!$A:$AO,41,0) | G13: 14 | H13: 8 | I13: =SUM(G13:H13) -> 22 | J13: 354 | K13: =IF(J13>=120,"是","否") -> 是 | L13: 2730 | M13: =IF(L13>=1800,"是","否") -> 是 | N13: 否 | O13: / | P13: =IF(AND(E13=0,SUM(G13:H13)>=15,G13>=6,H13>=5,J13>=120,L13>=1800),"是","否") -> 是 | Q13: 毕业 | R13: 0
A14: 9 | B14: 全日制2020计算机应用技术1班 | C14: 20200306136 | D14: 骆国俊 | E14: =VLOOKUP(C14,[2]sheet1!$A:$AO,40,0) -> 0 | F14: =VLOOKUP(C14,[2]sheet1!$A:$AO,41,0) | G14: 13 | H14: 8 | I14: =SUM(G14:H14) -> 21 | J14: 299 | K14: =IF(J14>=120,"是","否") -> 是 | L14: 2500 | M14: =IF(L14>=1800,"是","否") -> 是 | N14: 否 | O14: / | P14: =IF(AND(E14=0,SUM(G14:H14)>=15,G14>=6,H14>=5,J14>=120,L14>=1800),"是","否") -> 是 | Q14: 毕业 | R14: 0
A15: 10 | B15: 全日制2020计算机应用技术1班 | C15: 20200306044 | D15: 覃玲 | E15: =VLOOKUP(C15,[2]sheet1!$A:$AO,40,0) -> 0 | F15: =VLOOKUP(C15,[2]sheet1!$A:$AO,41,0) | G15: 13 | H15: 8 | I15: =SUM(G15:H15) -> 21 | J15: 311 | K15: =IF(J15>=120,"是","否") -> 是 | L15: 3210 | M15: =IF(L15>=1800,"是","否") -> 是 | N15: 否 | O15: / | P15: =IF(AND(E15=0,SUM(G15:H15)>=15,G15>=6,H15>=5,J15>=120,L15>=1800),"是","否") -> 是 | Q15: 毕业 | R15: 0
A16: 11 | B16: 全日制2020计算机应用技术1班 | C16: 20200306036 | D16: 卢昌鹏 | E16: =VLOOKUP(C16,[2]sheet1!$A:$AO,40,0) -> 0 | F16: =VLOOKUP(C16,[2]sheet1!$A:$AO,41,0) | G16: 15 | H16: 8 | I16: =SUM(G16:H16) -> 23 | J16: 258 | K16: =IF(J16>=120,"是","否") -> 是 | L16: 2960 | M16: =IF(L16>=1800,"是","否") -> 是 | N16: 否 | O16: / | P16: =IF(AND(E16=0,SUM(G16:H16)>=15,G16>=6,H16>=5,J16>=120,L16>=1800),"是","否") -> 是 | Q16: 毕业 | R16: 0
A17: 12 | B17: 全日制2020计算机应用技术1班 | C17: 20200306105 | D17: 贺才富 | E17: =VLOOKUP(C17,[2]sheet1!$A:$AO,40,0) -> 2 | F17: =VLOOKUP(C17,[2]sheet1!$A:$AO,41,0) -> 预就业实习职业素养实习与劳动教育 | G17: 12 | H17: 8 | I17: =SUM(G17:H17) -> 20 | J17: 413 | K17: =IF(J17>=120,"是","否") -> 是 | L17: 2990 | M17: =IF(L17>=1800,"是","否") -> 是 | N17: 否 | O17: / | P17: =IF(AND(E17=0,SUM(G17:H17)>=15,G17>=6,H17>=5,J17>=120,L17>=1800),"是","否") -> 否 | Q17: 结业 | R17: 0 | S17: 1
A18: 13 | B18: 全日制2020计算机应用技术1班 | C18: 20200314045 | D18: 杨乐华 | E18: =VLOOKUP(C18,[2]sheet1!$A:$AO,40,0) -> 3 | F18: =VLOOKUP(C18,[2]sheet1!$A:$AO,41,0) -> 高级语言程序设计《云物大智基础》(课内：office部分)《云物大智基础》(课外：云物大智部分) | G18: 11 | H18: 8 | I18: =SUM(G18:H18) -> 19 | J18: 406 | K18: =IF(J18>=120,"是","否") -> 是 | L18: 3390 | M18: =IF(L18>=1800,"是","否") -> 是 | N18: 否 | O18: / | P18: =IF(AND(E18=0,SUM(G18:H18)>=15,G18>=6,H18>=5,J18>=120,L18>=1800),"是","否") -> 否 | Q18: 结业 | R18: 0 | S18: 1
A19: 14 | B19: 全日制2020计算机应用技术1班 | C19: 20200701048 | D19: 林宏波 | E19: =VLOOKUP(C19,[2]sheet1!$A:$AO,40,0) -> 0 | F19: =VLOOKUP(C19,[2]sheet1!$A:$AO,41,0) | G19: 13 | H19: 8 | I19: =SUM(G19:H19) -> 21 | J19: 429 | K19: =IF(J19>=120,"是","否") -> 是 | L19: 2970 | M19: =IF(L19>=1800,"是","否") -> 是 | N19: 否 | O19: / | P19: =IF(AND(E19=0,SUM(G19:H19)>=15,G19>=6,H19>=5,J19>=120,L19>=1800),"是","否") -> 是 | Q19: 毕业 | R19: 0
A20: 15 | B20: 全日制2020计算机应用技术1班 | C20: 20200306080 | D20: 林俊强 | E20: =VLOOKUP(C20,[2]sheet1!$A:$AO,40,0) -> 0 | F20: =VLOOKUP(C20,[2]sheet1!$A:$AO,41,0) | G20: 11 | H20: 10 | I20: =SUM(G20:H20) -> 21 | J20: 245 | K20: =IF(J20>=120,"是","否") -> 是 | L20: 2700 | M20: =IF(L20>=1800,"是","否") -> 是 | N20: 否 | O20: / | P20: =IF(AND(E20=0,SUM(G20:H20)>=15,G20>=6,H20>=5,J20>=120,L20>=1800),"是","否") -> 是 | Q20: 毕业 | R20: 0
A21: 16 | B21: 全日制2020计算机应用技术1班 | C21: 20200405004 | D21: 黄建港 | E21: =VLOOKUP(C21,[2]sheet1!$A:$AO,40,0) -> 0 | F21: =VLOOKUP(C21,[2]sheet1!$A:$AO,41,0) | G21: 10 | H21: 8 | I21: =SUM(G21:H21) -> 18 | J21: 225 | K21: =IF(J21>=120,"是","否") -> 是 | L21: 2430 | M21: =IF(L21>=1800,"是","否") -> 是 | N21: 否 | O21: / | P21: =IF(AND(E21=0,SUM(G21:H21)>=15,G21>=6,H21>=5,J21>=120,L21>=1800),"是","否") -> 是 | Q21: 毕业 | R21: 0
A22: 17 | B22: 全日制2020计算机应用技术1班 | C22: 20200306099 | D22: 甘棉奔 | E22: =VLOOKUP(C22,[2]sheet1!$A:$AO,40,0) -> 0 | F22: =VLOOKUP(C22,[2]sheet1!$A:$AO,41,0) | G22: 14 | H22: 8 | I22: =SUM(G22:H22) -> 22 | J22: 303 | K22: =IF(J22>=120,"是","否") -> 是 | L22: 2670 | M22: =IF(L22>=1800,"是","否") -> 是 | N22: 否 | O22: / | P22: =IF(AND(E22=0,SUM(G22:H22)>=15,G22>=6,H22>=5,J22>=120,L22>=1800),"是","否") -> 是 | Q22: 毕业 | R22: 0
A23: 18 | B23: 全日制2020计算机应用技术1班 | C23: 20200306027 | D23: 李有爽 | E23: =VLOOKUP(C23,[2]sheet1!$A:$AO,40,0) -> 0 | F23: =VLOOKUP(C23,[2]sheet1!$A:$AO,41,0) | G23: 15 | H23: 8 | I23: =SUM(G23:H23) -> 23 | J23: 263 | K23: =IF(J23>=120,"是","否") -> 是 | L23: 2400 | M23: =IF(L23>=1800,"是","否") -> 是 | N23: 否 | O23: / | P23: =IF(AND(E23=0,SUM(G23:H23)>=15,G23>=6,H23>=5,J23>=120,L23>=1800),"是","否") -> 是 | Q23: 毕业 | R23: 0
A24: 19 | B24: 全日制2020计算机应用技术1班 | C24: 20200306110 | D24: 黄显浪 | E24: =VLOOKUP(C24,[2]sheet1!$A:$AO,40,0) -> 0 | F24: =VLOOKUP(C24,[2]sheet1!$A:$AO,41,0) | G24: 13 | H24: 8 | I24: =SUM(G24:H24) -> 21 | J24: 241 | K24: =IF(J24>=120,"是","否") -> 是 | L24: 3110 | M24: =IF(L24>=1800,"是","否") -> 是 | N24: 否 | O24: / | P24: =IF(AND(E24=0,SUM(G24:H24)>=15,G24>=6,H24>=5,J24>=120,L24>=1800),"是","否") -> 是 | Q24: 毕业 | R24: 0
A25: 20 | B25: 全日制2020计算机应用技术1班 | C25: 20200306178 | D25: 周小红 | E25: =VLOOKUP(C25,[2]sheet1!$A:$AO,40,0) -> 0 | F25: =VLOOKUP(C25,[2]sheet1!$A:$AO,41,0) | G25: 12 | H25: 8 | I25: =SUM(G25:H25) -> 20 | J25: 387 | K25: =IF(J25>=120,"是","否") -> 是 | L25: 3890 | M25: =IF(L25>=1800,"是","否") -> 是 | N25: 否 | O25: / | P25: =IF(AND(E25=0,SUM(G25:H25)>=15,G25>=6,H25>=5,J25>=120,L25>=1800),"是","否") -> 是 | Q25: 毕业 | R25: 0
A26: 21 | B26: 全日制2020计算机应用技术1班 | C26: 20200306018 | D26: 兰华龙 | E26: =VLOOKUP(C26,[2]sheet1!$A:$AO,40,0) -> 0 | F26: =VLOOKUP(C26,[2]sheet1!$A:$AO,41,0) | G26: 13 | H26: 8 | I26: =SUM(G26:H26) -> 21 | J26: 405 | K26: =IF(J26>=120,"是","否") -> 是 | L26: 3060 | M26: =IF(L26>=1800,"是","否") -> 是 | N26: 否 | O26: / | P26: =IF(AND(E26=0,SUM(G26:H26)>=15,G26>=6,H26>=5,J26>=120,L26>=1800),"是","否") -> 是 | Q26: 毕业 | R26: 0
A27: 22 | B27: 全日制2020计算机应用技术1班 | C27: 20200306134 | D27: 罗佳航 | E27: =VLOOKUP(C27,[2]sheet1!$A:$AO,40,0) -> 0 | F27: =VLOOKUP(C27,[2]sheet1!$A:$AO,41,0) | G27: 12 | H27: 8 | I27: =SUM(G27:H27) -> 20 | J27: 388 | K27: =IF(J27>=120,"是","否") -> 是 | L27: 3080 | M27: =IF(L27>=1800,"是","否") -> 是 | N27: 否 | O27: / | P27: =IF(AND(E27=0,SUM(G27:H27)>=15,G27>=6,H27>=5,J27>=120,L27>=1800),"是","否") -> 是 | Q27: 毕业 | R27: 0
A28: 23 | B28: 全日制2020计算机应用技术1班 | C28: 20200306020 | D28: 蓝建验 | E28: =VLOOKUP(C28,[2]sheet1!$A:$AO,40,0) -> 0 | F28: =VLOOKUP(C28,[2]sheet1!$A:$AO,41,0) | G28: 12 | H28: 8 | I28: =SUM(G28:H28) -> 20 | J28: 559 | K28: =IF(J28>=120,"是","否") -> 是 | L28: 3490 | M28: =IF(L28>=1800,"是","否") -> 是 | N28: 否 | O28: / | P28: =IF(AND(E28=0,SUM(G28:H28)>=15,G28>=6,H28>=5,J28>=120,L28>=1800),"是","否") -> 是 | Q28: 毕业 | R28: 0
A29: 24 | B29: 全日制2020计算机应用技术1班 | C29: 20200306166 | D29: 谢瑞龙 | E29: =VLOOKUP(C29,[2]sheet1!$A:$AO,40,0) -> 0 | F29: =VLOOKUP(C29,[2]sheet1!$A:$AO,41,0) | G29: 13 | H29: 8 | I29: =SUM(G29:H29) -> 21 | J29: 244 | K29: =IF(J29>=120,"是","否") -> 是 | L29: 2900 | M29: =IF(L29>=1800,"是","否") -> 是 | N29: 否 | O29: / | P29: =IF(AND(E29=0,SUM(G29:H29)>=15,G29>=6,H29>=5,J29>=120,L29>=1800),"是","否") -> 是 | Q29: 毕业 | R29: 0
A30: 25 | B30: 全日制2020计算机应用技术1班 | C30: 20200306150 | D30: 邵伊苒 | E30: =VLOOKUP(C30,[2]sheet1!$A:$AO,40,0) -> 0 | F30: =VLOOKUP(C30,[2]sheet1!$A:$AO,41,0) | G30: 13 | H30: 8 | I30: =SUM(G30:H30) -> 21 | J30: 370 | K30: =IF(J30>=120,"是","否") -> 是 | L30: 3090 | M30: =IF(L30>=1800,"是","否") -> 是 | N30: 否 | O30: / | P30: =IF(AND(E30=0,SUM(G30:H30)>=15,G30>=6,H30>=5,J30>=120,L30>=1800),"是","否") -> 是 | Q30: 毕业 | R30: 0
... A36: 31 | B36: 全日制2020计算机应用技术1班 | C36: 20200306131 | D36: 卢全恩 | E36: =VLOOKUP(C36,[2]sheet1!$A:$AO,40,0) -> 0 | F36: =VLOOKUP(C36,[2]sheet1!$A:$AO,41,0) | G36: 13 | H36: 8 | I36: =SUM(G36:H36) -> 21 | J36: 428 | K36: =IF(J36>=120,"是","否") -> 是 | L36: 3210 | M36: =IF(L36>=1800,"是","否") -> 是 | N36: 否 | O36: / | P36: =IF(AND(E36=0,SUM(G36:H36)>=15,G36>=6,H36>=5,J36>=120,L36>=1800),"是","否") -> 是 | Q36: 毕业 | R36: 0
A37: 32 | B37: 全日制2020计算机应用技术1班 | C37: 20200306030 | D37: 梁正忠 | E37: =VLOOKUP(C37,[2]sheet1!$A:$AO,40,0) -> 2 | F37: =VLOOKUP(C37,[2]sheet1!$A:$AO,41,0) -> 预就业实习职业素养实习与劳动教育 | G37: 11 | H37: 10 | I37: =SUM(G37:H37) -> 21 | J37: 410 | K37: =IF(J37>=120,"是","否") -> 是 | L37: 3210 | M37: =IF(L37>=1800,"是","否") -> 是 | N37: 否 | O37: / | P37: =IF(AND(E37=0,SUM(G37:H37)>=15,G37>=6,H37>=5,J37>=120,L37>=1800),"是","否") -> 否 | Q37: 结业 | R37: 0 | S37: 1
A38: 33 | B38: 全日制2020计算机应用技术1班 | C38: 20200306032 | D38: 廖贤文 | E38: =VLOOKUP(C38,[2]sheet1!$A:$AO,40,0) -> 2 | F38: =VLOOKUP(C38,[2]sheet1!$A:$AO,41,0) -> 预就业实习职业素养实习与劳动教育 | G38: 12 | H38: 8 | I38: =SUM(G38:H38) -> 20 | J38: 251 | K38: =IF(J38>=120,"是","否") -> 是 | L38: 2510 | M38: =IF(L38>=1800,"是","否") -> 是 | N38: 否 | O38: / | P38: =IF(AND(E38=0,SUM(G38:H38)>=15,G38>=6,H38>=5,J38>=120,L38>=1800),"是","否") -> 否 | Q38: 结业 | R38: 0 | S38: 1
A39: 34 | B39: 全日制2020计算机应用技术1班 | C39: 20200306162 | D39: 伍尚强 | E39: =VLOOKUP(C39,[2]sheet1!$A:$AO,40,0) -> 0 | F39: =VLOOKUP(C39,[2]sheet1!$A:$AO,41,0) | G39: 15 | H39: 6 | I39: =SUM(G39:H39) -> 21 | J39: 291 | K39: =IF(J39>=120,"是","否") -> 是 | L39: 2530 | M39: =IF(L39>=1800,"是","否") -> 是 | N39: 否 | O39: / | P39: =IF(AND(E39=0,SUM(G39:H39)>=15,G39>=6,H39>=5,J39>=120,L39>=1800),"是","否") -> 是 | Q39: 毕业 | R39: 0
A40: 35 | B40: 全日制2020计算机应用技术1班 | C40: 20200306065 | D40: 张永彬 | E40: =VLOOKUP(C40,[2]sheet1!$A:$AO,40,0) -> 2 | F40: =VLOOKUP(C40,[2]sheet1!$A:$AO,41,0) -> 预就业实习职业素养实习与劳动教育 | G40: 11 | H40: 6 | I40: =SUM(G40:H40) -> 17 | J40: 249 | K40: =IF(J40>=120,"是","否") -> 是 | L40: 2840 | M40: =IF(L40>=1800,"是","否") -> 是 | N40: 否 | O40: / | P40: =IF(AND(E40=0,SUM(G40:H40)>=15,G40>=6,H40>=5,J40>=120,L40>=1800),"是","否") -> 否 | Q40: 结业 | R40: 0 | S40: 1
A41: 36 | B41: 全日制2020计算机应用技术1班 | C41: 20200306817 | D41: 李道伦 | E41: =VLOOKUP(C41,[2]sheet1!$A:$AO,40,0) -> 0 | F41: =VLOOKUP(C41,[2]sheet1!$A:$AO,41,0) | G41: 12 | H41: 8 | I41: =SUM(G41:H41) -> 20 | J41: 247 | K41: =IF(J41>=120,"是","否") -> 是 | L41: 2650 | M41: =IF(L41>=1800,"是","否") -> 是 | N41: 否 | O41: / | P41: =IF(AND(E41=0,SUM(G41:H41)>=15,G41>=6,H41>=5,J41>=120,L41>=1800),"是","否") -> 是 | Q41: 毕业 | R41: 0
A42: 37 | B42: 全日制2020计算机应用技术1班 | C42: 20200306066 | D42: 郑建宇 | E42: =VLOOKUP(C42,[2]sheet1!$A:$AO,40,0) -> 2 | F42: =VLOOKUP(C42,[2]sheet1!$A:$AO,41,0) -> 预就业实习职业素养实习与劳动教育 | G42: 12 | H42: 8 | I42: =SUM(G42:H42) -> 20 | J42: 287 | K42: =IF(J42>=120,"是","否") -> 是 | L42: 2560 | M42: =IF(L42>=1800,"是","否") -> 是 | N42: 否 | O42: / | P42: =IF(AND(E42=0,SUM(G42:H42)>=15,G42>=6,H42>=5,J42>=120,L42>=1800),"是","否") -> 否 | Q42: 结业 | R42: 0 | S42: 1
A43: 38 | B43: 全日制2020计算机应用技术1班 | C43: 20190306114 | D43: 香钦强 | E43: =VLOOKUP(C43,[2]sheet1!$A:$AO,40,0) -> 6 | F43: =VLOOKUP(C43,[2]sheet1!$A:$AO,41,0) -> 高级语言程序设计软件实施与运维数据库技术 前端开发技术前端开发技术预就业实习职业素养实习与劳动教育 | G43: 13 | H43: 6 | I43: =SUM(G43:H43) -> 19 | J43: 273 | K43: =IF(J43>=120,"是","否") -> 是 | L43: 3060 | M43: =IF(L43>=1800,"是","否") -> 是 | N43: 否 | O43: / | P43: =IF(AND(E43=0,SUM(G43:H43)>=15,G43>=6,H43>=5,J43>=120,L43>=1800),"是","否") -> 否 | Q43: 结业 | R43: 0 | S43: 1
A44: 39 | B44: 全日制2020计算机应用技术1班 | C44: 20170306136 | D44: 邓志志 | E44: =VLOOKUP(C44,[2]sheet1!$A:$AO,40,0) -> 7 | F44: =VLOOKUP(C44,[2]sheet1!$A:$AO,41,0) -> 高级语言程序设计军事理论软件实施与运维数据库技术 前端开发技术前端开发技术预就业实习职业素养实习与劳动教育 | G44: 13 | H44: 8 | I44: =SUM(G44:H44) -> 21 | J44: 268 | K44: =IF(J44>=120,"是","否") -> 是 | L44: 3580 | M44: =IF(L44>=1800,"是","否") -> 是 | N44: 否 | O44: / | P44: =IF(AND(E44=0,SUM(G44:H44)>=15,G44>=6,H44>=5,J44>=120,L44>=1800),"是","否") -> 否 | Q44: 结业 | R44: 0 | S44: 1
A45: 40 | B45: 全日制2020计算机应用技术1班 | C45: 20200306059 | D45: 谢梧泓 | E45: =VLOOKUP(C45,[2]sheet1!$A:$AO,40,0) -> 0 | F45: =VLOOKUP(C45,[2]sheet1!$A:$AO,41,0) | G45: 15 | H45: 8 | I45: =SUM(G45:H45) -> 23 | J45: 377 | K45: =IF(J45>=120,"是","否") -> 是 | L45: 3140 | M45: =IF(L45>=1800,"是","否") -> 是 | N45: 否 | O45: / | P45: =IF(AND(E45=0,SUM(G45:H45)>=15,G45>=6,H45>=5,J45>=120,L45>=1800),"是","否") -> 是 | Q45: 毕业 | R45: 0
A46: 41 | B46: 全日制2020计算机应用技术1班 | C46: 20200306061 | D46: 杨渭燊 | E46: =VLOOKUP(C46,[2]sheet1!$A:$AO,40,0) -> 0 | F46: =VLOOKUP(C46,[2]sheet1!$A:$AO,41,0) | G46: 13 | H46: 6 | I46: =SUM(G46:H46) -> 19 | J46: 216 | K46: =IF(J46>=120,"是","否") -> 是 | L46: 2570 | M46: =IF(L46>=1800,"是","否") -> 是 | N46: 否 | O46: / | P46: =IF(AND(E46=0,SUM(G46:H46)>=15,G46>=6,H46>=5,J46>=120,L46>=1800),"是","否") -> 是 | Q46: 毕业 | R46: 0
A47: 42 | B47: 全日制2020计算机应用技术1班 | C47: 20200205196 | D47: 王警 | E47: =VLOOKUP(C47,[2]sheet1!$A:$AO,40,0) -> 2 | F47: =VLOOKUP(C47,[2]sheet1!$A:$AO,41,0) -> 预就业实习职业素养实习与劳动教育 | G47: 13 | H47: 8 | I47: =SUM(G47:H47) -> 21 | J47: 173 | K47: =IF(J47>=120,"是","否") -> 是 | L47: 2480 | M47: =IF(L47>=1800,"是","否") -> 是 | N47: 否 | O47: / | P47: =IF(AND(E47=0,SUM(G47:H47)>=15,G47>=6,H47>=5,J47>=120,L47>=1800),"是","否") -> 否 | Q47: 结业 | R47: 0 | S47: 1
A48: 43 | B48: 全日制2020计算机应用技术2班 | C48: 20200306091 | D48: 曾海尧 | E48: =VLOOKUP(C48,[2]sheet1!$A:$AO,40,0) -> 0 | F48: =VLOOKUP(C48,[2]sheet1!$A:$AO,41,0) | G48: 15 | H48: 7 | I48: =SUM(G48:H48) -> 22 | J48: 542 | K48: =IF(J48>=120,"是","否") -> 是 | L48: 4350 | M48: =IF(L48>=1800,"是","否") -> 是 | N48: 否 | O48: / | P48: =IF(AND(E48=0,SUM(G48:H48)>=15,G48>=6,H48>=5,J48>=120,L48>=1800),"是","否") -> 是 | Q48: 毕业 | R48: 0
A49: 44 | B49: 全日制2020计算机应用技术2班 | C49: 20200306169 | D49: 许伟图 | E49: =VLOOKUP(C49,[2]sheet1!$A:$AO,40,0) -> 0 | F49: =VLOOKUP(C49,[2]sheet1!$A:$AO,41,0) | G49: 11 | H49: 7 | I49: =SUM(G49:H49) -> 18 | J49: 348 | K49: =IF(J49>=120,"是","否") -> 是 | L49: 3350 | M49: =IF(L49>=1800,"是","否") -> 是 | N49: 否 | O49: / | P49: =IF(AND(E49=0,SUM(G49:H49)>=15,G49>=6,H49>=5,J49>=120,L49>=1800),"是","否") -> 是 | Q49: 毕业 | R49: 0
A50: 45 | B50: 全日制2020计算机应用技术2班 | C50: 20200306115 | D50: 姜金成 | E50: =VLOOKUP(C50,[2]sheet1!$A:$AO,40,0) -> 0 | F50: =VLOOKUP(C50,[2]sheet1!$A:$AO,41,0) | G50: 11 | H50: 7 | I50: =SUM(G50:H50) -> 18 | J50: 455 | K50: =IF(J50>=120,"是","否") -> 是 | L50: 3540 | M50: =IF(L50>=1800,"是","否") -> 是 | N50: 否 | O50: / | P50: =IF(AND(E50=0,SUM(G50:H50)>=15,G50>=6,H50>=5,J50>=120,L50>=1800),"是","否") -> 是 | Q50: 毕业 | R50: 0
A51: 46 | B51: 全日制2020计算机应用技术2班 | C51: 20200306155 | D51: 唐祚荣 | E51: =VLOOKUP(C51,[2]sheet1!$A:$AO,40,0) -> 0 | F51: =VLOOKUP(C51,[2]sheet1!$A:$AO,41,0) | G51: 9 | H51: 7 | I51: =SUM(G51:H51) -> 16 | J51: 238 | K51: =IF(J51>=120,"是","否") -> 是 | L51: 3010 | M51: =IF(L51>=1800,"是","否") -> 是 | N51: 否 | O51: / | P51: =IF(AND(E51=0,SUM(G51:H51)>=15,G51>=6,H51>=5,J51>=120,L51>=1800),"是","否") -> 是 | Q51: 毕业 | R51: 0
A52: 47 | B52: 全日制2020计算机应用技术2班 | C52: 20200306090 | D52: 张婷婷 | E52: =VLOOKUP(C52,[2]sheet1!$A:$AO,40,0) -> 0 | F52: =VLOOKUP(C52,[2]sheet1!$A:$AO,41,0) | G52: 14 | H52: 7 | I52: =SUM(G52:H52) -> 21 | J52: 428 | K52: =IF(J52>=120,"是","否") -> 是 | L52: 2840 | M52: =IF(L52>=1800,"是","否") -> 是 | N52: 否 | O52: / | P52: =IF(AND(E52=0,SUM(G52:H52)>=15,G52>=6,H52>=5,J52>=120,L52>=1800),"是","否") -> 是 | Q52: 毕业 | R52: 0
A53: 48 | B53: 全日制2020计算机应用技术2班 | C53: 20200306015 | D53: 黄裕文 | E53: =VLOOKUP(C53,[2]sheet1!$A:$AO,40,0) -> 0 | F53: =VLOOKUP(C53,[2]sheet1!$A:$AO,41,0) | G53: 12 | H53: 7 | I53: =SUM(G53:H53) -> 19 | J53: 322 | K53: =IF(J53>=120,"是","否") -> 是 | L53: 2840 | M53: =IF(L53>=1800,"是","否") -> 是 | N53: 否 | O53: / | P53: =IF(AND(E53=0,SUM(G53:H53)>=15,G53>=6,H53>=5,J53>=120,L53>=1800),"是","否") -> 是 | Q53: 毕业 | R53: 0
A54: 49 | B54: 全日制2020计算机应用技术2班 | C54: 20200306107 | D54: 黄丽淇 | E54: =VLOOKUP(C54,[2]sheet1!$A:$AO,40,0) -> 0 | F54: =VLOOKUP(C54,[2]sheet1!$A:$AO,41,0) | G54: 14 | H54: 7 | I54: =SUM(G54:H54) -> 21 | J54: 513 | K54: =IF(J54>=120,"是","否") -> 是 | L54: 3320 | M54: =IF(L54>=1800,"是","否") -> 是 | N54: 否 | O54: / | P54: =IF(AND(E54=0,SUM(G54:H54)>=15,G54>=6,H54>=5,J54>=120,L54>=1800),"是","否") -> 是 | Q54: 毕业 | R54: 0
A55: 50 | B55: 全日制2020计算机应用技术2班 | C55: 20200306117 | D55: 劳冬溶 | E55: =VLOOKUP(C55,[2]sheet1!$A:$AO,40,0) -> 0 | F55: =VLOOKUP(C55,[2]sheet1!$A:$AO,41,0) | G55: 12 | H55: 7 | I55: =SUM(G55:H55) -> 19 | J55: 357 | K55: =IF(J55>=120,"是","否") -> 是 | L55: 2990 | M55: =IF(L55>=1800,"是","否") -> 是 | N55: 否 | O55: / | P55: =IF(AND(E55=0,SUM(G55:H55)>=15,G55>=6,H55>=5,J55>=120,L55>=1800),"是","否") -> 是 | Q55: 毕业 | R55: 0
A56: 51 | B56: 全日制2020计算机应用技术2班 | C56: 20200306073 | D56: 高东丽 | E56: =VLOOKUP(C56,[2]sheet1!$A:$AO,40,0) -> 0 | F56: =VLOOKUP(C56,[2]sheet1!$A:$AO,41,0) | G56: 14 | H56: 7 | I56: =SUM(G56:H56) -> 21 | J56: 500 | K56: =IF(J56>=120,"是","否") -> 是 | L56: 3020 | M56: =IF(L56>=1800,"是","否") -> 是 | N56: 否 | O56: / | P56: =IF(AND(E56=0,SUM(G56:H56)>=15,G56>=6,H56>=5,J56>=120,L56>=1800),"是","否") -> 是 | Q56: 毕业 | R56: 0
A57: 52 | B57: 全日制2020计算机应用技术2班 | C57: 20200204022 | D57: 陈相州 | E57: =VLOOKUP(C57,[2]sheet1!$A:$AO,40,0) -> 0 | F57: =VLOOKUP(C57,[2]sheet1!$A:$AO,41,0) | G57: 13 | H57: 7 | I57: =SUM(G57:H57) -> 20 | J57: 259 | K57: =IF(J57>=120,"是","否") -> 是 | L57: 2500 | M57: =IF(L57>=1800,"是","否") -> 是 | N57: 否 | O57: / | P57: =IF(AND(E57=0,SUM(G57:H57)>=15,G57>=6,H57>=5,J57>=120,L57>=1800),"是","否") -> 是 | Q57: 毕业 | R57: 0
A58: 53 | B58: 全日制2020计算机应用技术2班 | C58: 20200306093 | D58: 陈媚莲 | E58: =VLOOKUP(C58,[2]sheet1!$A:$AO,40,0) -> 0 | F58: =VLOOKUP(C58,[2]sheet1!$A:$AO,41,0) | G58: 12 | H58: 7 | I58: =SUM(G58:H58) -> 19 | J58: 451 | K58: =IF(J58>=120,"是","否") -> 是 | L58: 3270 | M58: =IF(L58>=1800,"是","否") -> 是 | N58: 否 | O58: / | P58: =IF(AND(E58=0,SUM(G58:H58)>=15,G58>=6,H58>=5,J58>=120,L58>=1800),"是","否") -> 是 | Q58: 毕业 | R58: 0
A59: 54 | B59: 全日制2020计算机应用技术2班 | C59: 20200306013 | D59: 黄星迪 | E59: =VLOOKUP(C59,[2]sheet1!$A:$AO,40,0) -> 0 | F59: =VLOOKUP(C59,[2]sheet1!$A:$AO,41,0) | G59: 12 | H59: 7 | I59: =SUM(G59:H59) -> 19 | J59: 340 | K59: =IF(J59>=120,"是","否") -> 是 | L59: 3240 | M59: =IF(L59>=1800,"是","否") -> 是 | N59: 否 | O59: / | P59: =IF(AND(E59=0,SUM(G59:H59)>=15,G59>=6,H59>=5,J59>=120,L59>=1800),"是","否") -> 是 | Q59: 毕业 | R59: 0
... A77: 72 | B77: 全日制2020计算机应用技术2班 | C77: 20200306122 | D77: 李振萌 | E77: =VLOOKUP(C77,[2]sheet1!$A:$AO,40,0) -> 0 | F77: =VLOOKUP(C77,[2]sheet1!$A:$AO,41,0) | G77: 10 | H77: 7 | I77: =SUM(G77:H77) -> 17 | J77: 239 | K77: =IF(J77>=120,"是","否") -> 是 | L77: 2680 | M77: =IF(L77>=1800,"是","否") -> 是 | N77: 否 | O77: / | P77: =IF(AND(E77=0,SUM(G77:H77)>=15,G77>=6,H77>=5,J77>=120,L77>=1800),"是","否") -> 是 | Q77: 毕业 | R77: 0
A78: 73 | B78: 全日制2020计算机应用技术2班 | C78: 20200306029 | D78: 梁琚元 | E78: =VLOOKUP(C78,[2]sheet1!$A:$AO,40,0) -> 2 | F78: =VLOOKUP(C78,[2]sheet1!$A:$AO,41,0) -> 预就业实习职业素养实习与劳动教育 | G78: 11 | H78: 7 | I78: =SUM(G78:H78) -> 18 | J78: 193 | K78: =IF(J78>=120,"是","否") -> 是 | L78: 2530 | M78: =IF(L78>=1800,"是","否") -> 是 | N78: 否 | O78: / | P78: =IF(AND(E78=0,SUM(G78:H78)>=15,G78>=6,H78>=5,J78>=120,L78>=1800),"是","否") -> 否 | Q78: 结业 | R78: 0 | S78: 1
A79: 74 | B79: 全日制2020计算机应用技术2班 | C79: 20200306003 | D79: 陈福友 | E79: =VLOOKUP(C79,[2]sheet1!$A:$AO,40,0) -> 0 | F79: =VLOOKUP(C79,[2]sheet1!$A:$AO,41,0) | G79: 6 | H79: 7 | I79: =SUM(G79:H79) -> 13 | J79: 178 | K79: =IF(J79>=120,"是","否") -> 是 | L79: 2490 | M79: =IF(L79>=1800,"是","否") -> 是 | N79: 否 | O79: / | P79: =IF(AND(E79=0,SUM(G79:H79)>=15,G79>=6,H79>=5,J79>=120,L79>=1800),"是","否") -> 否 | Q79: 结业 | R79: 0 | S79: 2
A80: 75 | B80: 全日制2020计算机应用技术2班 | C80: 20200306007 | D80: 何启滔 | E80: =VLOOKUP(C80,[2]sheet1!$A:$AO,40,0) -> 0 | F80: =VLOOKUP(C80,[2]sheet1!$A:$AO,41,0) | G80: 13 | H80: 7 | I80: =SUM(G80:H80) -> 20 | J80: 276 | K80: =IF(J80>=120,"是","否") -> 是 | L80: 3060 | M80: =IF(L80>=1800,"是","否") -> 是 | N80: 否 | O80: / | P80: =IF(AND(E80=0,SUM(G80:H80)>=15,G80>=6,H80>=5,J80>=120,L80>=1800),"是","否") -> 是 | Q80: 毕业 | R80: 0
A81: 76 | B81: 全日制2020计算机应用技术2班 | C81: 20200306137 | D81: 麦宇庭 | E81: =VLOOKUP(C81,[2]sheet1!$A:$AO,40,0) -> 0 | F81: =VLOOKUP(C81,[2]sheet1!$A:$AO,41,0) | G81: 12 | H81: 7 | I81: =SUM(G81:H81) -> 19 | J81: 272 | K81: =IF(J81>=120,"是","否") -> 是 | L81: 2540 | M81: =IF(L81>=1800,"是","否") -> 是 | N81: 否 | O81: / | P81: =IF(AND(E81=0,SUM(G81:H81)>=15,G81>=6,H81>=5,J81>=120,L81>=1800),"是","否") -> 是 | Q81: 毕业 | R81: 0
A82: 77 | B82: 全日制2020计算机应用技术2班 | C82: 20200306028 | D82: 梁大霖 | E82: =VLOOKUP(C82,[2]sheet1!$A:$AO,40,0) -> 0 | F82: =VLOOKUP(C82,[2]sheet1!$A:$AO,41,0) | G82: 10 | H82: 7 | I82: =SUM(G82:H82) -> 17 | J82: 257 | K82: =IF(J82>=120,"是","否") -> 是 | L82: 2840 | M82: =IF(L82>=1800,"是","否") -> 是 | N82: 否 | O82: / | P82: =IF(AND(E82=0,SUM(G82:H82)>=15,G82>=6,H82>=5,J82>=120,L82>=1800),"是","否") -> 是 | Q82: 毕业 | R82: 0
A83: 78 | B83: 全日制2020计算机应用技术2班 | C83: 20200306174 | D83: 赵润 | E83: =VLOOKUP(C83,[2]sheet1!$A:$AO,40,0) -> 0 | F83: =VLOOKUP(C83,[2]sheet1!$A:$AO,41,0) | G83: 11 | H83: 6 | I83: =SUM(G83:H83) -> 17 | J83: 271 | K83: =IF(J83>=120,"是","否") -> 是 | L83: 2470 | M83: =IF(L83>=1800,"是","否") -> 是 | N83: 否 | O83: / | P83: =IF(AND(E83=0,SUM(G83:H83)>=15,G83>=6,H83>=5,J83>=120,L83>=1800),"是","否") -> 是 | Q83: 毕业 | R83: 0
A84: 79 | B84: 全日制2020计算机应用技术2班 | C84: 20200306052 | D84: 王成 | E84: =VLOOKUP(C84,[2]sheet1!$A:$AO,40,0) -> 0 | F84: =VLOOKUP(C84,[2]sheet1!$A:$AO,41,0) | G84: 13 | H84: 7 | I84: =SUM(G84:H84) -> 20 | J84: 254 | K84: =IF(J84>=120,"是","否") -> 是 | L84: 3090 | M84: =IF(L84>=1800,"是","否") -> 是 | N84: 否 | O84: / | P84: =IF(AND(E84=0,SUM(G84:H84)>=15,G84>=6,H84>=5,J84>=120,L84>=1800),"是","否") -> 是 | Q84: 毕业 | R84: 0
A85: 80 | B85: 全日制2020计算机应用技术2班 | C85: 20200306177 | D85: 周桂欢 | E85: =VLOOKUP(C85,[2]sheet1!$A:$AO,40,0) -> 0 | F85: =VLOOKUP(C85,[2]sheet1!$A:$AO,41,0) | G85: 14 | H85: 7 | I85: =SUM(G85:H85) -> 21 | J85: 237 | K85: =IF(J85>=120,"是","否") -> 是 | L85: 2510 | M85: =IF(L85>=1800,"是","否") -> 是 | N85: 否 | O85: / | P85: =IF(AND(E85=0,SUM(G85:H85)>=15,G85>=6,H85>=5,J85>=120,L85>=1800),"是","否") -> 是 | Q85: 毕业 | R85: 0
A86: 81 | B86: 全日制2020计算机应用技术2班 | C86: 20200306037 | D86: 陆永业 | E86: =VLOOKUP(C86,[2]sheet1!$A:$AO,40,0) -> 3 | F86: =VLOOKUP(C86,[2]sheet1!$A:$AO,41,0) -> 前端开发技术前端开发技术预就业实习职业素养实习与劳动教育 | G86: 10 | H86: 7 | I86: =SUM(G86:H86) -> 17 | J86: 123 | K86: =IF(J86>=120,"是","否") -> 是 | L86: 2300 | M86: =IF(L86>=1800,"是","否") -> 是 | N86: 否 | O86: / | P86: =IF(AND(E86=0,SUM(G86:H86)>=15,G86>=6,H86>=5,J86>=120,L86>=1800),"是","否") -> 否 | Q86: 结业 | R86: 8573.88 | S86: 1
A87: 82 | B87: 全日制2020计算机应用技术2班 | C87: 20200306167 | D87: 徐位州 | E87: =VLOOKUP(C87,[2]sheet1!$A:$AO,40,0) -> 0 | F87: =VLOOKUP(C87,[2]sheet1!$A:$AO,41,0) | G87: 9 | H87: 7 | I87: =SUM(G87:H87) -> 16 | J87: 166 | K87: =IF(J87>=120,"是","否") -> 是 | L87: 2320 | M87: =IF(L87>=1800,"是","否") -> 是 | N87: 否 | O87: / | P87: =IF(AND(E87=0,SUM(G87:H87)>=15,G87>=6,H87>=5,J87>=120,L87>=1800),"是","否") -> 是 | Q87: 毕业 | R87: 0
A88: 83 | B88: 全日制2020计算机应用技术2班 | C88: 20200306026 | D88: 李奕杰 | E88: =VLOOKUP(C88,[2]sheet1!$A:$AO,40,0) -> 2 | F88: =VLOOKUP(C88,[2]sheet1!$A:$AO,41,0) -> 预就业实习职业素养实习与劳动教育 | G88: 13 | H88: 7 | I88: =SUM(G88:H88) -> 20 | J88: 171 | K88: =IF(J88>=120,"是","否") -> 是 | L88: 2290 | M88: =IF(L88>=1800,"是","否") -> 是 | N88: 否 | O88: / | P88: =IF(AND(E88=0,SUM(G88:H88)>=15,G88>=6,H88>=5,J88>=120,L88>=1800),"是","否") -> 否 | Q88: 结业 | R88: 0 | S88: 1
A89: 84 | B89: 全日制2020计算机应用技术3班 | C89: 20180201025 | D89: 卢豪 | E89: =VLOOKUP(C89,[2]sheet1!$A:$AO,40,0) -> 1 | F89: =VLOOKUP(C89,[2]sheet1!$A:$AO,41,0) -> 职业素养实习与劳动教育 | G89: 11 | H89: 7.5 | I89: =SUM(G89:H89) -> 18.5 | J89: 842 | K89: =IF(J89>=120,"是","否") -> 是 | L89: 4830 | M89: =IF(L89>=1800,"是","否") -> 是 | N89: 否 | O89: / | P89: =IF(AND(E89=0,SUM(G89:H89)>=15,G89>=6,H89>=5,J89>=120,L89>=1800),"是","否") -> 否 | Q89: 结业 | R89: 0 | S89: 1
A90: 85 | B90: 全日制2020计算机应用技术3班 | C90: 20200306082 | D90: 龙水兰 | E90: =VLOOKUP(C90,[2]sheet1!$A:$AO,40,0) -> 0 | F90: =VLOOKUP(C90,[2]sheet1!$A:$AO,41,0) | G90: 12 | H90: 7.5 | I90: =SUM(G90:H90) -> 19.5 | J90: 308 | K90: =IF(J90>=120,"是","否") -> 是 | L90: 2930 | M90: =IF(L90>=1800,"是","否") -> 是 | N90: 否 | O90: / | P90: =IF(AND(E90=0,SUM(G90:H90)>=15,G90>=6,H90>=5,J90>=120,L90>=1800),"是","否") -> 是 | Q90: 毕业 | R90: 0
A91: 86 | B91: 全日制2020计算机应用技术3班 | C91: 20200110048 | D91: 林顺业 | E91: =VLOOKUP(C91,[2]sheet1!$A:$AO,40,0) -> 0 | F91: =VLOOKUP(C91,[2]sheet1!$A:$AO,41,0) | G91: 11 | H91: 7.5 | I91: =SUM(G91:H91) -> 18.5 | J91: 331 | K91: =IF(J91>=120,"是","否") -> 是 | L91: 2690 | M91: =IF(L91>=1800,"是","否") -> 是 | N91: 否 | O91: / | P91: =IF(AND(E91=0,SUM(G91:H91)>=15,G91>=6,H91>=5,J91>=120,L91>=1800),"是","否") -> 是 | Q91: 毕业 | R91: 0
A92: 87 | B92: 全日制2020计算机应用技术3班 | C92: 20200306176 | D92: 周广栋 | E92: =VLOOKUP(C92,[2]sheet1!$A:$AO,40,0) -> 0 | F92: =VLOOKUP(C92,[2]sheet1!$A:$AO,41,0) | G92: 12 | H92: 7.5 | I92: =SUM(G92:H92) -> 19.5 | J92: 230 | K92: =IF(J92>=120,"是","否") -> 是 | L92: 2520 | M92: =IF(L92>=1800,"是","否") -> 是 | N92: 否 | O92: / | P92: =IF(AND(E92=0,SUM(G92:H92)>=15,G92>=6,H92>=5,J92>=120,L92>=1800),"是","否") -> 是 | Q92: 毕业 | R92: 0
A93: 88 | B93: 全日制2020计算机应用技术3班 | C93: 20200306011 | D93: 黄建森 | E93: =VLOOKUP(C93,[2]sheet1!$A:$AO,40,0) -> 0 | F93: =VLOOKUP(C93,[2]sheet1!$A:$AO,41,0) | G93: 12 | H93: 7.5 | I93: =SUM(G93:H93) -> 19.5 | J93: 317 | K93: =IF(J93>=120,"是","否") -> 是 | L93: 2600 | M93: =IF(L93>=1800,"是","否") -> 是 | N93: 否 | O93: / | P93: =IF(AND(E93=0,SUM(G93:H93)>=15,G93>=6,H93>=5,J93>=120,L93>=1800),"是","否") -> 是 | Q93: 毕业 | R93: 0
A94: 89 | B94: 全日制2020计算机应用技术3班 | C94: 20200306070 | D94: 邹世强 | E94: =VLOOKUP(C94,[2]sheet1!$A:$AO,40,0) -> 0 | F94: =VLOOKUP(C94,[2]sheet1!$A:$AO,41,0) | G94: 13 | H94: 7.5 | I94: =SUM(G94:H94) -> 20.5 | J94: 343 | K94: =IF(J94>=120,"是","否") -> 是 | L94: 3440 | M94: =IF(L94>=1800,"是","否") -> 是 | N94: 否 | O94: / | P94: =IF(AND(E94=0,SUM(G94:H94)>=15,G94>=6,H94>=5,J94>=120,L94>=1800),"是","否") -> 是 | Q94: 毕业 | R94: 0
A95: 90 | B95: 全日制2020计算机应用技术3班 | C95: 20200306175 | D95: 钟运山 | E95: =VLOOKUP(C95,[2]sheet1!$A:$AO,40,0) -> 0 | F95: =VLOOKUP(C95,[2]sheet1!$A:$AO,41,0) | G95: 12 | H95: 7.5 | I95: =SUM(G95:H95) -> 19.5 | J95: 440 | K95: =IF(J95>=120,"是","否") -> 是 | L95: 2970 | M95: =IF(L95>=1800,"是","否") -> 是 | N95: 否 | O95: / | P95: =IF(AND(E95=0,SUM(G95:H95)>=15,G95>=6,H95>=5,J95>=120,L95>=1800),"是","否") -> 是 | Q95: 毕业 | R95: 0
A96: 91 | B96: 全日制2020计算机应用技术3班 | C96: 20200306112 | D96: 黄源昌 | E96: =VLOOKUP(C96,[2]sheet1!$A:$AO,40,0) -> 0 | F96: =VLOOKUP(C96,[2]sheet1!$A:$AO,41,0) | G96: 11 | H96: 7.5 | I96: =SUM(G96:H96) -> 18.5 | J96: 321 | K96: =IF(J96>=120,"是","否") -> 是 | L96: 2910 | M96: =IF(L96>=1800,"是","否") -> 是 | N96: 否 | O96: / | P96: =IF(AND(E96=0,SUM(G96:H96)>=15,G96>=6,H96>=5,J96>=120,L96>=1800),"是","否") -> 是 | Q96: 毕业 | R96: 0
A97: 92 | B97: 全日制2020计算机应用技术3班 | C97: 20200306139 | D97: 莫海杰 | E97: =VLOOKUP(C97,[2]sheet1!$A:$AO,40,0) -> 0 | F97: =VLOOKUP(C97,[2]sheet1!$A:$AO,41,0) | G97: 12 | H97: 7.5 | I97: =SUM(G97:H97) -> 19.5 | J97: 227 | K97: =IF(J97>=120,"是","否") -> 是 | L97: 2520 | M97: =IF(L97>=1800,"是","否") -> 是 | N97: 否 | O97: / | P97: =IF(AND(E97=0,SUM(G97:H97)>=15,G97>=6,H97>=5,J97>=120,L97>=1800),"是","否") -> 是 | Q97: 毕业 | R97: 0
A98: 93 | B98: 全日制2020计算机应用技术3班 | C98: 20200306074 | D98: 何金桥 | E98: =VLOOKUP(C98,[2]sheet1!$A:$AO,40,0) -> 0 | F98: =VLOOKUP(C98,[2]sheet1!$A:$AO,41,0) | G98: 12 | H98: 7.5 | I98: =SUM(G98:H98) -> 19.5 | J98: 218 | K98: =IF(J98>=120,"是","否") -> 是 | L98: 2450 | M98: =IF(L98>=1800,"是","否") -> 是 | N98: 否 | O98: / | P98: =IF(AND(E98=0,SUM(G98:H98)>=15,G98>=6,H98>=5,J98>=120,L98>=1800),"是","否") -> 是 | Q98: 毕业 | R98: 0
A99: 94 | B99: 全日制2020计算机应用技术3班 | C99: 20200306157 | D99: 王淦芳 | E99: =VLOOKUP(C99,[2]sheet1!$A:$AO,40,0) -> 0 | F99: =VLOOKUP(C99,[2]sheet1!$A:$AO,41,0) | G99: 12 | H99: 7.5 | I99: =SUM(G99:H99) -> 19.5 | J99: 284 | K99: =IF(J99>=120,"是","否") -> 是 | L99: 2870 | M99: =IF(L99>=1800,"是","否") -> 是 | N99: 否 | O99: / | P99: =IF(AND(E99=0,SUM(G99:H99)>=15,G99>=6,H99>=5,J99>=120,L99>=1800),"是","否") -> 是 | Q99: 毕业 | R99: 0
A100: 95 | B100: 全日制2020计算机应用技术3班 | C100: 20200306116 | D100: 兰金 | E100: =VLOOKUP(C100,[2]sheet1!$A:$AO,40,0) -> 0 | F100: =VLOOKUP(C100,[2]sheet1!$A:$AO,41,0) | G100: 10 | H100: 7.5 | I100: =SUM(G100:H100) -> 17.5 | J100: 437 | K100: =IF(J100>=120,"是","否") -> 是 | L100: 3020 | M100: =IF(L100>=1800,"是","否") -> 是 | N100: 否 | O100: / | P100: =IF(AND(E100=0,SUM(G100:H100)>=15,G100>=6,H100>=5,J100>=120,L100>=1800),"是","否") -> 是 | Q100: 毕业 | R100: 0
A101: 96 | B101: 全日制2020计算机应用技术3班 | C101: 20200306088 | D101: 严良燕 | E101: =VLOOKUP(C101,[2]sheet1!$A:$AO,40,0) -> 0 | F101: =VLOOKUP(C101,[2]sheet1!$A:$AO,41,0) | G101: 12 | H101: 7.5 | I101: =SUM(G101:H101) -> 19.5 | J101: 206 | K101: =IF(J101>=120,"是","否") -> 是 | L101: 2630 | M101: =IF(L101>=1800,"是","否") -> 是 | N101: 否 | O101: / | P101: =IF(AND(E101=0,SUM(G101:H101)>=15,G101>=6,H101>=5,J101>=120,L101>=1800),"是","否") -> 是 | Q101: 毕业 | R101: 0
A102: 97 | B102: 全日制2020计算机应用技术3班 | C102: 20180301024 | D102: 吴高胜 | E102: =VLOOKUP(C102,[2]sheet1!$A:$AO,40,0) -> 1 | F102: =VLOOKUP(C102,[2]sheet1!$A:$AO,41,0) -> 职业素养实习与劳动教育 | G102: 11 | H102: 7.5 | I102: =SUM(G102:H102) -> 18.5 | J102: 329 | K102: =IF(J102>=120,"是","否") -> 是 | L102: 4280 | M102: =IF(L102>=1800,"是","否") -> 是 | N102: 否 | O102: / | P102: =IF(AND(E102=0,SUM(G102:H102)>=15,G102>=6,H102>=5,J102>=120,L102>=1800),"是","否") -> 否 | Q102: 结业 | R102: 0 | S102: 1
A103: 98 | B103: 全日制2020计算机应用技术3班 | C103: 20200306043 | D103: 施振良 | E103: =VLOOKUP(C103,[2]sheet1!$A:$AO,40,0) -> 0 | F103: =VLOOKUP(C103,[2]sheet1!$A:$AO,41,0) | G103: 12 | H103: 7.5 | I103: =SUM(G103:H103) -> 19.5 | J103: 429 | K103: =IF(J103>=120,"是","否") -> 是 | L103: 3230 | M103: =IF(L103>=1800,"是","否") -> 是 | N103: 否 | O103: / | P103: =IF(AND(E103=0,SUM(G103:H103)>=15,G103>=6,H103>=5,J103>=120,L103>=1800),"是","否") -> 是 | Q103: 毕业 | R103: 0
A104: 99 | B104: 全日制2020计算机应用技术3班 | C104: 20200701039 | D104: 黄昌荣 | E104: =VLOOKUP(C104,[2]sheet1!$A:$AO,40,0) -> 2 | F104: =VLOOKUP(C104,[2]sheet1!$A:$AO,41,0) -> 预就业实习职业素养实习与劳动教育 | G104: 13 | H104: 7.5 | I104: =SUM(G104:H104) -> 20.5 | J104: 344 | K104: =IF(J104>=120,"是","否") -> 是 | L104: 2450 | M104: =IF(L104>=1800,"是","否") -> 是 | N104: 否 | O104: / | P104: =IF(AND(E104=0,SUM(G104:H104)>=15,G104>=6,H104>=5,J104>=120,L104>=1800),"是","否") -> 否 | Q104: 结业 | R104: 0 | S104: 1
A105: 100 | B105: 全日制2020计算机应用技术3班 | C105: 20200306097 | D105: 邓韦彤心 | E105: =VLOOKUP(C105,[2]sheet1!$A:$AO,40,0) -> 0 | F105: =VLOOKUP(C105,[2]sheet1!$A:$AO,41,0) | G105: 10 | H105: 7.5 | I105: =SUM(G105:H105) -> 17.5 | J105: 233 | K105: =IF(J105>=120,"是","否") -> 是 | L105: 2450 | M105: =IF(L105>=1800,"是","否") -> 是 | N105: 否 | O105: / | P105: =IF(AND(E105=0,SUM(G105:H105)>=15,G105>=6,H105>=5,J105>=120,L105>=1800),"是","否") -> 是 | Q105: 毕业 | R105: 0
A106: 101 | B106: 全日制2020计算机应用技术3班 | C106: 20200205148 | D106: 梁杰 | E106: =VLOOKUP(C106,[2]sheet1!$A:$AO,40,0) -> 0 | F106: =VLOOKUP(C106,[2]sheet1!$A:$AO,41,0) | G106: 11 | H106: 7.5 | I106: =SUM(G106:H106) -> 18.5 | J106: 342 | K106: =IF(J106>=120,"是","否") -> 是 | L106: 2690 | M106: =IF(L106>=1800,"是","否") -> 是 | N106: 否 | O106: / | P106: =IF(AND(E106=0,SUM(G106:H106)>=15,G106>=6,H106>=5,J106>=120,L106>=1800),"是","否") -> 是 | Q106: 毕业 | R106: 0
A107: 102 | B107: 全日制2020计算机应用技术3班 | C107: 20200306158 | D107: 王慧萍 | E107: =VLOOKUP(C107,[2]sheet1!$A:$AO,40,0) -> 0 | F107: =VLOOKUP(C107,[2]sheet1!$A:$AO,41,0) | G107: 12 | H107: 7.5 | I107: =SUM(G107:H107) -> 19.5 | J107: 283 | K107: =IF(J107>=120,"是","否") -> 是 | L107: 2780 | M107: =IF(L107>=1800,"是","否") -> 是 | N107: 否 | O107: / | P107: =IF(AND(E107=0,SUM(G107:H107)>=15,G107>=6,H107>=5,J107>=120,L107>=1800),"是","否") -> 是 | Q107: 毕业 | R107: 0
A108: 103 | B108: 全日制2020计算机应用技术3班 | C108: 20200403042 | D108: 李琪 | E108: =VLOOKUP(C108,[2]sheet1!$A:$AO,40,0) -> 0 | F108: =VLOOKUP(C108,[2]sheet1!$A:$AO,41,0) | G108: 14 | H108: 7.5 | I108: =SUM(G108:H108) -> 21.5 | J108: 242 | K108: =IF(J108>=120,"是","否") -> 是 | L108: 2680 | M108: =IF(L108>=1800,"是","否") -> 是 | N108: 否 | O108: / | P108: =IF(AND(E108=0,SUM(G108:H108)>=15,G108>=6,H108>=5,J108>=120,L108>=1800),"是","否") -> 是 | Q108: 毕业 | R108: 0
A109: 104 | B109: 全日制2020计算机应用技术3班 | C109: 20200306068 | D109: 周俊良 | E109: =VLOOKUP(C109,[2]sheet1!$A:$AO,40,0) -> 0 | F109: =VLOOKUP(C109,[2]sheet1!$A:$AO,41,0) | G109: 11 | H109: 7.5 | I109: =SUM(G109:H109) -> 18.5 | J109: 220 | K109: =IF(J109>=120,"是","否") -> 是 | L109: 2530 | M109: =IF(L109>=1800,"是","否") -> 是 | N109: 否 | O109: / | P109: =IF(AND(E109=0,SUM(G109:H109)>=15,G109>=6,H109>=5,J109>=120,L109>=1800),"是","否") -> 是 | Q109: 毕业 | R109: 0
A110: 105 | B110: 全日制2020计算机应用技术3班 | C110: 20200205067 | D110: 唐显翔 | E110: =VLOOKUP(C110,[2]sheet1!$A:$AO,40,0) -> 0 | F110: =VLOOKUP(C110,[2]sheet1!$A:$AO,41,0) | G110: 12 | H110: 7.5 | I110: =SUM(G110:H110) -> 19.5 | J110: 377 | K110: =IF(J110>=120,"是","否") -> 是 | L110: 2500 | M110: =IF(L110>=1800,"是","否") -> 是 | N110: 否 | O110: / | P110: =IF(AND(E110=0,SUM(G110:H110)>=15,G110>=6,H110>=5,J110>=120,L110>=1800),"是","否") -> 是 | Q110: 毕业 | R110: 0
A111: 106 | B111: 全日制2020计算机应用技术3班 | C111: 20200306072 | D111: 陈科伶 | E111: =VLOOKUP(C111,[2]sheet1!$A:$AO,40,0) -> 0 | F111: =VLOOKUP(C111,[2]sheet1!$A:$AO,41,0) | G111: 12 | H111: 7.5 | I111: =SUM(G111:H111) -> 19.5 | J111: 254 | K111: =IF(J111>=120,"是","否") -> 是 | L111: 2920 | M111: =IF(L111>=1800,"是","否") -> 是 | N111: 否 | O111: / | P111: =IF(AND(E111=0,SUM(G111:H111)>=15,G111>=6,H111>=5,J111>=120,L111>=1800),"是","否") -> 是 | Q111: 毕业 | R111: 0
A112: 107 | B112: 全日制2020计算机应用技术3班 | C112: 20200306126 | D112: 梁长流 | E112: =VLOOKUP(C112,[2]sheet1!$A:$AO,40,0) -> 2 | F112: =VLOOKUP(C112,[2]sheet1!$A:$AO,41,0) -> 预就业实习职业素养实习与劳动教育 | G112: 11 | H112: 7.5 | I112: =SUM(G112:H112) -> 18.5 | J112: 222 | K112: =IF(J112>=120,"是","否") -> 是 | L112: 2440 | M112: =IF(L112>=1800,"是","否") -> 是 | N112: 否 | O112: / | P112: =IF(AND(E112=0,SUM(G112:H112)>=15,G112>=6,H112>=5,J112>=120,L112>=1800),"是","否") -> 否 | Q112: 结业 | R112: 0 | S112: 1
A113: 108 | B113: 全日制2020计算机应用技术3班 | C113: 20200306077 | D113: 李家珍 | E113: =VLOOKUP(C113,[2]sheet1!$A:$AO,40,0) -> 0 | F113: =VLOOKUP(C113,[2]sheet1!$A:$AO,41,0) | G113: 12 | H113: 7.5 | I113: =SUM(G113:H113) -> 19.5 | J113: 401 | K113: =IF(J113>=120,"是","否") -> 是 | L113: 2740 | M113: =IF(L113>=1800,"是","否") -> 是 | N113: 否 | O113: / | P113: =IF(AND(E113=0,SUM(G113:H113)>=15,G113>=6,H113>=5,J113>=120,L113>=1800),"是","否") -> 是 | Q113: 毕业 | R113: 0
A114: 109 | B114: 全日制2020计算机应用技术3班 | C114: 20200105104 | D114: 吴胜杰 | E114: =VLOOKUP(C114,[2]sheet1!$A:$AO,40,0) -> 2 | F114: =VLOOKUP(C114,[2]sheet1!$A:$AO,41,0) -> 预就业实习职业素养实习与劳动教育 | G114: 12 | H114: 7.5 | I114: =SUM(G114:H114) -> 19.5 | J114: 327 | K114: =IF(J114>=120,"是","否") -> 是 | L114: 2770 | M114: =IF(L114>=1800,"是","否") -> 是 | N114: 否 | O114: / | P114: =IF(AND(E114=0,SUM(G114:H114)>=15,G114>=6,H114>=5,J114>=120,L114>=1800),"是","否") -> 否 | Q114: 结业 | R114: 0 | S114: 1
A115: 110 | B115: 全日制2020计算机应用技术3班 | C115: 20200306124 | D115: 李祖伟 | E115: =VLOOKUP(C115,[2]sheet1!$A:$AO,40,0) -> 0 | F115: =VLOOKUP(C115,[2]sheet1!$A:$AO,41,0) | G115: 12 | H115: 7.5 | I115: =SUM(G115:H115) -> 19.5 | J115: 367 | K115: =IF(J115>=120,"是","否") -> 是 | L115: 2700 | M115: =IF(L115>=1800,"是","否") -> 是 | N115: 否 | O115: / | P115: =IF(AND(E115=0,SUM(G115:H115)>=15,G115>=6,H115>=5,J115>=120,L115>=1800),"是","否") -> 是 | Q115: 毕业 | R115: 0
A116: 111 | B116: 全日制2020计算机应用技术3班 | C116: 20200306111 | D116: 黄奕聪 | E116: =VLOOKUP(C116,[2]sheet1!$A:$AO,40,0) -> 0 | F116: =VLOOKUP(C116,[2]sheet1!$A:$AO,41,0) | G116: 12 | H116: 7.5 | I116: =SUM(G116:H116) -> 19.5 | J116: 230 | K116: =IF(J116>=120,"是","否") -> 是 | L116: 2400 | M116: =IF(L116>=1800,"是","否") -> 是 | N116: 否 | O116: / | P116: =IF(AND(E116=0,SUM(G116:H116)>=15,G116>=6,H116>=5,J116>=120,L116>=1800),"是","否") -> 是 | Q116: 毕业 | R116: 0
A117: 112 | B117: 全日制2020计算机应用技术3班 | C117: 20200306040 | D117: 宁伟斌 | E117: =VLOOKUP(C117,[2]sheet1!$A:$AO,40,0) -> 0 | F117: =VLOOKUP(C117,[2]sheet1!$A:$AO,41,0) | G117: 11 | H117: 6.5 | I117: =SUM(G117:H117) -> 17.5 | J117: 222 | K117: =IF(J117>=120,"是","否") -> 是 | L117: 2450 | M117: =IF(L117>=1800,"是","否") -> 是 | N117: 否 | O117: / | P117: =IF(AND(E117=0,SUM(G117:H117)>=15,G117>=6,H117>=5,J117>=120,L117>=1800),"是","否") -> 是 | Q117: 毕业 | R117: 0
A118: 113 | B118: 全日制2020计算机应用技术3班 | C118: 20200606025 | D118: 梁毅君 | E118: =VLOOKUP(C118,[2]sheet1!$A:$AO,40,0) -> 0 | F118: =VLOOKUP(C118,[2]sheet1!$A:$AO,41,0) | G118: 12 | H118: 7.5 | I118: =SUM(G118:H118) -> 19.5 | J118: 280 | K118: =IF(J118>=120,"是","否") -> 是 | L118: 2450 | M118: =IF(L118>=1800,"是","否") -> 是 | N118: 否 | O118: / | P118: =IF(AND(E118=0,SUM(G118:H118)>=15,G118>=6,H118>=5,J118>=120,L118>=1800),"是","否") -> 是 | Q118: 毕业 | R118: 0
A119: 114 | B119: 全日制2020计算机应用技术3班 | C119: 20200306089 | D119: 玉志鸿 | E119: =VLOOKUP(C119,[2]sheet1!$A:$AO,40,0) -> 0 | F119: =VLOOKUP(C119,[2]sheet1!$A:$AO,41,0) | G119: 11 | H119: 7.5 | I119: =SUM(G119:H119) -> 18.5 | J119: 225 | K119: =IF(J119>=120,"是","否") -> 是 | L119: 2580 | M119: =IF(L119>=1800,"是","否") -> 是 | N119: 否 | O119: / | P119: =IF(AND(E119=0,SUM(G119:H119)>=15,G119>=6,H119>=5,J119>=120,L119>=1800),"是","否") -> 是 | Q119: 毕业 | R119: 0
A120: 115 | B120: 全日制2020计算机应用技术3班 | C120: 20200306033 | D120: 廖梓君 | E120: =VLOOKUP(C120,[2]sheet1!$A:$AO,40,0) -> 2 | F120: =VLOOKUP(C120,[2]sheet1!$A:$AO,41,0) -> 预就业实习职业素养实习与劳动教育 | G120: 12 | H120: 7.5 | I120: =SUM(G120:H120) -> 19.5 | J120: 192 | K120: =IF(J120>=120,"是","否") -> 是 | L120: 2400 | M120: =IF(L120>=1800,"是","否") -> 是 | N120: 否 | O120: / | P120: =IF(AND(E120=0,SUM(G120:H120)>=15,G120>=6,H120>=5,J120>=120,L120>=1800),"是","否") -> 否 | Q120: 结业 | R120: 0 | S120: 1
A121: 116 | B121: 全日制2020计算机应用技术3班 | C121: 20200306004 | D121: 陈欢乐 | E121: =VLOOKUP(C121,[2]sheet1!$A:$AO,40,0) -> 0 | F121: =VLOOKUP(C121,[2]sheet1!$A:$AO,41,0) | G121: 16 | H121: 7.5 | I121: =SUM(G121:H121) -> 23.5 | J121: 322 | K121: =IF(J121>=120,"是","否") -> 是 | L121: 2750 | M121: =IF(L121>=1800,"是","否") -> 是 | N121: 否 | O121: / | P121: =IF(AND(E121=0,SUM(G121:H121)>=15,G121>=6,H121>=5,J121>=120,L121>=1800),"是","否") -> 是 | Q121: 毕业 | R121: 0
A122: 117 | B122: 全日制2020计算机应用技术3班 | C122: 20200306042 | D122: 彭俊霖 | E122: =VLOOKUP(C122,[2]sheet1!$A:$AO,40,0) -> 0 | F122: =VLOOKUP(C122,[2]sheet1!$A:$AO,41,0) | G122: 9 | H122: 7.5 | I122: =SUM(G122:H122) -> 16.5 | J122: 214 | K122: =IF(J122>=120,"是","否") -> 是 | L122: 2580 | M122: =IF(L122>=1800,"是","否") -> 是 | N122: 否 | O122: / | P122: =IF(AND(E122=0,SUM(G122:H122)>=15,G122>=6,H122>=5,J122>=120,L122>=1800),"是","否") -> 是 | Q122: 毕业 | R122: 0
...

Sheet 人工智能技术服务
A1: 柳州职业技术学院2023届毕业生毕业资格审核表
A2: 填表说明： 1.第6、7、8行是填写模板。 2.学号、姓名的信息从《2023届学信网学生信息基础数据》表中按照班级筛选并粘贴。 3.必修课不及格门数填写学生到统计数据为止成绩未达到60分的课程总门数，如李四只有《大学生安全教育》课程不及格，其他已经成绩合格，那么李四必修课不及格门数填写“1”；公共选修课已修学分填写学生到统计数据为止总共修得的学分，如李四共修公共选修课两门（一门课程学分为2分，另一门课程学分3分）并且成绩合格，那么李四公选课程已修学分为“5”，专选课已修学分填写方式与公共选修课填写方式一致。 4.第二课堂学分和诚信分填写具体获得的分数，若第二课堂学分>=120，填写“是”，若＜填“否”；诚信分>=1800，填写“是”，若＜填“否”。 德育审查如有仍未解除的，填写“否”，如没有违纪记录的，在“违纪处分是否解除”栏划斜线“/”。德育审查结果不能留空。 5.假若学生“必修课程不及格门数”为“0”、“选修课已修学分”总分15分（其中公选课学分 ≥6 分，专选课学分≥5 ）、“第二课堂学分>=120”、“诚信分>=1800”都填写“是”，则学生达到毕业要求，在“是否达到毕业资格”填写“是”，若以上条件有一列未达到要求，请填写“否”； 6.请如实填写“欠费金额”。 7.上交纸质材料的时候二级学院要盖公章，电子档不需要盖电子章，但是要如实填写上报日期、专业要与《2023届学信网学生信息基础数据》专业名称一致、专业总人数填写实际在校在籍人数。 8.结业原因填写序号：①必修课未通过②选修课未达标③综合素质考评不达标（综合素质包括第二课堂活动分、诚信分及德育审查项目）
A3: 二级学院（盖章）：电子信息工程学院 专业：人工智能技术服务 应毕业人数：36 毕业人数：18 结业人数：18 辅导员： 填表日期：
A4: 序号 | B4: 班别 | C4: 学号 | D4: 学生姓名 | E4: 必修课不及格门数 | F4: 必修课不及格具体课程名称 | G4: 选修课学分 | J4: 第二课堂活动分 | L4: 诚信分 | N4: 德育审查 | P4: 是否达到毕业要求 | Q4: 毕结业 结论 | R4: 欠费金额 | S4: 结业 原因
G5: 公选课已修学分 | H5: 专选课已修学分 | I5: 总学分 | J5: 分数 | K5: 是否≥120 | L5: 分数 | M5: 是否≥1800 | N5: 是否有违纪处分 | O5: 违纪处分是否解除
A6: 1 | B6: 全日制2020人工智能技术服务1班 | C6: 20200321036 | D6: 刘阳 | E6: =VLOOKUP(C6,[8]sheet1!$A:$AT,45,0) -> 0 | F6: =VLOOKUP(C6,[8]sheet1!$A:$AT,46,0) | G6: 13 | H6: 6.5 | I6: =SUM(G6:H6) -> 19.5 | J6: 288 | K6: =IF(J6>=120,"是","否") -> 是 | L6: 2160 | M6: =IF(L6>=1800,"是","否") -> 是 | N6: 否 | O6: / | P6: =IF(AND(E6=0,SUM(G6:H6)>=15,G6>=6,H6>=5,J6>=120,L6>=1800),"是","否") -> 是 | Q6: 毕业 | R6: 0
A7: 2 | B7: 全日制2020人工智能技术服务1班 | C7: 20200321031 | D7: 曾昌鸿 | E7: =VLOOKUP(C7,[8]sheet1!$A:$AT,45,0) -> 2 | F7: =VLOOKUP(C7,[8]sheet1!$A:$AT,46,0) -> 预就业实习职业素养实习与劳动教育 | G7: 12 | H7: 6.5 | I7: =SUM(G7:H7) -> 18.5 | J7: 252 | K7: =IF(J7>=120,"是","否") -> 是 | L7: 2380 | M7: =IF(L7>=1800,"是","否") -> 是 | N7: 否 | O7: / | P7: =IF(AND(E7=0,SUM(G7:H7)>=15,G7>=6,H7>=5,J7>=120,L7>=1800),"是","否") -> 否 | Q7: 结业 | R7: 0 | S7: 1
A8: 3 | B8: 全日制2020人工智能技术服务1班 | C8: 20200321016 | D8: 韦严翔 | E8: =VLOOKUP(C8,[8]sheet1!$A:$AT,45,0) -> 0 | F8: =VLOOKUP(C8,[8]sheet1!$A:$AT,46,0) | G8: 12 | H8: 6.5 | I8: =SUM(G8:H8) -> 18.5 | J8: 430 | K8: =IF(J8>=120,"是","否") -> 是 | L8: 3930 | M8: =IF(L8>=1800,"是","否") -> 是 | N8: 否 | O8: / | P8: =IF(AND(E8=0,SUM(G8:H8)>=15,G8>=6,H8>=5,J8>=120,L8>=1800),"是","否") -> 是 | Q8: 毕业 | R8: 0
A9: 4 | B9: 全日制2020人工智能技术服务1班 | C9: 20200110025 | D9: 邓文斌 | E9: =VLOOKUP(C9,[8]sheet1!$A:$AT,45,0) -> 0 | F9: =VLOOKUP(C9,[8]sheet1!$A:$AT,46,0) | G9: 11 | H9: 6.5 | I9: =SUM(G9:H9) -> 17.5 | J9: 160 | K9: =IF(J9>=120,"是","否") -> 是 | L9: 2170 | M9: =IF(L9>=1800,"是","否") -> 是 | N9: 否 | O9: / | P9: =IF(AND(E9=0,SUM(G9:H9)>=15,G9>=6,H9>=5,J9>=120,L9>=1800),"是","否") -> 是 | Q9: 毕业 | R9: 0
A10: 5 | B10: 全日制2020人工智能技术服务1班 | C10: 20200321018 | D10: 谢礼鸿 | E10: =VLOOKUP(C10,[8]sheet1!$A:$AT,45,0) -> 0 | F10: =VLOOKUP(C10,[8]sheet1!$A:$AT,46,0) | G10: 12 | H10: 6.5 | I10: =SUM(G10:H10) -> 18.5 | J10: 222 | K10: =IF(J10>=120,"是","否") -> 是 | L10: 2380 | M10: =IF(L10>=1800,"是","否") -> 是 | N10: 否 | O10: / | P10: =IF(AND(E10=0,SUM(G10:H10)>=15,G10>=6,H10>=5,J10>=120,L10>=1800),"是","否") -> 是 | Q10: 毕业 | R10: 0
A11: 6 | B11: 全日制2020人工智能技术服务1班 | C11: 20200321009 | D11: 农会斌 | E11: =VLOOKUP(C11,[8]sheet1!$A:$AT,45,0) -> 0 | F11: =VLOOKUP(C11,[8]sheet1!$A:$AT,46,0) | G11: 12 | H11: 6.5 | I11: =SUM(G11:H11) -> 18.5 | J11: 203 | K11: =IF(J11>=120,"是","否") -> 是 | L11: 2670 | M11: =IF(L11>=1800,"是","否") -> 是 | N11: 否 | O11: / | P11: =IF(AND(E11=0,SUM(G11:H11)>=15,G11>=6,H11>=5,J11>=120,L11>=1800),"是","否") -> 是 | Q11: 毕业 | R11: 0
A12: 7 | B12: 全日制2020人工智能技术服务1班 | C12: 20200321024 | D12: 廖瑞昌 | E12: =VLOOKUP(C12,[8]sheet1!$A:$AT,45,0) -> 1 | F12: =VLOOKUP(C12,[8]sheet1!$A:$AT,46,0) -> 职业素养实习与劳动教育 | G12: 12 | H12: 6.5 | I12: =SUM(G12:H12) -> 18.5 | J12: 180 | K12: =IF(J12>=120,"是","否") -> 是 | L12: 2090 | M12: =IF(L12>=1800,"是","否") -> 是 | N12: 否 | O12: / | P12: =IF(AND(E12=0,SUM(G12:H12)>=15,G12>=6,H12>=5,J12>=120,L12>=1800),"是","否") -> 否 | Q12: 结业 | R12: 0 | S12: 1
A13: 8 | B13: 全日制2020人工智能技术服务1班 | C13: 20200321017 | D13: 韦振益 | E13: =VLOOKUP(C13,[8]sheet1!$A:$AT,45,0) -> 0 | F13: =VLOOKUP(C13,[8]sheet1!$A:$AT,46,0) | G13: 10 | H13: 6.5 | I13: =SUM(G13:H13) -> 16.5 | J13: 276 | K13: =IF(J13>=120,"是","否") -> 是 | L13: 2550 | M13: =IF(L13>=1800,"是","否") -> 是 | N13: 否 | O13: / | P13: =IF(AND(E13=0,SUM(G13:H13)>=15,G13>=6,H13>=5,J13>=120,L13>=1800),"是","否") -> 是 | Q13: 毕业 | R13: 0
A14: 9 | B14: 全日制2020人工智能技术服务1班 | C14: 20200321014 | D14: 韦焜校 | E14: =VLOOKUP(C14,[8]sheet1!$A:$AT,45,0) -> 0 | F14: =VLOOKUP(C14,[8]sheet1!$A:$AT,46,0) | G14: 11 | H14: 6.5 | I14: =SUM(G14:H14) -> 17.5 | J14: 238 | K14: =IF(J14>=120,"是","否") -> 是 | L14: 2570 | M14: =IF(L14>=1800,"是","否") -> 是 | N14: 否 | O14: / | P14: =IF(AND(E14=0,SUM(G14:H14)>=15,G14>=6,H14>=5,J14>=120,L14>=1800),"是","否") -> 是 | Q14: 毕业 | R14: 0
A15: 10 | B15: 全日制2020人工智能技术服务1班 | C15: 20200321011 | D15: 彭秀娟 | E15: =VLOOKUP(C15,[8]sheet1!$A:$AT,45,0) -> 0 | F15: =VLOOKUP(C15,[8]sheet1!$A:$AT,46,0) | G15: 12 | H15: 6.5 | I15: =SUM(G15:H15) -> 18.5 | J15: 255 | K15: =IF(J15>=120,"是","否") -> 是 | L15: 2620 | M15: =IF(L15>=1800,"是","否") -> 是 | N15: 否 | O15: / | P15: =IF(AND(E15=0,SUM(G15:H15)>=15,G15>=6,H15>=5,J15>=120,L15>=1800),"是","否") -> 是 | Q15: 毕业 | R15: 0
A16: 11 | B16: 全日制2020人工智能技术服务1班 | C16: 20200321010 | D16: 庞显菲 | E16: =VLOOKUP(C16,[8]sheet1!$A:$AT,45,0) -> 0 | F16: =VLOOKUP(C16,[8]sheet1!$A:$AT,46,0) | G16: 13 | H16: 6.5 | I16: =SUM(G16:H16) -> 19.5 | J16: 293 | K16: =IF(J16>=120,"是","否") -> 是 | L16: 2720 | M16: =IF(L16>=1800,"是","否") -> 是 | N16: 否 | O16: / | P16: =IF(AND(E16=0,SUM(G16:H16)>=15,G16>=6,H16>=5,J16>=120,L16>=1800),"是","否") -> 是 | Q16: 毕业 | R16: 0
A17: 12 | B17: 全日制2020人工智能技术服务1班 | C17: 20200321033 | D17: 黄卓 | E17: =VLOOKUP(C17,[8]sheet1!$A:$AT,45,0) -> 0 | F17: =VLOOKUP(C17,[8]sheet1!$A:$AT,46,0) | G17: 14 | H17: 6.5 | I17: =SUM(G17:H17) -> 20.5 | J17: 262 | K17: =IF(J17>=120,"是","否") -> 是 | L17: 2870 | M17: =IF(L17>=1800,"是","否") -> 是 | N17: 否 | O17: / | P17: =IF(AND(E17=0,SUM(G17:H17)>=15,G17>=6,H17>=5,J17>=120,L17>=1800),"是","否") -> 是 | Q17: 毕业 | R17: 0
A18: 13 | B18: 全日制2020人工智能技术服务1班 | C18: 20200304072 | D18: 肖梅 | E18: =VLOOKUP(C18,[8]sheet1!$A:$AT,45,0) -> 0 | F18: =VLOOKUP(C18,[8]sheet1!$A:$AT,46,0) | G18: 16 | H18: 6.5 | I18: =SUM(G18:H18) -> 22.5 | J18: 214 | K18: =IF(J18>=120,"是","否") -> 是 | L18: 2470 | M18: =IF(L18>=1800,"是","否") -> 是 | N18: 否 | O18: / | P18: =IF(AND(E18=0,SUM(G18:H18)>=15,G18>=6,H18>=5,J18>=120,L18>=1800),"是","否") -> 是 | Q18: 毕业 | R18: 0
A19: 14 | B19: 全日制2020人工智能技术服务1班 | C19: 20200321023 | D19: 蓝晶皓 | E19: =VLOOKUP(C19,[8]sheet1!$A:$AT,45,0) -> 0 | F19: =VLOOKUP(C19,[8]sheet1!$A:$AT,46,0) | G19: 11 | H19: 8.5 | I19: =SUM(G19:H19) -> 19.5 | J19: 215 | K19: =IF(J19>=120,"是","否") -> 是 | L19: 2350 | M19: =IF(L19>=1800,"是","否") -> 是 | N19: 否 | O19: / | P19: =IF(AND(E19=0,SUM(G19:H19)>=15,G19>=6,H19>=5,J19>=120,L19>=1800),"是","否") -> 是 | Q19: 毕业 | R19: 0
A20: 15 | B20: 全日制2020人工智能技术服务1班 | C20: 20200321034 | D20: 李安宇 | E20: =VLOOKUP(C20,[8]sheet1!$A:$AT,45,0) -> 0 | F20: =VLOOKUP(C20,[8]sheet1!$A:$AT,46,0) | G20: 11 | H20: 6.5 | I20: =SUM(G20:H20) -> 17.5 | J20: 136 | K20: =IF(J20>=120,"是","否") -> 是 | L20: 2540 | M20: =IF(L20>=1800,"是","否") -> 是 | N20: 否 | O20: / | P20: =IF(AND(E20=0,SUM(G20:H20)>=15,G20>=6,H20>=5,J20>=120,L20>=1800),"是","否") -> 是 | Q20: 毕业 | R20: 0
A21: 16 | B21: 全日制2020人工智能技术服务1班 | C21: 20200321002 | D21: 黄华宁 | E21: =VLOOKUP(C21,[8]sheet1!$A:$AT,45,0) -> 2 | F21: =VLOOKUP(C21,[8]sheet1!$A:$AT,46,0) -> 预就业实习职业素养实习与劳动教育 | G21: 11 | H21: 6.5 | I21: =SUM(G21:H21) -> 17.5 | J21: 225 | K21: =IF(J21>=120,"是","否") -> 是 | L21: 2260 | M21: =IF(L21>=1800,"是","否") -> 是 | N21: 否 | O21: / | P21: =IF(AND(E21=0,SUM(G21:H21)>=15,G21>=6,H21>=5,J21>=120,L21>=1800),"是","否") -> 否 | Q21: 结业 | R21: 0 | S21: 1
A22: 17 | B22: 全日制2020人工智能技术服务1班 | C22: 20200321026 | D22: 任紫涵 | E22: =VLOOKUP(C22,[8]sheet1!$A:$AT,45,0) -> 0 | F22: =VLOOKUP(C22,[8]sheet1!$A:$AT,46,0) | G22: 12 | H22: 6.5 | I22: =SUM(G22:H22) -> 18.5 | J22: 310 | K22: =IF(J22>=120,"是","否") -> 是 | L22: 2580 | M22: =IF(L22>=1800,"是","否") -> 是 | N22: 否 | O22: / | P22: =IF(AND(E22=0,SUM(G22:H22)>=15,G22>=6,H22>=5,J22>=120,L22>=1800),"是","否") -> 是 | Q22: 毕业 | R22: 0
A23: 18 | B23: 全日制2020人工智能技术服务1班 | C23: 20200321022 | D23: 黄碧梅 | E23: =VLOOKUP(C23,[8]sheet1!$A:$AT,45,0) -> 0 | F23: =VLOOKUP(C23,[8]sheet1!$A:$AT,46,0) | G23: 14 | H23: 6.5 | I23: =SUM(G23:H23) -> 20.5 | J23: 279 | K23: =IF(J23>=120,"是","否") -> 是 | L23: 2330 | M23: =IF(L23>=1800,"是","否") -> 是 | N23: 否 | O23: / | P23: =IF(AND(E23=0,SUM(G23:H23)>=15,G23>=6,H23>=5,J23>=120,L23>=1800),"是","否") -> 是 | Q23: 毕业 | R23: 0
A24: 19 | B24: 全日制2020人工智能技术服务1班 | C24: 20200321038 | D24: 唐航辉 | E24: =VLOOKUP(C24,[8]sheet1!$A:$AT,45,0) -> 0 | F24: =VLOOKUP(C24,[8]sheet1!$A:$AT,46,0) | G24: 11 | H24: 6.5 | I24: =SUM(G24:H24) -> 17.5 | J24: 217 | K24: =IF(J24>=120,"是","否") -> 是 | L24: 2540 | M24: =IF(L24>=1800,"是","否") -> 是 | N24: 否 | O24: / | P24: =IF(AND(E24=0,SUM(G24:H24)>=15,G24>=6,H24>=5,J24>=120,L24>=1800),"是","否") -> 是 | Q24: 毕业 | R24: 0
A25: 20 | B25: 全日制2020人工智能技术服务1班 | C25: 20200321039 | D25: 谢冰 | E25: =VLOOKUP(C25,[8]sheet1!$A:$AT,45,0) -> 1 | F25: =VLOOKUP(C25,[8]sheet1!$A:$AT,46,0) -> 职业素养实习与劳动教育 | G25: 12 | H25: 6.5 | I25: =SUM(G25:H25) -> 18.5 | J25: 323 | K25: =IF(J25>=120,"是","否") -> 是 | L25: 2370 | M25: =IF(L25>=1800,"是","否") -> 是 | N25: 否 | O25: / | P25: =IF(AND(E25=0,SUM(G25:H25)>=15,G25>=6,H25>=5,J25>=120,L25>=1800),"是","否") -> 否 | Q25: 结业 | R25: 0 | S25: 1
A26: 21 | B26: 全日制2020人工智能技术服务1班 | C26: 20200321020 | D26: 周运健 | E26: =VLOOKUP(C26,[8]sheet1!$A:$AT,45,0) -> 2 | F26: =VLOOKUP(C26,[8]sheet1!$A:$AT,46,0) -> 预就业实习职业素养实习与劳动教育 | G26: 12 | H26: 6.5 | I26: =SUM(G26:H26) -> 18.5 | J26: 209 | K26: =IF(J26>=120,"是","否") -> 是 | L26: 2320 | M26: =IF(L26>=1800,"是","否") -> 是 | N26: 否 | O26: / | P26: =IF(AND(E26=0,SUM(G26:H26)>=15,G26>=6,H26>=5,J26>=120,L26>=1800),"是","否") -> 否 | Q26: 结业 | R26: 0 | S26: 1
A27: 22 | B27: 全日制2020人工智能技术服务1班 | C27: 20200321027 | D27: 覃等 | E27: =VLOOKUP(C27,[8]sheet1!$A:$AT,45,0) -> 1 | F27: =VLOOKUP(C27,[8]sheet1!$A:$AT,46,0) -> 职业素养实习与劳动教育 | G27: 10 | H27: 6.5 | I27: =SUM(G27:H27) -> 16.5 | J27: 389 | K27: =IF(J27>=120,"是","否") -> 是 | L27: 2760 | M27: =IF(L27>=1800,"是","否") -> 是 | N27: 否 | O27: / | P27: =IF(AND(E27=0,SUM(G27:H27)>=15,G27>=6,H27>=5,J27>=120,L27>=1800),"是","否") -> 否 | Q27: 结业 | R27: 0 | S27: 1
A28: 23 | B28: 全日制2020人工智能技术服务1班 | C28: 20200321015 | D28: 韦水源 | E28: =VLOOKUP(C28,[8]sheet1!$A:$AT,45,0) -> 0 | F28: =VLOOKUP(C28,[8]sheet1!$A:$AT,46,0) | G28: 13 | H28: 6.5 | I28: =SUM(G28:H28) -> 19.5 | J28: 216 | K28: =IF(J28>=120,"是","否") -> 是 | L28: 2090 | M28: =IF(L28>=1800,"是","否") -> 是 | N28: 否 | O28: / | P28: =IF(AND(E28=0,SUM(G28:H28)>=15,G28>=6,H28>=5,J28>=120,L28>=1800),"是","否") -> 是 | Q28: 毕业 | R28: 0
A29: 24 | B29: 全日制2020人工智能技术服务1班 | C29: 20200321025 | D29: 麦晓鹏 | E29: =VLOOKUP(C29,[8]sheet1!$A:$AT,45,0) -> 1 | F29: =VLOOKUP(C29,[8]sheet1!$A:$AT,46,0) -> 职业素养实习与劳动教育 | G29: 13 | H29: 6.5 | I29: =SUM(G29:H29) -> 19.5 | J29: 176 | K29: =IF(J29>=120,"是","否") -> 是 | L29: 2040 | M29: =IF(L29>=1800,"是","否") -> 是 | N29: 否 | O29: / | P29: =IF(AND(E29=0,SUM(G29:H29)>=15,G29>=6,H29>=5,J29>=120,L29>=1800),"是","否") -> 否 | Q29: 结业 | R29: 0 | S29: 1
A30: 25 | B30: 全日制2020人工智能技术服务1班 | C30: 20200321021 | D30: 曾海锋 | E30: =VLOOKUP(C30,[8]sheet1!$A:$AT,45,0) -> 0 | F30: =VLOOKUP(C30,[8]sheet1!$A:$AT,46,0) | G30: 10 | H30: 5.5 | I30: =SUM(G30:H30) -> 15.5 | J30: 165 | K30: =IF(J30>=120,"是","否") -> 是 | L30: 2370 | M30: =IF(L30>=1800,"是","否") -> 是 | N30: 否 | O30: / | P30: =IF(AND(E30=0,SUM(G30:H30)>=15,G30>=6,H30>=5,J30>=120,L30>=1800),"是","否") -> 是 | Q30: 毕业 | R30: 0
A31: 26 | B31: 全日制2020人工智能技术服务1班 | C31: 20200321003 | D31: 黄文泽 | E31: =VLOOKUP(C31,[8]sheet1!$A:$AT,45,0) -> 2 | F31: =VLOOKUP(C31,[8]sheet1!$A:$AT,46,0) -> 预就业实习职业素养实习与劳动教育 | G31: 12 | H31: 6.5 | I31: =SUM(G31:H31) -> 18.5 | J31: 148 | K31: =IF(J31>=120,"是","否") -> 是 | L31: 2070 | M31: =IF(L31>=1800,"是","否") -> 是 | N31: 否 | O31: / | P31: =IF(AND(E31=0,SUM(G31:H31)>=15,G31>=6,H31>=5,J31>=120,L31>=1800),"是","否") -> 否 | Q31: 结业 | R31: 0 | S31: 1
A32: 27 | B32: 全日制2020人工智能技术服务1班 | C32: 20200321004 | D32: 梁业多 | E32: =VLOOKUP(C32,[8]sheet1!$A:$AT,45,0) -> 2 | F32: =VLOOKUP(C32,[8]sheet1!$A:$AT,46,0) -> 预就业实习职业素养实习与劳动教育 | G32: 12 | H32: 6.5 | I32: =SUM(G32:H32) -> 18.5 | J32: 176 | K32: =IF(J32>=120,"是","否") -> 是 | L32: 1920 | M32: =IF(L32>=1800,"是","否") -> 是 | N32: 否 | O32: / | P32: =IF(AND(E32=0,SUM(G32:H32)>=15,G32>=6,H32>=5,J32>=120,L32>=1800),"是","否") -> 否 | Q32: 结业 | R32: 0 | S32: 1
A33: 28 | B33: 全日制2020人工智能技术服务1班 | C33: 20200321013 | D33: 韦继都 | E33: =VLOOKUP(C33,[8]sheet1!$A:$AT,45,0) -> 2 | F33: =VLOOKUP(C33,[8]sheet1!$A:$AT,46,0) -> 预就业实习职业素养实习与劳动教育 | G33: 12 | H33: 6.5 | I33: =SUM(G33:H33) -> 18.5 | J33: 155 | K33: =IF(J33>=120,"是","否") -> 是 | L33: 2290 | M33: =IF(L33>=1800,"是","否") -> 是 | N33: 否 | O33: / | P33: =IF(AND(E33=0,SUM(G33:H33)>=15,G33>=6,H33>=5,J33>=120,L33>=1800),"是","否") -> 否 | Q33: 结业 | R33: 0 | S33: 1
A34: 29 | B34: 全日制2020人工智能技术服务1班 | C34: 20200321035 | D34: 梁有鹏 | E34: =VLOOKUP(C34,[8]sheet1!$A:$AT,45,0) -> 1 | F34: =VLOOKUP(C34,[8]sheet1!$A:$AT,46,0) -> 职业素养实习与劳动教育 | G34: 11 | H34: 4.5 | I34: =SUM(G34:H34) -> 15.5 | J34: 177 | K34: =IF(J34>=120,"是","否") -> 是 | L34: 2330 | M34: =IF(L34>=1800,"是","否") -> 是 | N34: 否 | O34: / | P34: =IF(AND(E34=0,SUM(G34:H34)>=15,G34>=6,H34>=5,J34>=120,L34>=1800),"是","否") -> 否 | Q34: 结业 | R34: 0 | S34: 1.2
A35: 30 | B35: 全日制2020人工智能技术服务1班 | C35: 20200321030 | D35: 银骋 | E35: =VLOOKUP(C35,[8]sheet1!$A:$AT,45,0) -> 2 | F35: =VLOOKUP(C35,[8]sheet1!$A:$AT,46,0) -> 预就业实习职业素养实习与劳动教育 | G35: 12 | H35: 6.5 | I35: =SUM(G35:H35) -> 18.5 | J35: 187 | K35: =IF(J35>=120,"是","否") -> 是 | L35: 2330 | M35: =IF(L35>=1800,"是","否") -> 是 | N35: 否 | O35: / | P35: =IF(AND(E35=0,SUM(G35:H35)>=15,G35>=6,H35>=5,J35>=120,L35>=1800),"是","否") -> 否 | Q35: 结业 | R35: 0 | S35: 1
A36: 31 | B36: 全日制2020人工智能技术服务1班 | C36: 20200321007 | D36: 罗哲 | E36: =VLOOKUP(C36,[8]sheet1!$A:$AT,45,0) -> 2 | F36: =VLOOKUP(C36,[8]sheet1!$A:$AT,46,0) -> 预就业实习职业素养实习与劳动教育 | G36: 13 | H36: 5.5 | I36: =SUM(G36:H36) -> 18.5 | J36: 173 | K36: =IF(J36>=120,"是","否") -> 是 | L36: 2520 | M36: =IF(L36>=1800,"是","否") -> 是 | N36: 否 | O36: / | P36: =IF(AND(E36=0,SUM(G36:H36)>=15,G36>=6,H36>=5,J36>=120,L36>=1800),"是","否") -> 否 | Q36: 结业 | R36: 0 | S36: 1
A37: 32 | B37: 全日制2020人工智能技术服务1班 | C37: 20200321005 | D37: 梁宇辰 | E37: =VLOOKUP(C37,[8]sheet1!$A:$AT,45,0) -> 2 | F37: =VLOOKUP(C37,[8]sheet1!$A:$AT,46,0) -> 预就业实习职业素养实习与劳动教育 | G37: 14 | H37: 4.5 | I37: =SUM(G37:H37) -> 18.5 | J37: 155 | K37: =IF(J37>=120,"是","否") -> 是 | L37: 2090 | M37: =IF(L37>=1800,"是","否") -> 是 | N37: 否 | O37: / | P37: =IF(AND(E37=0,SUM(G37:H37)>=15,G37>=6,H37>=5,J37>=120,L37>=1800),"是","否") -> 否 | Q37: 结业 | R37: 0 | S37: 1.2
A38: 33 | B38: 全日制2020人工智能技术服务1班 | C38: 20200321019 | D38: 张鑫 | E38: =VLOOKUP(C38,[8]sheet1!$A:$AT,45,0) -> 1 | F38: =VLOOKUP(C38,[8]sheet1!$A:$AT,46,0) -> 预就业实习 | G38: 8 | H38: 6.5 | I38: =SUM(G38:H38) -> 14.5 | J38: 135 | K38: =IF(J38>=120,"是","否") -> 是 | L38: 1980 | M38: =IF(L38>=1800,"是","否") -> 是 | N38: 否 | O38: / | P38: =IF(AND(E38=0,SUM(G38:H38)>=15,G38>=6,H38>=5,J38>=120,L38>=1800),"是","否") -> 否 | Q38: 结业 | R38: 0 | S38: 1.2
A39: 34 | B39: 全日制2020人工智能技术服务1班 | C39: 20200321028 | D39: 覃华 | E39: =VLOOKUP(C39,[8]sheet1!$A:$AT,45,0) -> 1 | F39: =VLOOKUP(C39,[8]sheet1!$A:$AT,46,0) -> 预就业实习 | G39: 10 | H39: 5.5 | I39: =SUM(G39:H39) -> 15.5 | J39: 181 | K39: =IF(J39>=120,"是","否") -> 是 | L39: 2120 | M39: =IF(L39>=1800,"是","否") -> 是 | N39: 否 | O39: / | P39: =IF(AND(E39=0,SUM(G39:H39)>=15,G39>=6,H39>=5,J39>=120,L39>=1800),"是","否") -> 否 | Q39: 结业 | R39: 0 | S39: 1
A40: 35 | B40: 全日制2020人工智能技术服务1班 | C40: 20200321001 | D40: 陈海松 | E40: =VLOOKUP(C40,[8]sheet1!$A:$AT,45,0) -> 3 | F40: =VLOOKUP(C40,[8]sheet1!$A:$AT,46,0) -> 通用核心能力测试预就业实习职业素养实习与劳动教育 | G40: 11 | H40: 4.5 | I40: =SUM(G40:H40) -> 15.5 | J40: 342 | K40: =IF(J40>=120,"是","否") -> 是 | L40: 2330 | M40: =IF(L40>=1800,"是","否") -> 是 | N40: 否 | O40: / | P40: =IF(AND(E40=0,SUM(G40:H40)>=15,G40>=6,H40>=5,J40>=120,L40>=1800),"是","否") -> 否 | Q40: 结业 | R40: 0 | S40: 1.2
A41: 36 | B41: 全日制2020人工智能技术服务1班 | C41: 20200321032 | D41: 何宇 | E41: =VLOOKUP(C41,[8]sheet1!$A:$AT,45,0) -> 11 | F41: =VLOOKUP(C41,[8]sheet1!$A:$AT,46,0) -> 大学生安全教育(四)《云物大智基础》(课外：云物大智部分)数据库基础数据库基础人工智能数学基础Tensorflow与深度学习Linux系统基础机器学习创新与创业实务毛泽东思想和中国特色社会主义理论体系概论预就业实习职业素养实习与劳动教育 | G41: 4 | H41: 2.5 | I41: =SUM(G41:H41) -> 6.5 | J41: 67 | K41: =IF(J41>=120,"是","否") -> 否 | L41: 1780 | M41: =IF(L41>=1800,"是","否") -> 否 | N41: 否 | O41: / | P41: =IF(AND(E41=0,SUM(G41:H41)>=15,G41>=6,H41>=5,J41>=120,L41>=1800),"是","否") -> 否 | Q41: 结业 | R41: 8710.48 | S41: 1.2.3

Sheet 软件技术
A1: 柳州职业技术学院2023届毕业生毕业资格审核表
A2: 填表说明： 1.第6、7、8行是填写模板。 2.学号、姓名的信息从《2023届学信网学生信息基础数据》表中按照班级筛选并粘贴。 3.必修课不及格门数填写学生到统计数据为止成绩未达到60分的课程总门数，如李四只有《大学生安全教育》课程不及格，其他已经成绩合格，那么李四必修课不及格门数填写“1”；公共选修课已修学分填写学生到统计数据为止总共修得的学分，如李四共修公共选修课两门（一门课程学分为2分，另一门课程学分3分）并且成绩合格，那么李四公选课程已修学分为“5”，专选课已修学分填写方式与公共选修课填写方式一致。 4.第二课堂学分和诚信分填写具体获得的分数，若第二课堂学分>=120，填写“是”，若＜填“否”；诚信分>=1800，填写“是”，若＜填“否”。 德育审查如有仍未解除的，填写“否”，如没有违纪记录的，在“违纪处分是否解除”栏划斜线“/”。德育审查结果不能留空。 5.假若学生“必修课程不及格门数”为“0”、“选修课已修学分”总分15分（其中公选课学分 ≥6 分，专选课学分≥5 ）、“第二课堂学分>=120”、“诚信分>=1800”都填写“是”，则学生达到毕业要求，在“是否达到毕业资格”填写“是”，若以上条件有一列未达到要求，请填写“否”； 6.请如实填写“欠费金额”。 7.上交纸质材料的时候二级学院要盖公章，电子档不需要盖电子章，但是要如实填写上报日期、专业要与《2023届学信网学生信息基础数据》专业名称一致、专业总人数填写实际在校在籍人数。 8.结业原因填写序号：①必修课未通过②选修课未达标③综合素质考评不达标（综合素质包括第二课堂活动分、诚信分及德育审查项目）
A3: 二级学院（盖章）：电子信息工程学院 专业：软件技术 应毕业人数：129 毕业人数：39 结业人数： 36 辅导员： 填表日期：
A4: 序号 | B4: 班别 | C4: 学号 | D4: 学生姓名 | E4: 必修课不及格门数 | F4: 必修课不及格具体课程名称 | G4: 选修课学分 | J4: 第二课堂活动分 | L4: 诚信分 | N4: 德育审查 | P4: 是否达到毕业要求 | Q4: 毕结业 结论 | R4: 欠费金额 | S4: 结业 原因
G5: 公选课已修学分 | H5: 专选课已修学分 | I5: 总学分 | J5: 分数 | K5: 是否≥120 | L5: 分数 | M5: 是否≥1800 | N5: 是否有违纪处分 | O5: 违纪处分是否解除
A6: 1 | B6: 全日制2020软件技术1班 | C6: 20200310124 | D6: 吕薇 | E6: =VLOOKUP(C6,[3]sheet1!$A:$AO,40,0) -> 0 | F6: =VLOOKUP(C6,[3]sheet1!$A:$AO,41,0) | G6: 12 | H6: 8.5 | I6: =SUM(G6:H6) -> 20.5 | J6: 446 | K6: =IF(J6>=120,"是","否") -> 是 | L6: 3180 | M6: =IF(L6>=1800,"是","否") -> 是 | N6: 否 | O6: / | P6: =IF(AND(E6=0,SUM(G6:H6)>=15,G6>=6,H6>=5,J6>=120,L6>=1800),"是","否") -> 是 | Q6: 毕业 | R6: 0
A7: 2 | B7: 全日制2020软件技术1班 | C7: 20200310130 | D7: 秦智杰 | E7: =VLOOKUP(C7,[3]sheet1!$A:$AO,40,0) -> 0 | F7: =VLOOKUP(C7,[3]sheet1!$A:$AO,41,0) | G7: 10 | H7: 8.5 | I7: =SUM(G7:H7) -> 18.5 | J7: 229 | K7: =IF(J7>=120,"是","否") -> 是 | L7: 2570 | M7: =IF(L7>=1800,"是","否") -> 是 | N7: 否 | O7: / | P7: =IF(AND(E7=0,SUM(G7:H7)>=15,G7>=6,H7>=5,J7>=120,L7>=1800),"是","否") -> 是 | Q7: 毕业 | R7: 0
A8: 3 | B8: 全日制2020软件技术1班 | C8: 20200310093 | D8: 陈一琪 | E8: =VLOOKUP(C8,[3]sheet1!$A:$AO,40,0) -> 0 | F8: =VLOOKUP(C8,[3]sheet1!$A:$AO,41,0) | G8: 12 | H8: 8.5 | I8: =SUM(G8:H8) -> 20.5 | J8: 439 | K8: =IF(J8>=120,"是","否") -> 是 | L8: 3790 | M8: =IF(L8>=1800,"是","否") -> 是 | N8: 否 | O8: / | P8: =IF(AND(E8=0,SUM(G8:H8)>=15,G8>=6,H8>=5,J8>=120,L8>=1800),"是","否") -> 是 | Q8: 毕业 | R8: 0
A9: 4 | B9: 全日制2020软件技术1班 | C9: 20200310116 | D9: 李金龙 | E9: =VLOOKUP(C9,[3]sheet1!$A:$AO,40,0) -> 0 | F9: =VLOOKUP(C9,[3]sheet1!$A:$AO,41,0) | G9: 10 | H9: 8.5 | I9: =SUM(G9:H9) -> 18.5 | J9: 265 | K9: =IF(J9>=120,"是","否") -> 是 | L9: 2860 | M9: =IF(L9>=1800,"是","否") -> 是 | N9: 否 | O9: / | P9: =IF(AND(E9=0,SUM(G9:H9)>=15,G9>=6,H9>=5,J9>=120,L9>=1800),"是","否") -> 是 | Q9: 毕业 | R9: 0
A10: 5 | B10: 全日制2020软件技术1班 | C10: 20200310113 | D10: 雷宏淋 | E10: =VLOOKUP(C10,[3]sheet1!$A:$AO,40,0) -> 0 | F10: =VLOOKUP(C10,[3]sheet1!$A:$AO,41,0) | G10: 14 | H10: 8.5 | I10: =SUM(G10:H10) -> 22.5 | J10: 971 | K10: =IF(J10>=120,"是","否") -> 是 | L10: 3970 | M10: =IF(L10>=1800,"是","否") -> 是 | N10: 否 | O10: / | P10: =IF(AND(E10=0,SUM(G10:H10)>=15,G10>=6,H10>=5,J10>=120,L10>=1800),"是","否") -> 是 | Q10: 毕业 | R10: 0
A11: 6 | B11: 全日制2020软件技术1班 | C11: 20200310136 | D11: 覃世辉 | E11: =VLOOKUP(C11,[3]sheet1!$A:$AO,40,0) -> 0 | F11: =VLOOKUP(C11,[3]sheet1!$A:$AO,41,0) | G11: 12 | H11: 8.5 | I11: =SUM(G11:H11) -> 20.5 | J11: 941 | K11: =IF(J11>=120,"是","否") -> 是 | L11: 3050 | M11: =IF(L11>=1800,"是","否") -> 是 | N11: 否 | O11: / | P11: =IF(AND(E11=0,SUM(G11:H11)>=15,G11>=6,H11>=5,J11>=120,L11>=1800),"是","否") -> 是 | Q11: 毕业 | R11: 0
A12: 7 | B12: 全日制2020软件技术1班 | C12: 20200310129 | D12: 彭定强 | E12: =VLOOKUP(C12,[3]sheet1!$A:$AO,40,0) -> 0 | F12: =VLOOKUP(C12,[3]sheet1!$A:$AO,41,0) | G12: 10 | H12: 8.5 | I12: =SUM(G12:H12) -> 18.5 | J12: 324 | K12: =IF(J12>=120,"是","否") -> 是 | L12: 2780 | M12: =IF(L12>=1800,"是","否") -> 是 | N12: 否 | O12: / | P12: =IF(AND(E12=0,SUM(G12:H12)>=15,G12>=6,H12>=5,J12>=120,L12>=1800),"是","否") -> 是 | Q12: 毕业 | R12: 0
A13: 8 | B13: 全日制2020软件技术1班 | C13: 20200310148 | D13: 周红贵 | E13: =VLOOKUP(C13,[3]sheet1!$A:$AO,40,0) -> 0 | F13: =VLOOKUP(C13,[3]sheet1!$A:$AO,41,0) | G13: 12 | H13: 8.5 | I13: =SUM(G13:H13) -> 20.5 | J13: 341 | K13: =IF(J13>=120,"是","否") -> 是 | L13: 5280 | M13: =IF(L13>=1800,"是","否") -> 是 | N13: 否 | O13: / | P13: =IF(AND(E13=0,SUM(G13:H13)>=15,G13>=6,H13>=5,J13>=120,L13>=1800),"是","否") -> 是 | Q13: 毕业 | R13: 0
A14: 9 | B14: 全日制2020软件技术1班 | C14: 20200310094 | D14: 陈玉明 | E14: =VLOOKUP(C14,[3]sheet1!$A:$AO,40,0) -> 0 | F14: =VLOOKUP(C14,[3]sheet1!$A:$AO,41,0) | G14: 10 | H14: 8.5 | I14: =SUM(G14:H14) -> 18.5 | J14: 226 | K14: =IF(J14>=120,"是","否") -> 是 | L14: 2410 | M14: =IF(L14>=1800,"是","否") -> 是 | N14: 否 | O14: / | P14: =IF(AND(E14=0,SUM(G14:H14)>=15,G14>=6,H14>=5,J14>=120,L14>=1800),"是","否") -> 是 | Q14: 毕业 | R14: 0
A15: 10 | B15: 全日制2020软件技术1班 | C15: 20200310111 | D15: 姜敏敏 | E15: =VLOOKUP(C15,[3]sheet1!$A:$AO,40,0) -> 0 | F15: =VLOOKUP(C15,[3]sheet1!$A:$AO,41,0) | G15: 11 | H15: 8.5 | I15: =SUM(G15:H15) -> 19.5 | J15: 328 | K15: =IF(J15>=120,"是","否") -> 是 | L15: 2620 | M15: =IF(L15>=1800,"是","否") -> 是 | N15: 否 | O15: / | P15: =IF(AND(E15=0,SUM(G15:H15)>=15,G15>=6,H15>=5,J15>=120,L15>=1800),"是","否") -> 是 | Q15: 毕业 | R15: 0
A16: 11 | B16: 全日制2020软件技术1班 | C16: 20200310103 | D16: 黄河越 | E16: =VLOOKUP(C16,[3]sheet1!$A:$AO,40,0) -> 0 | F16: =VLOOKUP(C16,[3]sheet1!$A:$AO,41,0) | G16: 12 | H16: 8.5 | I16: =SUM(G16:H16) -> 20.5 | J16: 294 | K16: =IF(J16>=120,"是","否") -> 是 | L16: 2660 | M16: =IF(L16>=1800,"是","否") -> 是 | N16: 否 | O16: / | P16: =IF(AND(E16=0,SUM(G16:H16)>=15,G16>=6,H16>=5,J16>=120,L16>=1800),"是","否") -> 是 | Q16: 毕业 | R16: 0
A17: 12 | B17: 全日制2020软件技术1班 | C17: 20200310137 | D17: 唐姬玉 | E17: =VLOOKUP(C17,[3]sheet1!$A:$AO,40,0) -> 0 | F17: =VLOOKUP(C17,[3]sheet1!$A:$AO,41,0) | G17: 10 | H17: 8.5 | I17: =SUM(G17:H17) -> 18.5 | J17: 274 | K17: =IF(J17>=120,"是","否") -> 是 | L17: 2710 | M17: =IF(L17>=1800,"是","否") -> 是 | N17: 否 | O17: / | P17: =IF(AND(E17=0,SUM(G17:H17)>=15,G17>=6,H17>=5,J17>=120,L17>=1800),"是","否") -> 是 | Q17: 毕业 | R17: 0
... A26: 21 | B26: 全日制2020软件技术1班 | C26: 20200310147 | D26: 赵坤明 | E26: =VLOOKUP(C26,[3]sheet1!$A:$AO,40,0) -> 0 | F26: =VLOOKUP(C26,[3]sheet1!$A:$AO,41,0) | G26: 10 | H26: 8.5 | I26: =SUM(G26:H26) -> 18.5 | J26: 262 | K26: =IF(J26>=120,"是","否") -> 是 | L26: 2620 | M26: =IF(L26>=1800,"是","否") -> 是 | N26: 否 | O26: / | P26: =IF(AND(E26=0,SUM(G26:H26)>=15,G26>=6,H26>=5,J26>=120,L26>=1800),"是","否") -> 是 | Q26: 毕业 | R26: 0
A27: 22 | B27: 全日制2020软件技术1班 | C27: 20200310099 | D27: 何佳泽 | E27: =VLOOKUP(C27,[3]sheet1!$A:$AO,40,0) -> 2 | F27: =VLOOKUP(C27,[3]sheet1!$A:$AO,41,0) -> 预就业实习职业素养实习与劳动教育 | G27: 11 | H27: 8.5 | I27: =SUM(G27:H27) -> 19.5 | J27: 141 | K27: =IF(J27>=120,"是","否") -> 是 | L27: 2420 | M27: =IF(L27>=1800,"是","否") -> 是 | N27: 否 | O27: / | P27: =IF(AND(E27=0,SUM(G27:H27)>=15,G27>=6,H27>=5,J27>=120,L27>=1800),"是","否") -> 否 | Q27: 结业 | R27: 0 | S27: 1
A28: 23 | B28: 全日制2020软件技术1班 | C28: 20200310140 | D28: 韦明卫 | E28: =VLOOKUP(C28,[3]sheet1!$A:$AO,40,0) -> 0 | F28: =VLOOKUP(C28,[3]sheet1!$A:$AO,41,0) | G28: 10 | H28: 8.5 | I28: =SUM(G28:H28) -> 18.5 | J28: 228 | K28: =IF(J28>=120,"是","否") -> 是 | L28: 2420 | M28: =IF(L28>=1800,"是","否") -> 是 | N28: 否 | O28: / | P28: =IF(AND(E28=0,SUM(G28:H28)>=15,G28>=6,H28>=5,J28>=120,L28>=1800),"是","否") -> 是 | Q28: 毕业 | R28: 0
A29: 24 | B29: 全日制2020软件技术1班 | C29: 20200310095 | D29: 陈钰鹏 | E29: =VLOOKUP(C29,[3]sheet1!$A:$AO,40,0) -> 0 | F29: =VLOOKUP(C29,[3]sheet1!$A:$AO,41,0) | G29: 10 | H29: 8.5 | I29: =SUM(G29:H29) -> 18.5 | J29: 227 | K29: =IF(J29>=120,"是","否") -> 是 | L29: 2470 | M29: =IF(L29>=1800,"是","否") -> 是 | N29: 否 | O29: / | P29: =IF(AND(E29=0,SUM(G29:H29)>=15,G29>=6,H29>=5,J29>=120,L29>=1800),"是","否") -> 是 | Q29: 毕业 | R29: 0
A30: 25 | B30: 全日制2020软件技术1班 | C30: 20200310117 | D30: 李盛海 | E30: =VLOOKUP(C30,[3]sheet1!$A:$AO,40,0) -> 0 | F30: =VLOOKUP(C30,[3]sheet1!$A:$AO,41,0) | G30: 10 | H30: 8.5 | I30: =SUM(G30:H30) -> 18.5 | J30: 264 | K30: =IF(J30>=120,"是","否") -> 是 | L30: 2450 | M30: =IF(L30>=1800,"是","否") -> 是 | N30: 否 | O30: / | P30: =IF(AND(E30=0,SUM(G30:H30)>=15,G30>=6,H30>=5,J30>=120,L30>=1800),"是","否") -> 是 | Q30: 毕业 | R30: 0
A31: 26 | B31: 全日制2020软件技术1班 | C31: 20200310102 | D31: 黄德 | E31: =VLOOKUP(C31,[3]sheet1!$A:$AO,40,0) -> 2 | F31: =VLOOKUP(C31,[3]sheet1!$A:$AO,41,0) -> 预就业实习职业素养实习与劳动教育 | G31: 11 | H31: 8.5 | I31: =SUM(G31:H31) -> 19.5 | J31: 333 | K31: =IF(J31>=120,"是","否") -> 是 | L31: 2650 | M31: =IF(L31>=1800,"是","否") -> 是 | N31: 否 | O31: / | P31: =IF(AND(E31=0,SUM(G31:H31)>=15,G31>=6,H31>=5,J31>=120,L31>=1800),"是","否") -> 否 | Q31: 结业 | R31: 0 | S31: 1
A32: 27 | B32: 全日制2020软件技术1班 | C32: 20200310138 | D32: 唐家瑶 | E32: =VLOOKUP(C32,[3]sheet1!$A:$AO,40,0) -> 2 | F32: =VLOOKUP(C32,[3]sheet1!$A:$AO,41,0) -> 预就业实习职业素养实习与劳动教育 | G32: 12 | H32: 8.5 | I32: =SUM(G32:H32) -> 20.5 | J32: 272 | K32: =IF(J32>=120,"是","否") -> 是 | L32: 2650 | M32: =IF(L32>=1800,"是","否") -> 是 | N32: 否 | O32: / | P32: =IF(AND(E32=0,SUM(G32:H32)>=15,G32>=6,H32>=5,J32>=120,L32>=1800),"是","否") -> 否 | Q32: 结业 | R32: 0 | S32: 1
A33: 28 | B33: 全日制2020软件技术1班 | C33: 20200310135 | D33: 覃欢欢 | E33: =VLOOKUP(C33,[3]sheet1!$A:$AO,40,0) -> 2 | F33: =VLOOKUP(C33,[3]sheet1!$A:$AO,41,0) -> 预就业实习职业素养实习与劳动教育 | G33: 10 | H33: 8.5 | I33: =SUM(G33:H33) -> 18.5 | J33: 236 | K33: =IF(J33>=120,"是","否") -> 是 | L33: 2450 | M33: =IF(L33>=1800,"是","否") -> 是 | N33: 否 | O33: / | P33: =IF(AND(E33=0,SUM(G33:H33)>=15,G33>=6,H33>=5,J33>=120,L33>=1800),"是","否") -> 否 | Q33: 结业 | R33: 0 | S33: 1
A34: 29 | B34: 全日制2020软件技术1班 | C34: 20200310125 | D34: 莫之基 | E34: =VLOOKUP(C34,[3]sheet1!$A:$AO,40,0) -> 2 | F34: =VLOOKUP(C34,[3]sheet1!$A:$AO,41,0) -> 预就业实习职业素养实习与劳动教育 | G34: 12 | H34: 8.5 | I34: =SUM(G34:H34) -> 20.5 | J34: 285 | K34: =IF(J34>=120,"是","否") -> 是 | L34: 2530 | M34: =IF(L34>=1800,"是","否") -> 是 | N34: 否 | O34: / | P34: =IF(AND(E34=0,SUM(G34:H34)>=15,G34>=6,H34>=5,J34>=120,L34>=1800),"是","否") -> 否 | Q34: 结业 | R34: 0 | S34: 1
A35: 30 | B35: 全日制2020软件技术1班 | C35: 20200310096 | D35: 窦胜阳 | E35: =VLOOKUP(C35,[3]sheet1!$A:$AO,40,0) -> 0 | F35: =VLOOKUP(C35,[3]sheet1!$A:$AO,41,0) | G35: 10 | H35: 8.5 | I35: =SUM(G35:H35) -> 18.5 | J35: 216 | K35: =IF(J35>=120,"是","否") -> 是 | L35: 2440 | M35: =IF(L35>=1800,"是","否") -> 是 | N35: 否 | O35: / | P35: =IF(AND(E35=0,SUM(G35:H35)>=15,G35>=6,H35>=5,J35>=120,L35>=1800),"是","否") -> 是 | Q35: 毕业 | R35: 0
A36: 31 | B36: 全日制2020软件技术1班 | C36: 20200310123 | D36: 罗显盛 | E36: =VLOOKUP(C36,[3]sheet1!$A:$AO,40,0) -> 0 | F36: =VLOOKUP(C36,[3]sheet1!$A:$AO,41,0) | G36: 10 | H36: 8.5 | I36: =SUM(G36:H36) -> 18.5 | J36: 241 | K36: =IF(J36>=120,"是","否") -> 是 | L36: 2500 | M36: =IF(L36>=1800,"是","否") -> 是 | N36: 否 | O36: / | P36: =IF(AND(E36=0,SUM(G36:H36)>=15,G36>=6,H36>=5,J36>=120,L36>=1800),"是","否") -> 是 | Q36: 毕业 | R36: 0
A37: 32 | B37: 全日制2020软件技术1班 | C37: 20200310108 | D37: 黄晓林 | E37: =VLOOKUP(C37,[3]sheet1!$A:$AO,40,0) -> 0 | F37: =VLOOKUP(C37,[3]sheet1!$A:$AO,41,0) | G37: 12 | H37: 8.5 | I37: =SUM(G37:H37) -> 20.5 | J37: 229 | K37: =IF(J37>=120,"是","否") -> 是 | L37: 2440 | M37: =IF(L37>=1800,"是","否") -> 是 | N37: 否 | O37: / | P37: =IF(AND(E37=0,SUM(G37:H37)>=15,G37>=6,H37>=5,J37>=120,L37>=1800),"是","否") -> 是 | Q37: 毕业 | R37: 0
A38: 33 | B38: 全日制2020软件技术1班 | C38: 20200310091 | D38: 蔡建飞 | E38: =VLOOKUP(C38,[3]sheet1!$A:$AO,40,0) -> 2 | F38: =VLOOKUP(C38,[3]sheet1!$A:$AO,41,0) -> 预就业实习职业素养实习与劳动教育 | G38: 10 | H38: 6.5 | I38: =SUM(G38:H38) -> 16.5 | J38: 317 | K38: =IF(J38>=120,"是","否") -> 是 | L38: 2910 | M38: =IF(L38>=1800,"是","否") -> 是 | N38: 否 | O38: / | P38: =IF(AND(E38=0,SUM(G38:H38)>=15,G38>=6,H38>=5,J38>=120,L38>=1800),"是","否") -> 否 | Q38: 结业 | R38: 0 | S38: 1
A39: 34 | B39: 全日制2020软件技术1班 | C39: 20200310107 | D39: 黄祥喜 | E39: =VLOOKUP(C39,[3]sheet1!$A:$AO,40,0) -> 0 | F39: =VLOOKUP(C39,[3]sheet1!$A:$AO,41,0) | G39: 11 | H39: 8.5 | I39: =SUM(G39:H39) -> 19.5 | J39: 280 | K39: =IF(J39>=120,"是","否") -> 是 | L39: 2620 | M39: =IF(L39>=1800,"是","否") -> 是 | N39: 否 | O39: / | P39: =IF(AND(E39=0,SUM(G39:H39)>=15,G39>=6,H39>=5,J39>=120,L39>=1800),"是","否") -> 是 | Q39: 毕业 | R39: 0
A40: 35 | B40: 全日制2020软件技术1班 | C40: 20200310109 | D40: 黄依豪 | E40: =VLOOKUP(C40,[3]sheet1!$A:$AO,40,0) -> 1 | F40: =VLOOKUP(C40,[3]sheet1!$A:$AO,41,0) -> 预就业实习 | G40: 9 | H40: 8.5 | I40: =SUM(G40:H40) -> 17.5 | J40: 303 | K40: =IF(J40>=120,"是","否") -> 是 | L40: 2660 | M40: =IF(L40>=1800,"是","否") -> 是 | N40: 否 | O40: / | P40: =IF(AND(E40=0,SUM(G40:H40)>=15,G40>=6,H40>=5,J40>=120,L40>=1800),"是","否") -> 否 | Q40: 结业 | R40: 0 | S40: 1
A41: 36 | B41: 全日制2020软件技术1班 | C41: 20200310104 | D41: 黄杰成 | E41: =VLOOKUP(C41,[3]sheet1!$A:$AO,40,0) -> 2 | F41: =VLOOKUP(C41,[3]sheet1!$A:$AO,41,0) -> 预就业实习职业素养实习与劳动教育 | G41: 10 | H41: 8.5 | I41: =SUM(G41:H41) -> 18.5 | J41: 286 | K41: =IF(J41>=120,"是","否") -> 是 | L41: 2740 | M41: =IF(L41>=1800,"是","否") -> 是 | N41: 否 | O41: / | P41: =IF(AND(E41=0,SUM(G41:H41)>=15,G41>=6,H41>=5,J41>=120,L41>=1800),"是","否") -> 否 | Q41: 结业 | R41: 0 | S41: 1
A42: 37 | B42: 全日制2020软件技术1班 | C42: 20200310126 | D42: 莫祖洁 | E42: =VLOOKUP(C42,[3]sheet1!$A:$AO,40,0) -> 0 | F42: =VLOOKUP(C42,[3]sheet1!$A:$AO,41,0) | G42: 10 | H42: 8.5 | I42: =SUM(G42:H42) -> 18.5 | J42: 229 | K42: =IF(J42>=120,"是","否") -> 是 | L42: 2690 | M42: =IF(L42>=1800,"是","否") -> 是 | N42: 否 | O42: / | P42: =IF(AND(E42=0,SUM(G42:H42)>=15,G42>=6,H42>=5,J42>=120,L42>=1800),"是","否") -> 是 | Q42: 毕业 | R42: 0
A43: 38 | B43: 全日制2020软件技术1班 | C43: 20200310132 | D43: 史峻源 | E43: =VLOOKUP(C43,[3]sheet1!$A:$AO,40,0) -> 2 | F43: =VLOOKUP(C43,[3]sheet1!$A:$AO,41,0) -> 预就业实习职业素养实习与劳动教育 | G43: 10 | H43: 8.5 | I43: =SUM(G43:H43) -> 18.5 | J43: 189 | K43: =IF(J43>=120,"是","否") -> 是 | L43: 2530 | M43: =IF(L43>=1800,"是","否") -> 是 | N43: 否 | O43: / | P43: =IF(AND(E43=0,SUM(G43:H43)>=15,G43>=6,H43>=5,J43>=120,L43>=1800),"是","否") -> 否 | Q43: 结业 | R43: 0 | S43: 1
A44: 39 | B44: 全日制2020软件技术1班 | C44: 20200310110 | D44: 黄足琳 | E44: =VLOOKUP(C44,[3]sheet1!$A:$AO,40,0) -> 0 | F44: =VLOOKUP(C44,[3]sheet1!$A:$AO,41,0) | G44: 10 | H44: 8.5 | I44: =SUM(G44:H44) -> 18.5 | J44: 226 | K44: =IF(J44>=120,"是","否") -> 是 | L44: 2460 | M44: =IF(L44>=1800,"是","否") -> 是 | N44: 否 | O44: / | P44: =IF(AND(E44=0,SUM(G44:H44)>=15,G44>=6,H44>=5,J44>=120,L44>=1800),"是","否") -> 是 | Q44: 毕业 | R44: 0
A45: 40 | B45: 全日制2020软件技术1班 | C45: 20200310121 | D45: 卢华祝 | E45: =VLOOKUP(C45,[3]sheet1!$A:$AO,40,0) -> 2 | F45: =VLOOKUP(C45,[3]sheet1!$A:$AO,41,0) -> 预就业实习职业素养实习与劳动教育 | G45: 10 | H45: 8.5 | I45: =SUM(G45:H45) -> 18.5 | J45: 219 | K45: =IF(J45>=120,"是","否") -> 是 | L45: 2410 | M45: =IF(L45>=1800,"是","否") -> 是 | N45: 否 | O45: / | P45: =IF(AND(E45=0,SUM(G45:H45)>=15,G45>=6,H45>=5,J45>=120,L45>=1800),"是","否") -> 否 | Q45: 结业 | R45: 0 | S45: 1
A46: 41 | B46: 全日制2020软件技术1班 | C46: 20200310114 | D46: 雷鉴袖 | E46: =VLOOKUP(C46,[3]sheet1!$A:$AO,40,0) -> 1 | F46: =VLOOKUP(C46,[3]sheet1!$A:$AO,41,0) -> 预就业实习 | G46: 12 | H46: 8.5 | I46: =SUM(G46:H46) -> 20.5 | J46: 260 | K46: =IF(J46>=120,"是","否") -> 是 | L46: 2510 | M46: =IF(L46>=1800,"是","否") -> 是 | N46: 否 | O46: / | P46: =IF(AND(E46=0,SUM(G46:H46)>=15,G46>=6,H46>=5,J46>=120,L46>=1800),"是","否") -> 否 | Q46: 结业 | R46: 0 | S46: 1
A47: 42 | B47: 全日制2020软件技术1班 | C47: 20200310105 | D47: 黄敏沣 | E47: =VLOOKUP(C47,[3]sheet1!$A:$AO,40,0) -> 2 | F47: =VLOOKUP(C47,[3]sheet1!$A:$AO,41,0) -> 预就业实习职业素养实习与劳动教育 | G47: 12 | H47: 8.5 | I47: =SUM(G47:H47) -> 20.5 | J47: 193 | K47: =IF(J47>=120,"是","否") -> 是 | L47: 2410 | M47: =IF(L47>=1800,"是","否") -> 是 | N47: 否 | O47: / | P47: =IF(AND(E47=0,SUM(G47:H47)>=15,G47>=6,H47>=5,J47>=120,L47>=1800),"是","否") -> 否 | Q47: 结业 | R47: 0 | S47: 1
A48: 43 | B48: 全日制2020软件技术1班 | C48: 20200310092 | D48: 陈柏霖 | E48: =VLOOKUP(C48,[3]sheet1!$A:$AO,40,0) -> 2 | F48: =VLOOKUP(C48,[3]sheet1!$A:$AO,41,0) -> 预就业实习职业素养实习与劳动教育 | G48: 10 | H48: 8.5 | I48: =SUM(G48:H48) -> 18.5 | J48: 206 | K48: =IF(J48>=120,"是","否") -> 是 | L48: 2660 | M48: =IF(L48>=1800,"是","否") -> 是 | N48: 否 | O48: / | P48: =IF(AND(E48=0,SUM(G48:H48)>=15,G48>=6,H48>=5,J48>=120,L48>=1800),"是","否") -> 否 | Q48: 结业 | R48: 0 | S48: 1
A49: 44 | B49: 全日制2020软件技术1班 | C49: 20200310134 | D49: 覃崇峻 | E49: =VLOOKUP(C49,[3]sheet1!$A:$AO,40,0) -> 2 | F49: =VLOOKUP(C49,[3]sheet1!$A:$AO,41,0) -> 预就业实习职业素养实习与劳动教育 | G49: 12 | H49: 8.5 | I49: =SUM(G49:H49) -> 20.5 | J49: 333 | K49: =IF(J49>=120,"是","否") -> 是 | L49: 2680 | M49: =IF(L49>=1800,"是","否") -> 是 | N49: 否 | O49: / | P49: =IF(AND(E49=0,SUM(G49:H49)>=15,G49>=6,H49>=5,J49>=120,L49>=1800),"是","否") -> 否 | Q49: 结业 | R49: 0 | S49: 1
A50: 45 | B50: 全日制2020软件技术1班 | C50: 20200310131 | D50: 石智文 | E50: =VLOOKUP(C50,[3]sheet1!$A:$AO,40,0) -> 2 | F50: =VLOOKUP(C50,[3]sheet1!$A:$AO,41,0) -> 预就业实习职业素养实习与劳动教育 | G50: 10 | H50: 8.5 | I50: =SUM(G50:H50) -> 18.5 | J50: 183 | K50: =IF(J50>=120,"是","否") -> 是 | L50: 2460 | M50: =IF(L50>=1800,"是","否") -> 是 | N50: 否 | O50: / | P50: =IF(AND(E50=0,SUM(G50:H50)>=15,G50>=6,H50>=5,J50>=120,L50>=1800),"是","否") -> 否 | Q50: 结业 | R50: 0 | S50: 1
A51: 46 | B51: 全日制2020软件技术1班 | C51: 20200310133 | D51: 苏林 | E51: =VLOOKUP(C51,[3]sheet1!$A:$AO,40,0) -> 3 | F51: =VLOOKUP(C51,[3]sheet1!$A:$AO,41,0) -> 移动应用开发预就业实习职业素养实习与劳动教育 | G51: 6 | H51: 8.5 | I51: =SUM(G51:H51) -> 14.5 | J51: 184 | K51: =IF(J51>=120,"是","否") -> 是 | L51: 2460 | M51: =IF(L51>=1800,"是","否") -> 是 | N51: 否 | O51: / | P51: =IF(AND(E51=0,SUM(G51:H51)>=15,G51>=6,H51>=5,J51>=120,L51>=1800),"是","否") -> 否 | Q51: 结业 | R51: 0 | S51: 1.2
A52: 47 | B52: 全日制2020软件技术1班 | C52: 20200310146 | D52: 赵德良 | E52: =VLOOKUP(C52,[3]sheet1!$A:$AO,40,0) -> 5 | F52: =VLOOKUP(C52,[3]sheet1!$A:$AO,41,0) -> 软件实施与运维数据库技术软件项目开发工程组织管理预就业实习职业素养实习与劳动教育 | G52: 8 | H52: 6.5 | I52: =SUM(G52:H52) -> 14.5 | J52: 336 | K52: =IF(J52>=120,"是","否") -> 是 | L52: 3070 | M52: =IF(L52>=1800,"是","否") -> 是 | N52: 否 | O52: / | P52: =IF(AND(E52=0,SUM(G52:H52)>=15,G52>=6,H52>=5,J52>=120,L52>=1800),"是","否") -> 否 | Q52: 结业 | R52: 0 | S52: 1.2
A53: 48 | B53: 全日制2020软件技术2班 | C53: 20200310013 | D53: 李浯广 | E53: =VLOOKUP(C53,[3]sheet1!$A:$AO,40,0) -> 0 | F53: =VLOOKUP(C53,[3]sheet1!$A:$AO,41,0) | G53: 10 | H53: 9 | I53: =SUM(G53:H53) -> 19 | J53: 512 | K53: =IF(J53>=120,"是","否") -> 是 | L53: 3400 | M53: =IF(L53>=1800,"是","否") -> 是 | N53: 否 | O53: / | P53: =IF(AND(E53=0,SUM(G53:H53)>=15,G53>=6,H53>=5,J53>=120,L53>=1800),"是","否") -> 是 | Q53: 毕业 | R53: 0
A54: 49 | B54: 全日制2020软件技术2班 | C54: 20200310088 | D54: 谢静月 | E54: =VLOOKUP(C54,[3]sheet1!$A:$AO,40,0) -> 0 | F54: =VLOOKUP(C54,[3]sheet1!$A:$AO,41,0) | G54: 12 | H54: 9 | I54: =SUM(G54:H54) -> 21 | J54: 370 | K54: =IF(J54>=120,"是","否") -> 是 | L54: 3000 | M54: =IF(L54>=1800,"是","否") -> 是 | N54: 否 | O54: / | P54: =IF(AND(E54=0,SUM(G54:H54)>=15,G54>=6,H54>=5,J54>=120,L54>=1800),"是","否") -> 是 | Q54: 毕业 | R54: 0
A55: 50 | B55: 全日制2020软件技术2班 | C55: 20200310090 | D55: 郑照鸿 | E55: =VLOOKUP(C55,[3]sheet1!$A:$AO,40,0) -> 0 | F55: =VLOOKUP(C55,[3]sheet1!$A:$AO,41,0) | G55: 14 | H55: 7 | I55: =SUM(G55:H55) -> 21 | J55: 274 | K55: =IF(J55>=120,"是","否") -> 是 | L55: 2800 | M55: =IF(L55>=1800,"是","否") -> 是 | N55: 否 | O55: / | P55: =IF(AND(E55=0,SUM(G55:H55)>=15,G55>=6,H55>=5,J55>=120,L55>=1800),"是","否") -> 是 | Q55: 毕业 | R55: 0
A56: 51 | B56: 全日制2020软件技术2班 | C56: 20200310143 | D56: 占思文 | E56: =VLOOKUP(C56,[3]sheet1!$A:$AO,40,0) -> 0 | F56: =VLOOKUP(C56,[3]sheet1!$A:$AO,41,0) | G56: 12 | H56: 9 | I56: =SUM(G56:H56) -> 21 | J56: 362 | K56: =IF(J56>=120,"是","否") -> 是 | L56: 2790 | M56: =IF(L56>=1800,"是","否") -> 是 | N56: 否 | O56: / | P56: =IF(AND(E56=0,SUM(G56:H56)>=15,G56>=6,H56>=5,J56>=120,L56>=1800),"是","否") -> 是 | Q56: 毕业 | R56: 0
A57: 52 | B57: 全日制2020软件技术2班 | C57: 20200310063 | D57: 陈东丽 | E57: =VLOOKUP(C57,[3]sheet1!$A:$AO,40,0) -> 0 | F57: =VLOOKUP(C57,[3]sheet1!$A:$AO,41,0) | G57: 12 | H57: 9 | I57: =SUM(G57:H57) -> 21 | J57: 334 | K57: =IF(J57>=120,"是","否") -> 是 | L57: 2460 | M57: =IF(L57>=1800,"是","否") -> 是 | N57: 否 | O57: / | P57: =IF(AND(E57=0,SUM(G57:H57)>=15,G57>=6,H57>=5,J57>=120,L57>=1800),"是","否") -> 是 | Q57: 毕业 | R57: 0
A58: 53 | B58: 全日制2020软件技术2班 | C58: 20200310077 | D58: 罗旭轩 | E58: =VLOOKUP(C58,[3]sheet1!$A:$AO,40,0) -> 0 | F58: =VLOOKUP(C58,[3]sheet1!$A:$AO,41,0) | G58: 11 | H58: 9 | I58: =SUM(G58:H58) -> 20 | J58: 431 | K58: =IF(J58>=120,"是","否") -> 是 | L58: 3210 | M58: =IF(L58>=1800,"是","否") -> 是 | N58: 否 | O58: / | P58: =IF(AND(E58=0,SUM(G58:H58)>=15,G58>=6,H58>=5,J58>=120,L58>=1800),"是","否") -> 是 | Q58: 毕业 | R58: 0
A59: 54 | B59: 全日制2020软件技术2班 | C59: 20200310061 | D59: 曾世祥 | E59: =VLOOKUP(C59,[3]sheet1!$A:$AO,40,0) -> 0 | F59: =VLOOKUP(C59,[3]sheet1!$A:$AO,41,0) | G59: 10 | H59: 7 | I59: =SUM(G59:H59) -> 17 | J59: 244 | K59: =IF(J59>=120,"是","否") -> 是 | L59: 2420 | M59: =IF(L59>=1800,"是","否") -> 是 | N59: 否 | O59: / | P59: =IF(AND(E59=0,SUM(G59:H59)>=15,G59>=6,H59>=5,J59>=120,L59>=1800),"是","否") -> 是 | Q59: 毕业 | R59: 0
A60: 55 | B60: 全日制2020软件技术2班 | C60: 20200310029 | D60: 罗宇 | E60: =VLOOKUP(C60,[3]sheet1!$A:$AO,40,0) -> 0 | F60: =VLOOKUP(C60,[3]sheet1!$A:$AO,41,0) | G60: 12 | H60: 9 | I60: =SUM(G60:H60) -> 21 | J60: 210 | K60: =IF(J60>=120,"是","否") -> 是 | L60: 3030 | M60: =IF(L60>=1800,"是","否") -> 是 | N60: 否 | O60: / | P60: =IF(AND(E60=0,SUM(G60:H60)>=15,G60>=6,H60>=5,J60>=120,L60>=1800),"是","否") -> 是 | Q60: 毕业 | R60: 0
A61: 56 | B61: 全日制2020软件技术2班 | C61: 20200310018 | D61: 梁卓艺 | E61: =VLOOKUP(C61,[3]sheet1!$A:$AO,40,0) -> 0 | F61: =VLOOKUP(C61,[3]sheet1!$A:$AO,41,0) | G61: 10 | H61: 9 | I61: =SUM(G61:H61) -> 19 | J61: 282 | K61: =IF(J61>=120,"是","否") -> 是 | L61: 2900 | M61: =IF(L61>=1800,"是","否") -> 是 | N61: 否 | O61: / | P61: =IF(AND(E61=0,SUM(G61:H61)>=15,G61>=6,H61>=5,J61>=120,L61>=1800),"是","否") -> 是 | Q61: 毕业 | R61: 0
A62: 57 | B62: 全日制2020软件技术2班 | C62: 20200310056 | D62: 尹柳建 | E62: =VLOOKUP(C62,[3]sheet1!$A:$AO,40,0) -> 0 | F62: =VLOOKUP(C62,[3]sheet1!$A:$AO,41,0) | G62: 12 | H62: 9 | I62: =SUM(G62:H62) -> 21 | J62: 240 | K62: =IF(J62>=120,"是","否") -> 是 | L62: 2450 | M62: =IF(L62>=1800,"是","否") -> 是 | N62: 否 | O62: / | P62: =IF(AND(E62=0,SUM(G62:H62)>=15,G62>=6,H62>=5,J62>=120,L62>=1800),"是","否") -> 是 | Q62: 毕业 | R62: 0
A63: 58 | B63: 全日制2020软件技术2班 | C63: 20200310028 | D63: 罗佳玲 | E63: =VLOOKUP(C63,[3]sheet1!$A:$AO,40,0) -> 0 | F63: =VLOOKUP(C63,[3]sheet1!$A:$AO,41,0) | G63: 10 | H63: 9 | I63: =SUM(G63:H63) -> 19 | J63: 301 | K63: =IF(J63>=120,"是","否") -> 是 | L63: 2690 | M63: =IF(L63>=1800,"是","否") -> 是 | N63: 否 | O63: / | P63: =IF(AND(E63=0,SUM(G63:H63)>=15,G63>=6,H63>=5,J63>=120,L63>=1800),"是","否") -> 是 | Q63: 毕业 | R63: 0
A64: 59 | B64: 全日制2020软件技术2班 | C64: 20200310047 | D64: 韦承智 | E64: =VLOOKUP(C64,[3]sheet1!$A:$AO,40,0) -> 0 | F64: =VLOOKUP(C64,[3]sheet1!$A:$AO,41,0) | G64: 12 | H64: 9 | I64: =SUM(G64:H64) -> 21 | J64: 420 | K64: =IF(J64>=120,"是","否") -> 是 | L64: 3190 | M64: =IF(L64>=1800,"是","否") -> 是 | N64: 否 | O64: / | P64: =IF(AND(E64=0,SUM(G64:H64)>=15,G64>=6,H64>=5,J64>=120,L64>=1800),"是","否") -> 是 | Q64: 毕业 | R64: 0
A65: 60 | B65: 全日制2020软件技术2班 | C65: 20200310057 | D65: 虞健聪 | E65: =VLOOKUP(C65,[3]sheet1!$A:$AO,40,0) -> 0 | F65: =VLOOKUP(C65,[3]sheet1!$A:$AO,41,0) | G65: 12 | H65: 9 | I65: =SUM(G65:H65) -> 21 | J65: 275 | K65: =IF(J65>=120,"是","否") -> 是 | L65: 2610 | M65: =IF(L65>=1800,"是","否") -> 是 | N65: 否 | O65: / | P65: =IF(AND(E65=0,SUM(G65:H65)>=15,G65>=6,H65>=5,J65>=120,L65>=1800),"是","否") -> 是 | Q65: 毕业 | R65: 0
A66: 61 | B66: 全日制2020软件技术2班 | C66: 20200310031 | D66: 马华 | E66: =VLOOKUP(C66,[3]sheet1!$A:$AO,40,0) -> 2 | F66: =VLOOKUP(C66,[3]sheet1!$A:$AO,41,0) -> 预就业实习职业素养实习与劳动教育 | G66: 8 | H66: 9 | I66: =SUM(G66:H66) -> 17 | J66: 320 | K66: =IF(J66>=120,"是","否") -> 是 | L66: 2640 | M66: =IF(L66>=1800,"是","否") -> 是 | N66: 否 | O66: / | P66: =IF(AND(E66=0,SUM(G66:H66)>=15,G66>=6,H66>=5,J66>=120,L66>=1800),"是","否") -> 否 | Q66: 结业 | R66: 0 | S66: 1
A67: 62 | B67: 全日制2020软件技术2班 | C67: 20200310120 | D67: 廖紫秀 | E67: =VLOOKUP(C67,[3]sheet1!$A:$AO,40,0) -> 0 | F67: =VLOOKUP(C67,[3]sheet1!$A:$AO,41,0) | G67: 10 | H67: 9 | I67: =SUM(G67:H67) -> 19 | J67: 354 | K67: =IF(J67>=120,"是","否") -> 是 | L67: 2770 | M67: =IF(L67>=1800,"是","否") -> 是 | N67: 否 | O67: / | P67: =IF(AND(E67=0,SUM(G67:H67)>=15,G67>=6,H67>=5,J67>=120,L67>=1800),"是","否") -> 是 | Q67: 毕业 | R67: 0
A68: 63 | B68: 全日制2020软件技术2班 | C68: 20200310022 | D68: 刘德宣 | E68: =VLOOKUP(C68,[3]sheet1!$A:$AO,40,0) -> 0 | F68: =VLOOKUP(C68,[3]sheet1!$A:$AO,41,0) | G68: 12 | H68: 9 | I68: =SUM(G68:H68) -> 21 | J68: 233 | K68: =IF(J68>=120,"是","否") -> 是 | L68: 2850 | M68: =IF(L68>=1800,"是","否") -> 是 | N68: 否 | O68: / | P68: =IF(AND(E68=0,SUM(G68:H68)>=15,G68>=6,H68>=5,J68>=120,L68>=1800),"是","否") -> 是 | Q68: 毕业 | R68: 0
A69: 64 | B69: 全日制2020软件技术2班 | C69: 20200310050 | D69: 韦介耿 | E69: =VLOOKUP(C69,[3]sheet1!$A:$AO,40,0) -> 0 | F69: =VLOOKUP(C69,[3]sheet1!$A:$AO,41,0) | G69: 12 | H69: 9 | I69: =SUM(G69:H69) -> 21 | J69: 304 | K69: =IF(J69>=120,"是","否") -> 是 | L69: 2700 | M69: =IF(L69>=1800,"是","否") -> 是 | N69: 否 | O69: / | P69: =IF(AND(E69=0,SUM(G69:H69)>=15,G69>=6,H69>=5,J69>=120,L69>=1800),"是","否") -> 是 | Q69: 毕业 | R69: 0
A70: 65 | B70: 全日制2020软件技术2班 | C70: 20200310044 | D70: 陶慧媛 | E70: =VLOOKUP(C70,[3]sheet1!$A:$AO,40,0) -> 0 | F70: =VLOOKUP(C70,[3]sheet1!$A:$AO,41,0) | G70: 8 | H70: 9 | I70: =SUM(G70:H70) -> 17 | J70: 212 | K70: =IF(J70>=120,"是","否") -> 是 | L70: 2560 | M70: =IF(L70>=1800,"是","否") -> 是 | N70: 否 | O70: / | P70: =IF(AND(E70=0,SUM(G70:H70)>=15,G70>=6,H70>=5,J70>=120,L70>=1800),"是","否") -> 是 | Q70: 毕业 | R70: 0
A71: 66 | B71: 全日制2020软件技术2班 | C71: 20200310083 | D71: 石相业 | E71: =VLOOKUP(C71,[3]sheet1!$A:$AO,40,0) -> 0 | F71: =VLOOKUP(C71,[3]sheet1!$A:$AO,41,0) | G71: 11 | H71: 9 | I71: =SUM(G71:H71) -> 20 | J71: 201 | K71: =IF(J71>=120,"是","否") -> 是 | L71: 2650 | M71: =IF(L71>=1800,"是","否") -> 是 | N71: 否 | O71: / | P71: =IF(AND(E71=0,SUM(G71:H71)>=15,G71>=6,H71>=5,J71>=120,L71>=1800),"是","否") -> 是 | Q71: 毕业 | R71: 0
A72: 67 | B72: 全日制2020软件技术2班 | C72: 20200310073 | D72: 李健迪 | E72: =VLOOKUP(C72,[3]sheet1!$A:$AO,40,0) -> 0 | F72: =VLOOKUP(C72,[3]sheet1!$A:$AO,41,0) | G72: 10 | H72: 9 | I72: =SUM(G72:H72) -> 19 | J72: 311 | K72: =IF(J72>=120,"是","否") -> 是 | L72: 2530 | M72: =IF(L72>=1800,"是","否") -> 是 | N72: 否 | O72: / | P72: =IF(AND(E72=0,SUM(G72:H72)>=15,G72>=6,H72>=5,J72>=120,L72>=1800),"是","否") -> 是 | Q72: 毕业 | R72: 0
A73: 68 | B73: 全日制2020软件技术2班 | C73: 20200310040 | D73: 覃耀林 | E73: =VLOOKUP(C73,[3]sheet1!$A:$AO,40,0) -> 1 | F73: =VLOOKUP(C73,[3]sheet1!$A:$AO,41,0) -> 预就业实习 | G73: 11 | H73: 9 | I73: =SUM(G73:H73) -> 20 | J73: 377 | K73: =IF(J73>=120,"是","否") -> 是 | L73: 3410 | M73: =IF(L73>=1800,"是","否") -> 是 | N73: 否 | O73: / | P73: =IF(AND(E73=0,SUM(G73:H73)>=15,G73>=6,H73>=5,J73>=120,L73>=1800),"是","否") -> 否 | Q73: 结业 | R73: 0 | S73: 1
A74: 69 | B74: 全日制2020软件技术2班 | C74: 20200310058 | D74: 玉恩鹏 | E74: =VLOOKUP(C74,[3]sheet1!$A:$AO,40,0) -> 0 | F74: =VLOOKUP(C74,[3]sheet1!$A:$AO,41,0) | G74: 12 | H74: 9 | I74: =SUM(G74:H74) -> 21 | J74: 231 | K74: =IF(J74>=120,"是","否") -> 是 | L74: 2440 | M74: =IF(L74>=1800,"是","否") -> 是 | N74: 否 | O74: / | P74: =IF(AND(E74=0,SUM(G74:H74)>=15,G74>=6,H74>=5,J74>=120,L74>=1800),"是","否") -> 是 | Q74: 毕业 | R74: 0
A75: 70 | B75: 全日制2020软件技术2班 | C75: 20200310082 | D75: 邱雄杰 | E75: =VLOOKUP(C75,[3]sheet1!$A:$AO,40,0) -> 0 | F75: =VLOOKUP(C75,[3]sheet1!$A:$AO,41,0) | G75: 9 | H75: 11 | I75: =SUM(G75:H75) -> 20 | J75: 198 | K75: =IF(J75>=120,"是","否") -> 是 | L75: 2490 | M75: =IF(L75>=1800,"是","否") -> 是 | N75: 否 | O75: / | P75: =IF(AND(E75=0,SUM(G75:H75)>=15,G75>=6,H75>=5,J75>=120,L75>=1800),"是","否") -> 是 | Q75: 毕业 | R75: 0
A76: 71 | B76: 全日制2020软件技术2班 | C76: 20200310078 | D76: 莫锦标 | E76: =VLOOKUP(C76,[3]sheet1!$A:$AO,40,0) -> 2 | F76: =VLOOKUP(C76,[3]sheet1!$A:$AO,41,0) -> 预就业实习职业素养实习与劳动教育 | G76: 9 | H76: 9 | I76: =SUM(G76:H76) -> 18 | J76: 265 | K76: =IF(J76>=120,"是","否") -> 是 | L76: 2670 | M76: =IF(L76>=1800,"是","否") -> 是 | N76: 否 | O76: / | P76: =IF(AND(E76=0,SUM(G76:H76)>=15,G76>=6,H76>=5,J76>=120,L76>=1800),"是","否") -> 否 | Q76: 结业 | R76: 0 | S76: 1
A77: 72 | B77: 全日制2020软件技术2班 | C77: 20200310118 | D77: 李岩清 | E77: =VLOOKUP(C77,[3]sheet1!$A:$AO,40,0) -> 0 | F77: =VLOOKUP(C77,[3]sheet1!$A:$AO,41,0) | G77: 12 | H77: 9 | I77: =SUM(G77:H77) -> 21 | J77: 242 | K77: =IF(J77>=120,"是","否") -> 是 | L77: 2520 | M77: =IF(L77>=1800,"是","否") -> 是 | N77: 否 | O77: / | P77: =IF(AND(E77=0,SUM(G77:H77)>=15,G77>=6,H77>=5,J77>=120,L77>=1800),"是","否") -> 是 | Q77: 毕业 | R77: 0
A78: 73 | B78: 全日制2020软件技术2班 | C78: 20200310045 | D78: 万泽丞 | E78: =VLOOKUP(C78,[3]sheet1!$A:$AO,40,0) -> 3 | F78: =VLOOKUP(C78,[3]sheet1!$A:$AO,41,0) -> web应用开发web应用开发预就业实习职业素养实习与劳动教育 | G78: 12 | H78: 9 | I78: =SUM(G78:H78) -> 21 | J78: 137 | K78: =IF(J78>=120,"是","否") -> 是 | L78: 2510 | M78: =IF(L78>=1800,"是","否") -> 是 | N78: 否 | O78: / | P78: =IF(AND(E78=0,SUM(G78:H78)>=15,G78>=6,H78>=5,J78>=120,L78>=1800),"是","否") -> 否 | Q78: 结业 | R78: 0 | S78: 1
A79: 74 | B79: 全日制2020软件技术2班 | C79: 20200310074 | D79: 李永岚 | E79: =VLOOKUP(C79,[3]sheet1!$A:$AO,40,0) -> 0 | F79: =VLOOKUP(C79,[3]sheet1!$A:$AO,41,0) | G79: 9 | H79: 9 | I79: =SUM(G79:H79) -> 18 | J79: 148 | K79: =IF(J79>=120,"是","否") -> 是 | L79: 2410 | M79: =IF(L79>=1800,"是","否") -> 是 | N79: 否 | O79: / | P79: =IF(AND(E79=0,SUM(G79:H79)>=15,G79>=6,H79>=5,J79>=120,L79>=1800),"是","否") -> 是 | Q79: 毕业 | R79: 0
A80: 75 | B80: 全日制2020软件技术2班 | C80: 20200310084 | D80: 苏方龙 | E80: =VLOOKUP(C80,[3]sheet1!$A:$AO,40,0) -> 0 | F80: =VLOOKUP(C80,[3]sheet1!$A:$AO,41,0) | G80: 10 | H80: 9 | I80: =SUM(G80:H80) -> 19 | J80: 157 | K80: =IF(J80>=120,"是","否") -> 是 | L80: 2440 | M80: =IF(L80>=1800,"是","否") -> 是 | N80: 否 | O80: / | P80: =IF(AND(E80=0,SUM(G80:H80)>=15,G80>=6,H80>=5,J80>=120,L80>=1800),"是","否") -> 是 | Q80: 毕业 | R80: 0
A81: 76 | B81: 全日制2020软件技术2班 | C81: 20200310024 | D81: 刘毅 | E81: =VLOOKUP(C81,[3]sheet1!$A:$AO,40,0) -> 0 | F81: =VLOOKUP(C81,[3]sheet1!$A:$AO,41,0) | G81: 8 | H81: 11 | I81: =SUM(G81:H81) -> 19 | J81: 391 | K81: =IF(J81>=120,"是","否") -> 是 | L81: 3080 | M81: =IF(L81>=1800,"是","否") -> 是 | N81: 否 | O81: / | P81: =IF(AND(E81=0,SUM(G81:H81)>=15,G81>=6,H81>=5,J81>=120,L81>=1800),"是","否") -> 是 | Q81: 毕业 | R81: 0
A82: 77 | B82: 全日制2020软件技术2班 | C82: 20200310066 | D82: 陈燕麟 | E82: =VLOOKUP(C82,[3]sheet1!$A:$AO,40,0) -> 2 | F82: =VLOOKUP(C82,[3]sheet1!$A:$AO,41,0) -> 预就业实习职业素养实习与劳动教育 | G82: 13 | H82: 9 | I82: =SUM(G82:H82) -> 22 | J82: 152 | K82: =IF(J82>=120,"是","否") -> 是 | L82: 2390 | M82: =IF(L82>=1800,"是","否") -> 是 | N82: 否 | O82: / | P82: =IF(AND(E82=0,SUM(G82:H82)>=15,G82>=6,H82>=5,J82>=120,L82>=1800),"是","否") -> 否 | Q82: 结业 | R82: 0 | S82: 1
A83: 78 | B83: 全日制2020软件技术2班 | C83: 20200310062 | D83: 曾祥泽 | E83: =VLOOKUP(C83,[3]sheet1!$A:$AO,40,0) -> 3 | F83: =VLOOKUP(C83,[3]sheet1!$A:$AO,41,0) -> 软件项目开发工程组织管理预就业实习职业素养实习与劳动教育 | G83: 13 | H83: 9 | I83: =SUM(G83:H83) -> 22 | J83: 130 | K83: =IF(J83>=120,"是","否") -> 是 | L83: 2440 | M83: =IF(L83>=1800,"是","否") -> 是 | N83: 否 | O83: / | P83: =IF(AND(E83=0,SUM(G83:H83)>=15,G83>=6,H83>=5,J83>=120,L83>=1800),"是","否") -> 否 | Q83: 结业 | R83: 0 | S83: 1
A84: 79 | B84: 全日制2020软件技术2班 | C84: 20200310027 | D84: 陆志鹏 | E84: =VLOOKUP(C84,[3]sheet1!$A:$AO,40,0) -> 0 | F84: =VLOOKUP(C84,[3]sheet1!$A:$AO,41,0) | G84: 10 | H84: 9 | I84: =SUM(G84:H84) -> 19 | J84: 162 | K84: =IF(J84>=120,"是","否") -> 是 | L84: 2430 | M84: =IF(L84>=1800,"是","否") -> 是 | N84: 否 | O84: / | P84: =IF(AND(E84=0,SUM(G84:H84)>=15,G84>=6,H84>=5,J84>=120,L84>=1800),"是","否") -> 是 | Q84: 毕业 | R84: 0
A85: 80 | B85: 全日制2020软件技术2班 | C85: 20200310021 | D85: 林蔚 | E85: =VLOOKUP(C85,[3]sheet1!$A:$AO,40,0) -> 0 | F85: =VLOOKUP(C85,[3]sheet1!$A:$AO,41,0) | G85: 12 | H85: 9 | I85: =SUM(G85:H85) -> 21 | J85: 154 | K85: =IF(J85>=120,"是","否") -> 是 | L85: 2470 | M85: =IF(L85>=1800,"是","否") -> 是 | N85: 否 | O85: / | P85: =IF(AND(E85=0,SUM(G85:H85)>=15,G85>=6,H85>=5,J85>=120,L85>=1800),"是","否") -> 是 | Q85: 毕业 | R85: 0
A86: 81 | B86: 全日制2020软件技术2班 | C86: 20200310034 | D86: 祁斌 | E86: =VLOOKUP(C86,[3]sheet1!$A:$AO,40,0) -> 0 | F86: =VLOOKUP(C86,[3]sheet1!$A:$AO,41,0) | G86: 9 | H86: 9 | I86: =SUM(G86:H86) -> 18 | J86: 218 | K86: =IF(J86>=120,"是","否") -> 是 | L86: 2360 | M86: =IF(L86>=1800,"是","否") -> 是 | N86: 否 | O86: / | P86: =IF(AND(E86=0,SUM(G86:H86)>=15,G86>=6,H86>=5,J86>=120,L86>=1800),"是","否") -> 是 | Q86: 毕业 | R86: 0
A87: 82 | B87: 全日制2020软件技术2班 | C87: 20200310043 | D87: 唐运影 | E87: =VLOOKUP(C87,[3]sheet1!$A:$AO,40,0) -> 2 | F87: =VLOOKUP(C87,[3]sheet1!$A:$AO,41,0) -> 预就业实习职业素养实习与劳动教育 | G87: 9 | H87: 9 | I87: =SUM(G87:H87) -> 18 | J87: 143 | K87: =IF(J87>=120,"是","否") -> 是 | L87: 2460 | M87: =IF(L87>=1800,"是","否") -> 是 | N87: 否 | O87: / | P87: =IF(AND(E87=0,SUM(G87:H87)>=15,G87>=6,H87>=5,J87>=120,L87>=1800),"是","否") -> 否 | Q87: 结业 | R87: 0 | S87: 1
A88: 83 | B88: 全日制2020软件技术2班 | C88: 20200310003 | D88: 陈俊伟 | E88: =VLOOKUP(C88,[3]sheet1!$A:$AO,40,0) -> 0 | F88: =VLOOKUP(C88,[3]sheet1!$A:$AO,41,0) | G88: 10 | H88: 9 | I88: =SUM(G88:H88) -> 19 | J88: 224 | K88: =IF(J88>=120,"是","否") -> 是 | L88: 2450 | M88: =IF(L88>=1800,"是","否") -> 是 | N88: 否 | O88: / | P88: =IF(AND(E88=0,SUM(G88:H88)>=15,G88>=6,H88>=5,J88>=120,L88>=1800),"是","否") -> 是 | Q88: 毕业 | R88: 8445.72
A89: 84 | B89: 全日制2020软件技术2班 | C89: 20200310080 | D89: 潘用庆 | E89: =VLOOKUP(C89,[3]sheet1!$A:$AO,40,0) -> 6 | F89: =VLOOKUP(C89,[3]sheet1!$A:$AO,41,0) -> 高职生心理健康教育大学生安全教育(二)形势与政策(二)《云物大智基础》(课外：云物大智部分)预就业实习职业素养实习与劳动教育 | G89: 7 | H89: 9 | I89: =SUM(G89:H89) -> 16 | J89: 185 | K89: =IF(J89>=120,"是","否") -> 是 | L89: 2340 | M89: =IF(L89>=1800,"是","否") -> 是 | N89: 否 | O89: / | P89: =IF(AND(E89=0,SUM(G89:H89)>=15,G89>=6,H89>=5,J89>=120,L89>=1800),"是","否") -> 否 | Q89: 结业 | R89: 0 | S89: 1
A90: 85 | B90: 全日制2020软件技术2班 | C90: 20200310035 | D90: 秦鑫茂 | E90: =VLOOKUP(C90,[3]sheet1!$A:$AO,40,0) -> 2 | F90: =VLOOKUP(C90,[3]sheet1!$A:$AO,41,0) -> 预就业实习职业素养实习与劳动教育 | G90: 20 | H90: 9 | I90: =SUM(G90:H90) -> 29 | J90: 148 | K90: =IF(J90>=120,"是","否") -> 是 | L90: 2310 | M90: =IF(L90>=1800,"是","否") -> 是 | N90: 否 | O90: / | P90: =IF(AND(E90=0,SUM(G90:H90)>=15,G90>=6,H90>=5,J90>=120,L90>=1800),"是","否") -> 否 | Q90: 结业 | R90: 0 | S90: 1
A91: 86 | B91: 全日制2020软件技术2班 | C91: 20200310019 | D91: 廖安孟 | E91: =VLOOKUP(C91,[3]sheet1!$A:$AO,40,0) -> 2 | F91: =VLOOKUP(C91,[3]sheet1!$A:$AO,41,0) -> 大学生安全教育(一)软件实施与运维 | G91: 8 | H91: 9 | I91: =SUM(G91:H91) -> 17 | J91: 176 | K91: =IF(J91>=120,"是","否") -> 是 | L91: 2410 | M91: =IF(L91>=1800,"是","否") -> 是 | N91: 否 | O91: / | P91: =IF(AND(E91=0,SUM(G91:H91)>=15,G91>=6,H91>=5,J91>=120,L91>=1800),"是","否") -> 否 | Q91: 结业 | R91: 0 | S91: 1
A92: 87 | B92: 全日制2020软件技术3班 | C92: 20200310068 | D92: 黄德福 | E92: =VLOOKUP(C92,[3]sheet1!$A:$AO,40,0) -> 0 | F92: =VLOOKUP(C92,[3]sheet1!$A:$AO,41,0) | G92: 12 | H92: 8.5 | I92: =SUM(G92:H92) -> 20.5 | J92: 252 | K92: =IF(J92>=120,"是","否") -> 是 | L92: 2600 | M92: =IF(L92>=1800,"是","否") -> 是 | N92: 否 | O92: / | P92: =IF(AND(E92=0,SUM(G92:H92)>=15,G92>=6,H92>=5,J92>=120,L92>=1800),"是","否") -> 是 | Q92: 毕业 | R92: 0
A93: 88 | B93: 全日制2020软件技术3班 | C93: 20200310036 | D93: 申旺 | E93: =VLOOKUP(C93,[3]sheet1!$A:$AO,40,0) -> 0 | F93: =VLOOKUP(C93,[3]sheet1!$A:$AO,41,0) | G93: 11 | H93: 8.5 | I93: =SUM(G93:H93) -> 19.5 | J93: 291 | K93: =IF(J93>=120,"是","否") -> 是 | L93: 2670 | M93: =IF(L93>=1800,"是","否") -> 是 | N93: 否 | O93: / | P93: =IF(AND(E93=0,SUM(G93:H93)>=15,G93>=6,H93>=5,J93>=120,L93>=1800),"是","否") -> 是 | Q93: 毕业 | R93: 0
A94: 89 | B94: 全日制2020软件技术3班 | C94: 20200310142 | D94: 肖文吉 | E94: =VLOOKUP(C94,[3]sheet1!$A:$AO,40,0) -> 0 | F94: =VLOOKUP(C94,[3]sheet1!$A:$AO,41,0) | G94: 10 | H94: 8.5 | I94: =SUM(G94:H94) -> 18.5 | J94: 388 | K94: =IF(J94>=120,"是","否") -> 是 | L94: 3100 | M94: =IF(L94>=1800,"是","否") -> 是 | N94: 否 | O94: / | P94: =IF(AND(E94=0,SUM(G94:H94)>=15,G94>=6,H94>=5,J94>=120,L94>=1800),"是","否") -> 是 | Q94: 毕业 | R94: 0
A95: 90 | B95: 全日制2020软件技术3班 | C95: 20200310076 | D95: 刘付少辉 | E95: =VLOOKUP(C95,[3]sheet1!$A:$AO,40,0) -> 0 | F95: =VLOOKUP(C95,[3]sheet1!$A:$AO,41,0) | G95: 14 | H95: 8.5 | I95: =SUM(G95:H95) -> 22.5 | J95: 555 | K95: =IF(J95>=120,"是","否") -> 是 | L95: 2970 | M95: =IF(L95>=1800,"是","否") -> 是 | N95: 否 | O95: / | P95: =IF(AND(E95=0,SUM(G95:H95)>=15,G95>=6,H95>=5,J95>=120,L95>=1800),"是","否") -> 是 | Q95: 毕业 | R95: 0
A96: 91 | B96: 全日制2020软件技术3班 | C96: 20200310004 | D96: 甘悦 | E96: =VLOOKUP(C96,[3]sheet1!$A:$AO,40,0) -> 0 | F96: =VLOOKUP(C96,[3]sheet1!$A:$AO,41,0) | G96: 11 | H96: 8.5 | I96: =SUM(G96:H96) -> 19.5 | J96: 432 | K96: =IF(J96>=120,"是","否") -> 是 | L96: 3060 | M96: =IF(L96>=1800,"是","否") -> 是 | N96: 否 | O96: / | P96: =IF(AND(E96=0,SUM(G96:H96)>=15,G96>=6,H96>=5,J96>=120,L96>=1800),"是","否") -> 是 | Q96: 毕业 | R96: 0
A97: 92 | B97: 全日制2020软件技术3班 | C97: 20200310014 | D97: 梁登福 | E97: =VLOOKUP(C97,[3]sheet1!$A:$AO,40,0) -> 0 | F97: =VLOOKUP(C97,[3]sheet1!$A:$AO,41,0) | G97: 11 | H97: 8.5 | I97: =SUM(G97:H97) -> 19.5 | J97: 281 | K97: =IF(J97>=120,"是","否") -> 是 | L97: 2570 | M97: =IF(L97>=1800,"是","否") -> 是 | N97: 否 | O97: / | P97: =IF(AND(E97=0,SUM(G97:H97)>=15,G97>=6,H97>=5,J97>=120,L97>=1800),"是","否") -> 是 | Q97: 毕业 | R97: 0
A98: 93 | B98: 全日制2020软件技术3班 | C98: 20200310020 | D98: 林荣刚 | E98: =VLOOKUP(C98,[3]sheet1!$A:$AO,40,0) -> 1 | F98: =VLOOKUP(C98,[3]sheet1!$A:$AO,41,0) -> 预就业实习 | G98: 11 | H98: 8.5 | I98: =SUM(G98:H98) -> 19.5 | J98: 300 | K98: =IF(J98>=120,"是","否") -> 是 | L98: 2600 | M98: =IF(L98>=1800,"是","否") -> 是 | N98: 否 | O98: / | P98: =IF(AND(E98=0,SUM(G98:H98)>=15,G98>=6,H98>=5,J98>=120,L98>=1800),"是","否") -> 否 | Q98: 结业 | R98: 0 | S98: 1
A99: 94 | B99: 全日制2020软件技术3班 | C99: 20200310037 | D99: 宋坤倬 | E99: =VLOOKUP(C99,[3]sheet1!$A:$AO,40,0) -> 0 | F99: =VLOOKUP(C99,[3]sheet1!$A:$AO,41,0) | G99: 11 | H99: 8.5 | I99: =SUM(G99:H99) -> 19.5 | J99: 251 | K99: =IF(J99>=120,"是","否") -> 是 | L99: 2630 | M99: =IF(L99>=1800,"是","否") -> 是 | N99: 否 | O99: / | P99: =IF(AND(E99=0,SUM(G99:H99)>=15,G99>=6,H99>=5,J99>=120,L99>=1800),"是","否") -> 是 | Q99: 毕业 | R99: 0
A100: 95 | B100: 全日制2020软件技术3班 | C100: 20200310017 | D100: 梁秀萍 | E100: =VLOOKUP(C100,[3]sheet1!$A:$AO,40,0) -> 0 | F100: =VLOOKUP(C100,[3]sheet1!$A:$AO,41,0) | G100: 12 | H100: 8.5 | I100: =SUM(G100:H100) -> 20.5 | J100: 362 | K100: =IF(J100>=120,"是","否") -> 是 | L100: 2660 | M100: =IF(L100>=1800,"是","否") -> 是 | N100: 否 | O100: / | P100: =IF(AND(E100=0,SUM(G100:H100)>=15,G100>=6,H100>=5,J100>=120,L100>=1800),"是","否") -> 是 | Q100: 毕业 | R100: 0
A101: 96 | B101: 全日制2020软件技术3班 | C101: 20200310005 | D101: 何传杰 | E101: =VLOOKUP(C101,[3]sheet1!$A:$AO,40,0) -> 0 | F101: =VLOOKUP(C101,[3]sheet1!$A:$AO,41,0) | G101: 11 | H101: 8.5 | I101: =SUM(G101:H101) -> 19.5 | J101: 283 | K101: =IF(J101>=120,"是","否") -> 是 | L101: 2580 | M101: =IF(L101>=1800,"是","否") -> 是 | N101: 否 | O101: / | P101: =IF(AND(E101=0,SUM(G101:H101)>=15,G101>=6,H101>=5,J101>=120,L101>=1800),"是","否") -> 是 | Q101: 毕业 | R101: 0
A102: 97 | B102: 全日制2020软件技术3班 | C102: 20200310054 | D102: 杨丞浦 | E102: =VLOOKUP(C102,[3]sheet1!$A:$AO,40,0) -> 0 | F102: =VLOOKUP(C102,[3]sheet1!$A:$AO,41,0) | G102: 10 | H102: 8.5 | I102: =SUM(G102:H102) -> 18.5 | J102: 260 | K102: =IF(J102>=120,"是","否") -> 是 | L102: 2770 | M102: =IF(L102>=1800,"是","否") -> 是 | N102: 否 | O102: / | P102: =IF(AND(E102=0,SUM(G102:H102)>=15,G102>=6,H102>=5,J102>=120,L102>=1800),"是","否") -> 是 | Q102: 毕业 | R102: 0
A103: 98 | B103: 全日制2020软件技术3班 | C103: 20200310011 | D103: 李杰龙 | E103: =VLOOKUP(C103,[3]sheet1!$A:$AO,40,0) -> 0 | F103: =VLOOKUP(C103,[3]sheet1!$A:$AO,41,0) | G103: 11 | H103: 8.5 | I103: =SUM(G103:H103) -> 19.5 | J103: 235 | K103: =IF(J103>=120,"是","否") -> 是 | L103: 2640 | M103: =IF(L103>=1800,"是","否") -> 是 | N103: 否 | O103: / | P103: =IF(AND(E103=0,SUM(G103:H103)>=15,G103>=6,H103>=5,J103>=120,L103>=1800),"是","否") -> 是 | Q103: 毕业 | R103: 0
A104: 99 | B104: 全日制2020软件技术3班 | C104: 20200310079 | D104: 宁林 | E104: =VLOOKUP(C104,[3]sheet1!$A:$AO,40,0) -> 0 | F104: =VLOOKUP(C104,[3]sheet1!$A:$AO,41,0) | G104: 10 | H104: 8.5 | I104: =SUM(G104:H104) -> 18.5 | J104: 259 | K104: =IF(J104>=120,"是","否") -> 是 | L104: 2430 | M104: =IF(L104>=1800,"是","否") -> 是 | N104: 否 | O104: / | P104: =IF(AND(E104=0,SUM(G104:H104)>=15,G104>=6,H104>=5,J104>=120,L104>=1800),"是","否") -> 是 | Q104: 毕业 | R104: 0
A105: 100 | B105: 全日制2020软件技术3班 | C105: 20200310015 | D105: 梁书涛 | E105: =VLOOKUP(C105,[3]sheet1!$A:$AO,40,0) -> 0 | F105: =VLOOKUP(C105,[3]sheet1!$A:$AO,41,0) | G105: 12 | H105: 8.5 | I105: =SUM(G105:H105) -> 20.5 | J105: 333 | K105: =IF(J105>=120,"是","否") -> 是 | L105: 2740 | M105: =IF(L105>=1800,"是","否") -> 是 | N105: 否 | O105: / | P105: =IF(AND(E105=0,SUM(G105:H105)>=15,G105>=6,H105>=5,J105>=120,L105>=1800),"是","否") -> 是 | Q105: 毕业 | R105: 0
A106: 101 | B106: 全日制2020软件技术3班 | C106: 20200310007 | D106: 何永乾 | E106: =VLOOKUP(C106,[3]sheet1!$A:$AO,40,0) -> 0 | F106: =VLOOKUP(C106,[3]sheet1!$A:$AO,41,0) | G106: 12 | H106: 8.5 | I106: =SUM(G106:H106) -> 20.5 | J106: 244 | K106: =IF(J106>=120,"是","否") -> 是 | L106: 2410 | M106: =IF(L106>=1800,"是","否") -> 是 | N106: 否 | O106: / | P106: =IF(AND(E106=0,SUM(G106:H106)>=15,G106>=6,H106>=5,J106>=120,L106>=1800),"是","否") -> 是 | Q106: 毕业 | R106: 0
A107: 102 | B107: 全日制2020软件技术3班 | C107: 20200310048 | D107: 韦德阳 | E107: =VLOOKUP(C107,[3]sheet1!$A:$AO,40,0) -> 0 | F107: =VLOOKUP(C107,[3]sheet1!$A:$AO,41,0) | G107: 10 | H107: 8.5 | I107: =SUM(G107:H107) -> 18.5 | J107: 219 | K107: =IF(J107>=120,"是","否") -> 是 | L107: 2640 | M107: =IF(L107>=1800,"是","否") -> 是 | N107: 否 | O107: / | P107: =IF(AND(E107=0,SUM(G107:H107)>=15,G107>=6,H107>=5,J107>=120,L107>=1800),"是","否") -> 是 | Q107: 毕业 | R107: 0
A108: 103 | B108: 全日制2020软件技术3班 | C108: 20200310052 | D108: 伍振宇 | E108: =VLOOKUP(C108,[3]sheet1!$A:$AO,40,0) -> 0 | F108: =VLOOKUP(C108,[3]sheet1!$A:$AO,41,0) | G108: 13 | H108: 8.5 | I108: =SUM(G108:H108) -> 21.5 | J108: 373 | K108: =IF(J108>=120,"是","否") -> 是 | L108: 2880 | M108: =IF(L108>=1800,"是","否") -> 是 | N108: 否 | O108: / | P108: =IF(AND(E108=0,SUM(G108:H108)>=15,G108>=6,H108>=5,J108>=120,L108>=1800),"是","否") -> 是 | Q108: 毕业 | R108: 0
...

Sheet UI设计
A1: 柳州职业技术学院2023届毕业生毕业资格审核表
A2: 填表说明： 1.第6、7、8行是填写模板。 2.学号、姓名的信息从《2023届学信网学生信息基础数据》表中按照班级筛选并粘贴。 3.必修课不及格门数填写学生到统计数据为止成绩未达到60分的课程总门数，如李四只有《大学生安全教育》课程不及格，其他已经成绩合格，那么李四必修课不及格门数填写“1”；公共选修课已修学分填写学生到统计数据为止总共修得的学分，如李四共修公共选修课两门（一门课程学分为2分，另一门课程学分3分）并且成绩合格，那么李四公选课程已修学分为“5”，专选课已修学分填写方式与公共选修课填写方式一致。 4.第二课堂学分和诚信分填写具体获得的分数，若第二课堂学分>=120，填写“是”，若＜填“否”；诚信分>=1800，填写“是”，若＜填“否”。 德育审查如有仍未解除的，填写“否”，如没有违纪记录的，在“违纪处分是否解除”栏划斜线“/”。德育审查结果不能留空。 5.假若学生“必修课程不及格门数”为“0”、“选修课已修学分”总分15分（其中公选课学分 ≥6 分，专选课学分≥5 ）、“第二课堂学分>=120”、“诚信分>=1800”都填写“是”，则学生达到毕业要求，在“是否达到毕业资格”填写“是”，若以上条件有一列未达到要求，请填写“否”； 6.请如实填写“欠费金额”。 7.上交纸质材料的时候二级学院要盖公章，电子档不需要盖电子章，但是要如实填写上报日期、专业要与《2023届学信网学生信息基础数据》专业名称一致、专业总人数填写实际在校在籍人数。 8.结业原因填写序号：①必修课未通过②选修课未达标③综合素质考评不达标（综合素质包括第二课堂活动分、诚信分及德育审查项目）
A3: 二级学院（盖章）：电子信息工程学院 专业：软件与信息服务(UI设计方向) 应毕业人数：126 毕业人数：117 结业人数：9 辅导员： 填表日期：
A4: 序号 | B4: 班别 | C4: 学号 | D4: 学生姓名 | E4: 必修课不及格门数 | F4: 必修课不及格具体课程名称 | G4: 选修课学分 | J4: 第二课堂活动分 | L4: 诚信分 | N4: 德育审查 | P4: 是否达到毕业要求 | Q4: 毕结业 结论 | R4: 欠费金额 | S4: 结业 原因
G5: 公选课已修学分 | H5: 专选课已修学分 | I5: 总学分 | J5: 分数 | K5: 是否≥120 | L5: 分数 | M5: 是否≥1800 | N5: 是否有违纪处分 | O5: 违纪处分是否解除
A6: 1 | B6: 全日制2020软件与信息服务(UI设计方向)1班 | C6: 20200318269 | D6: 蒙宇莹 | E6: =VLOOKUP(C6,[9]sheet1!$A:$AQ,42,0) -> 0 | F6: =VLOOKUP(C6,[9]sheet1!$A:$AQ,43,0) | G6: 12 | H6: 7 | I6: =SUM(G6:H6) -> 19 | J6: 540 | K6: =IF(J6>=120,"是","否") -> 是 | L6: 4890 | M6: =IF(L6>=1800,"是","否") -> 是 | N6: 否 | O6: / | P6: =IF(AND(E6=0,SUM(G6:H6)>=15,G6>=6,H6>=5,J6>=120,L6>=1800),"是","否") -> 是 | Q6: 毕业 | R6: 0
A7: 2 | B7: 全日制2020软件与信息服务(UI设计方向)1班 | C7: 20200318232 | D7: 黄焕奎 | E7: =VLOOKUP(C7,[9]sheet1!$A:$AQ,42,0) -> 0 | F7: =VLOOKUP(C7,[9]sheet1!$A:$AQ,43,0) | G7: 13 | H7: 7 | I7: =SUM(G7:H7) -> 20 | J7: 386 | K7: =IF(J7>=120,"是","否") -> 是 | L7: 4730 | M7: =IF(L7>=1800,"是","否") -> 是 | N7: 否 | O7: / | P7: =IF(AND(E7=0,SUM(G7:H7)>=15,G7>=6,H7>=5,J7>=120,L7>=1800),"是","否") -> 是 | Q7: 毕业 | R7: 0
A8: 3 | B8: 全日制2020软件与信息服务(UI设计方向)1班 | C8: 20200318180 | D8: 唐成功 | E8: =VLOOKUP(C8,[9]sheet1!$A:$AQ,42,0) -> 0 | F8: =VLOOKUP(C8,[9]sheet1!$A:$AQ,43,0) | G8: 12 | H8: 7 | I8: =SUM(G8:H8) -> 19 | J8: 205 | K8: =IF(J8>=120,"是","否") -> 是 | L8: 2230 | M8: =IF(L8>=1800,"是","否") -> 是 | N8: 否 | O8: / | P8: =IF(AND(E8=0,SUM(G8:H8)>=15,G8>=6,H8>=5,J8>=120,L8>=1800),"是","否") -> 是 | Q8: 毕业 | R8: 0
A9: 4 | B9: 全日制2020软件与信息服务(UI设计方向)1班 | C9: 20200318173 | D9: 覃爱媛 | E9: =VLOOKUP(C9,[9]sheet1!$A:$AQ,42,0) -> 0 | F9: =VLOOKUP(C9,[9]sheet1!$A:$AQ,43,0) | G9: 16 | H9: 7 | I9: =SUM(G9:H9) -> 23 | J9: 277 | K9: =IF(J9>=120,"是","否") -> 是 | L9: 3200 | M9: =IF(L9>=1800,"是","否") -> 是 | N9: 否 | O9: / | P9: =IF(AND(E9=0,SUM(G9:H9)>=15,G9>=6,H9>=5,J9>=120,L9>=1800),"是","否") -> 是 | Q9: 毕业 | R9: 0
A10: 5 | B10: 全日制2020软件与信息服务(UI设计方向)1班 | C10: 20200318145 | D10: 林明友 | E10: =VLOOKUP(C10,[9]sheet1!$A:$AQ,42,0) -> 0 | F10: =VLOOKUP(C10,[9]sheet1!$A:$AQ,43,0) | G10: 13 | H10: 7 | I10: =SUM(G10:H10) -> 20 | J10: 365 | K10: =IF(J10>=120,"是","否") -> 是 | L10: 4200 | M10: =IF(L10>=1800,"是","否") -> 是 | N10: 否 | O10: / | P10: =IF(AND(E10=0,SUM(G10:H10)>=15,G10>=6,H10>=5,J10>=120,L10>=1800),"是","否") -> 是 | Q10: 毕业 | R10: 0
A11: 6 | B11: 全日制2020软件与信息服务(UI设计方向)1班 | C11: 20200318003 | D11: 陈金霞 | E11: =VLOOKUP(C11,[9]sheet1!$A:$AQ,42,0) -> 0 | F11: =VLOOKUP(C11,[9]sheet1!$A:$AQ,43,0) | G11: 13 | H11: 7 | I11: =SUM(G11:H11) -> 20 | J11: 546 | K11: =IF(J11>=120,"是","否") -> 是 | L11: 3770 | M11: =IF(L11>=1800,"是","否") -> 是 | N11: 否 | O11: / | P11: =IF(AND(E11=0,SUM(G11:H11)>=15,G11>=6,H11>=5,J11>=120,L11>=1800),"是","否") -> 是 | Q11: 毕业 | R11: 0
A12: 7 | B12: 全日制2020软件与信息服务(UI设计方向)1班 | C12: 20200318010 | D12: 邓淼 | E12: =VLOOKUP(C12,[9]sheet1!$A:$AQ,42,0) -> 0 | F12: =VLOOKUP(C12,[9]sheet1!$A:$AQ,43,0) | G12: 13 | H12: 7 | I12: =SUM(G12:H12) -> 20 | J12: 536 | K12: =IF(J12>=120,"是","否") -> 是 | L12: 3590 | M12: =IF(L12>=1800,"是","否") -> 是 | N12: 否 | O12: / | P12: =IF(AND(E12=0,SUM(G12:H12)>=15,G12>=6,H12>=5,J12>=120,L12>=1800),"是","否") -> 是 | Q12: 毕业 | R12: 0
A13: 8 | B13: 全日制2020软件与信息服务(UI设计方向)1班 | C13: 20200318083 | D13: 吴紫梅 | E13: =VLOOKUP(C13,[9]sheet1!$A:$AQ,42,0) -> 0 | F13: =VLOOKUP(C13,[9]sheet1!$A:$AQ,43,0) | G13: 12 | H13: 7 | I13: =SUM(G13:H13) -> 19 | J13: 495 | K13: =IF(J13>=120,"是","否") -> 是 | L13: 3610 | M13: =IF(L13>=1800,"是","否") -> 是 | N13: 否 | O13: / | P13: =IF(AND(E13=0,SUM(G13:H13)>=15,G13>=6,H13>=5,J13>=120,L13>=1800),"是","否") -> 是 | Q13: 毕业 | R13: 0
A14: 9 | B14: 全日制2020软件与信息服务(UI设计方向)1班 | C14: 20200318097 | D14: 郑思妮 | E14: =VLOOKUP(C14,[9]sheet1!$A:$AQ,42,0) -> 0 | F14: =VLOOKUP(C14,[9]sheet1!$A:$AQ,43,0) | G14: 13 | H14: 7 | I14: =SUM(G14:H14) -> 20 | J14: 398 | K14: =IF(J14>=120,"是","否") -> 是 | L14: 3700 | M14: =IF(L14>=1800,"是","否") -> 是 | N14: 否 | O14: / | P14: =IF(AND(E14=0,SUM(G14:H14)>=15,G14>=6,H14>=5,J14>=120,L14>=1800),"是","否") -> 是 | Q14: 毕业 | R14: 0
A15: 10 | B15: 全日制2020软件与信息服务(UI设计方向)1班 | C15: 20200318088 | D15: 杨健 | E15: =VLOOKUP(C15,[9]sheet1!$A:$AQ,42,0) -> 0 | F15: =VLOOKUP(C15,[9]sheet1!$A:$AQ,43,0) | G15: 14 | H15: 7 | I15: =SUM(G15:H15) -> 21 | J15: 248 | K15: =IF(J15>=120,"是","否") -> 是 | L15: 3070 | M15: =IF(L15>=1800,"是","否") -> 是 | N15: 否 | O15: / | P15: =IF(AND(E15=0,SUM(G15:H15)>=15,G15>=6,H15>=5,J15>=120,L15>=1800),"是","否") -> 是 | Q15: 毕业 | R15: 0
A16: 11 | B16: 全日制2020软件与信息服务(UI设计方向)1班 | C16: 20200318168 | D16: 申东亮 | E16: =VLOOKUP(C16,[9]sheet1!$A:$AQ,42,0) -> 0 | F16: =VLOOKUP(C16,[9]sheet1!$A:$AQ,43,0) | G16: 13 | H16: 7 | I16: =SUM(G16:H16) -> 20 | J16: 229 | K16: =IF(J16>=120,"是","否") -> 是 | L16: 3030 | M16: =IF(L16>=1800,"是","否") -> 是 | N16: 否 | O16: / | P16: =IF(AND(E16=0,SUM(G16:H16)>=15,G16>=6,H16>=5,J16>=120,L16>=1800),"是","否") -> 是 | Q16: 毕业 | R16: 0
A17: 12 | B17: 全日制2020软件与信息服务(UI设计方向)1班 | C17: 20200318070 | D17: 韦祺莎 | E17: =VLOOKUP(C17,[9]sheet1!$A:$AQ,42,0) -> 0 | F17: =VLOOKUP(C17,[9]sheet1!$A:$AQ,43,0) | G17: 13 | H17: 7 | I17: =SUM(G17:H17) -> 20 | J17: 288 | K17: =IF(J17>=120,"是","否") -> 是 | L17: 3510 | M17: =IF(L17>=1800,"是","否") -> 是 | N17: 否 | O17: / | P17: =IF(AND(E17=0,SUM(G17:H17)>=15,G17>=6,H17>=5,J17>=120,L17>=1800),"是","否") -> 是 | Q17: 毕业 | R17: 0
... A41: 36 | B41: 全日制2020软件与信息服务(UI设计方向)1班 | C41: 20200406078 | D41: 文毅 | E41: =VLOOKUP(C41,[9]sheet1!$A:$AQ,42,0) -> 0 | F41: =VLOOKUP(C41,[9]sheet1!$A:$AQ,43,0) | G41: 12 | H41: 7 | I41: =SUM(G41:H41) -> 19 | J41: 187 | K41: =IF(J41>=120,"是","否") -> 是 | L41: 2300 | M41: =IF(L41>=1800,"是","否") -> 是 | N41: 否 | O41: / | P41: =IF(AND(E41=0,SUM(G41:H41)>=15,G41>=6,H41>=5,J41>=120,L41>=1800),"是","否") -> 是 | Q41: 毕业 | R41: 0
A42: 37 | B42: 全日制2020软件与信息服务(UI设计方向)1班 | C42: 20200318123 | D42: 黄玉芳 | E42: =VLOOKUP(C42,[9]sheet1!$A:$AQ,42,0) -> 3 | F42: =VLOOKUP(C42,[9]sheet1!$A:$AQ,43,0) -> JavaScript程序设计数据库技术数据库技术预就业实习 | G42: 13 | H42: 9 | I42: =SUM(G42:H42) -> 22 | J42: 247 | K42: =IF(J42>=120,"是","否") -> 是 | L42: 2860 | M42: =IF(L42>=1800,"是","否") -> 是 | N42: 否 | O42: / | P42: =IF(AND(E42=0,SUM(G42:H42)>=15,G42>=6,H42>=5,J42>=120,L42>=1800),"是","否") -> 否 | Q42: 结业 | R42: 0 | S42: 1
A43: 38 | B43: 全日制2020软件与信息服务(UI设计方向)1班 | C43: 20200318139 | D43: 李永亮 | E43: =VLOOKUP(C43,[9]sheet1!$A:$AQ,42,0) -> 0 | F43: =VLOOKUP(C43,[9]sheet1!$A:$AQ,43,0) | G43: 15 | H43: 7 | I43: =SUM(G43:H43) -> 22 | J43: 164 | K43: =IF(J43>=120,"是","否") -> 是 | L43: 2930 | M43: =IF(L43>=1800,"是","否") -> 是 | N43: 否 | O43: / | P43: =IF(AND(E43=0,SUM(G43:H43)>=15,G43>=6,H43>=5,J43>=120,L43>=1800),"是","否") -> 是 | Q43: 毕业 | R43: 0
A44: 39 | B44: 全日制2020软件与信息服务(UI设计方向)1班 | C44: 20200318104 | D44: 陈浩罗杰 | E44: =VLOOKUP(C44,[9]sheet1!$A:$AQ,42,0) -> 2 | F44: =VLOOKUP(C44,[9]sheet1!$A:$AQ,43,0) -> 创新与创业实务形势与政策（四） | G44: 12 | H44: 7 | I44: =SUM(G44:H44) -> 19 | J44: 145 | K44: =IF(J44>=120,"是","否") -> 是 | L44: 1840 | M44: =IF(L44>=1800,"是","否") -> 是 | N44: 否 | O44: / | P44: =IF(AND(E44=0,SUM(G44:H44)>=15,G44>=6,H44>=5,J44>=120,L44>=1800),"是","否") -> 否 | Q44: 结业 | R44: 0 | S44: 1
A45: 40 | B45: 全日制2020软件与信息服务(UI设计方向)1班 | C45: 20200318174 | D45: 覃华庭 | E45: =VLOOKUP(C45,[9]sheet1!$A:$AQ,42,0) -> 1 | F45: =VLOOKUP(C45,[9]sheet1!$A:$AQ,43,0) -> 数据库技术数据库技术 | G45: 6 | H45: 7 | I45: =SUM(G45:H45) -> 13 | J45: 144 | K45: =IF(J45>=120,"是","否") -> 是 | L45: 1820 | M45: =IF(L45>=1800,"是","否") -> 是 | N45: 否 | O45: / | P45: =IF(AND(E45=0,SUM(G45:H45)>=15,G45>=6,H45>=5,J45>=120,L45>=1800),"是","否") -> 否 | Q45: 结业 | R45: 0 | S45: 1.2
A46: 41 | B46: 全日制2020软件与信息服务(UI设计方向)2班 | C46: 20200318208 | D46: 张梅燕 | E46: =VLOOKUP(C46,[9]sheet1!$A:$AQ,42,0) -> 0 | F46: =VLOOKUP(C46,[9]sheet1!$A:$AQ,43,0) | G46: 12 | H46: 7 | I46: =SUM(G46:H46) -> 19 | J46: 901 | K46: =IF(J46>=120,"是","否") -> 是 | L46: 4850 | M46: =IF(L46>=1800,"是","否") -> 是 | N46: 否 | O46: / | P46: =IF(AND(E46=0,SUM(G46:H46)>=15,G46>=6,H46>=5,J46>=120,L46>=1800),"是","否") -> 是 | Q46: 毕业 | R46: 0
A47: 42 | B47: 全日制2020软件与信息服务(UI设计方向)2班 | C47: 20200308101 | D47: 梁伟英 | E47: =VLOOKUP(C47,[9]sheet1!$A:$AQ,42,0) -> 0 | F47: =VLOOKUP(C47,[9]sheet1!$A:$AQ,43,0) | G47: 13 | H47: 7 | I47: =SUM(G47:H47) -> 20 | J47: 433 | K47: =IF(J47>=120,"是","否") -> 是 | L47: 4490 | M47: =IF(L47>=1800,"是","否") -> 是 | N47: 否 | O47: / | P47: =IF(AND(E47=0,SUM(G47:H47)>=15,G47>=6,H47>=5,J47>=120,L47>=1800),"是","否") -> 是 | Q47: 毕业 | R47: 0
A48: 43 | B48: 全日制2020软件与信息服务(UI设计方向)2班 | C48: 20200318161 | D48: 庞丽乡 | E48: =VLOOKUP(C48,[9]sheet1!$A:$AQ,42,0) -> 0 | F48: =VLOOKUP(C48,[9]sheet1!$A:$AQ,43,0) | G48: 12 | H48: 7 | I48: =SUM(G48:H48) -> 19 | J48: 279 | K48: =IF(J48>=120,"是","否") -> 是 | L48: 3640 | M48: =IF(L48>=1800,"是","否") -> 是 | N48: 否 | O48: / | P48: =IF(AND(E48=0,SUM(G48:H48)>=15,G48>=6,H48>=5,J48>=120,L48>=1800),"是","否") -> 是 | Q48: 毕业 | R48: 0
A49: 44 | B49: 全日制2020软件与信息服务(UI设计方向)2班 | C49: 20200318322 | D49: 朱小媛 | E49: =VLOOKUP(C49,[9]sheet1!$A:$AQ,42,0) -> 0 | F49: =VLOOKUP(C49,[9]sheet1!$A:$AQ,43,0) | G49: 11 | H49: 7 | I49: =SUM(G49:H49) -> 18 | J49: 229 | K49: =IF(J49>=120,"是","否") -> 是 | L49: 4440 | M49: =IF(L49>=1800,"是","否") -> 是 | N49: 否 | O49: / | P49: =IF(AND(E49=0,SUM(G49:H49)>=15,G49>=6,H49>=5,J49>=120,L49>=1800),"是","否") -> 是 | Q49: 毕业 | R49: 0
A50: 45 | B50: 全日制2020软件与信息服务(UI设计方向)2班 | C50: 20200318048 | D50: 吕欣欣 | E50: =VLOOKUP(C50,[9]sheet1!$A:$AQ,42,0) -> 0 | F50: =VLOOKUP(C50,[9]sheet1!$A:$AQ,43,0) | G50: 12 | H50: 7 | I50: =SUM(G50:H50) -> 19 | J50: 319 | K50: =IF(J50>=120,"是","否") -> 是 | L50: 4250 | M50: =IF(L50>=1800,"是","否") -> 是 | N50: 否 | O50: / | P50: =IF(AND(E50=0,SUM(G50:H50)>=15,G50>=6,H50>=5,J50>=120,L50>=1800),"是","否") -> 是 | Q50: 毕业 | R50: 0
A51: 46 | B51: 全日制2020软件与信息服务(UI设计方向)2班 | C51: 20200318184 | D51: 韦炳航 | E51: =VLOOKUP(C51,[9]sheet1!$A:$AQ,42,0) -> 0 | F51: =VLOOKUP(C51,[9]sheet1!$A:$AQ,43,0) | G51: 11 | H51: 7 | I51: =SUM(G51:H51) -> 18 | J51: 299 | K51: =IF(J51>=120,"是","否") -> 是 | L51: 3340 | M51: =IF(L51>=1800,"是","否") -> 是 | N51: 否 | O51: / | P51: =IF(AND(E51=0,SUM(G51:H51)>=15,G51>=6,H51>=5,J51>=120,L51>=1800),"是","否") -> 是 | Q51: 毕业 | R51: 0
A52: 47 | B52: 全日制2020软件与信息服务(UI设计方向)2班 | C52: 20200318044 | D52: 陆合 | E52: =VLOOKUP(C52,[9]sheet1!$A:$AQ,42,0) -> 0 | F52: =VLOOKUP(C52,[9]sheet1!$A:$AQ,43,0) | G52: 14 | H52: 7 | I52: =SUM(G52:H52) -> 21 | J52: 427 | K52: =IF(J52>=120,"是","否") -> 是 | L52: 3940 | M52: =IF(L52>=1800,"是","否") -> 是 | N52: 否 | O52: / | P52: =IF(AND(E52=0,SUM(G52:H52)>=15,G52>=6,H52>=5,J52>=120,L52>=1800),"是","否") -> 是 | Q52: 毕业 | R52: 0
A53: 48 | B53: 全日制2020软件与信息服务(UI设计方向)2班 | C53: 20200318280 | D53: 谭楷凡 | E53: =VLOOKUP(C53,[9]sheet1!$A:$AQ,42,0) -> 0 | F53: =VLOOKUP(C53,[9]sheet1!$A:$AQ,43,0) | G53: 12 | H53: 7 | I53: =SUM(G53:H53) -> 19 | J53: 376 | K53: =IF(J53>=120,"是","否") -> 是 | L53: 3790 | M53: =IF(L53>=1800,"是","否") -> 是 | N53: 否 | O53: / | P53: =IF(AND(E53=0,SUM(G53:H53)>=15,G53>=6,H53>=5,J53>=120,L53>=1800),"是","否") -> 是 | Q53: 毕业 | R53: 0
A54: 49 | B54: 全日制2020软件与信息服务(UI设计方向)2班 | C54: 20200202051 | D54: 李湘灵 | E54: =VLOOKUP(C54,[9]sheet1!$A:$AQ,42,0) -> 0 | F54: =VLOOKUP(C54,[9]sheet1!$A:$AQ,43,0) | G54: 15 | H54: 7 | I54: =SUM(G54:H54) -> 22 | J54: 242 | K54: =IF(J54>=120,"是","否") -> 是 | L54: 2710 | M54: =IF(L54>=1800,"是","否") -> 是 | N54: 否 | O54: / | P54: =IF(AND(E54=0,SUM(G54:H54)>=15,G54>=6,H54>=5,J54>=120,L54>=1800),"是","否") -> 是 | Q54: 毕业 | R54: 0
A55: 50 | B55: 全日制2020软件与信息服务(UI设计方向)2班 | C55: 20200318295 | D55: 韦宇源 | E55: =VLOOKUP(C55,[9]sheet1!$A:$AQ,42,0) -> 0 | F55: =VLOOKUP(C55,[9]sheet1!$A:$AQ,43,0) | G55: 10 | H55: 7 | I55: =SUM(G55:H55) -> 17 | J55: 220 | K55: =IF(J55>=120,"是","否") -> 是 | L55: 3810 | M55: =IF(L55>=1800,"是","否") -> 是 | N55: 否 | O55: / | P55: =IF(AND(E55=0,SUM(G55:H55)>=15,G55>=6,H55>=5,J55>=120,L55>=1800),"是","否") -> 是 | Q55: 毕业 | R55: 0
A56: 51 | B56: 全日制2020软件与信息服务(UI设计方向)2班 | C56: 20200318116 | D56: 胡海峰 | E56: =VLOOKUP(C56,[9]sheet1!$A:$AQ,42,0) -> 0 | F56: =VLOOKUP(C56,[9]sheet1!$A:$AQ,43,0) | G56: 14 | H56: 7 | I56: =SUM(G56:H56) -> 21 | J56: 352 | K56: =IF(J56>=120,"是","否") -> 是 | L56: 4150 | M56: =IF(L56>=1800,"是","否") -> 是 | N56: 否 | O56: / | P56: =IF(AND(E56=0,SUM(G56:H56)>=15,G56>=6,H56>=5,J56>=120,L56>=1800),"是","否") -> 是 | Q56: 毕业 | R56: 0
