Workbook

Sheet 大数据技术与应用
A1: 柳州职业技术学院2023届毕业生毕业资格审核表
A2: 填表说明： 1.第6、7、8行是填写模板。 2.学号、姓名的信息从《2023届学信网学生信息基础数据》表中按照班级筛选并粘贴。 3.必修课不及格门数填写学生到统计数据为止成绩未达到60分的课程总门数，如李四只有《大学生安全教育》课程不及格，其他已经成绩合格，那么李四必修课不及格门数填写“1”；公共选修课已修学分填写学生到统计数据为止总共修得的学分，如李四共修公共选修课两门（一门课程学分为2分，另一门课程学分3分）并且成绩合格，那么李四公选课程已修学分为“5”，专选课已修学分填写方式与公共选修课填写方式一致。 4.第二课堂学分和诚信分填写具体获得的分数，若第二课堂学分>=120，填写“是”，若＜填“否”；诚信分>=1800，填写“是”，若＜填“否”。 德育审查如有仍未解除的，填写“否”，如没有违纪记录的，在“违纪处分是否解除”栏划斜线“/”。德育审查结果不能留空。 5.假若学生“必修课程不及格门数”为“0”、“选修课已修学分”总分15分（其中公选课学分 ≥6 分，专选课学分≥5 ）、“第二课堂学分>=120”、“诚信分>=1800”都填写“是”，则学生达到毕业要求，在“是否达到毕业资格”填写“是”，若以上条件有一列未达到要求，请填写“否”； 6.请如实填写“欠费金额”。 7.上交纸质材料的时候二级学院要盖公章，电子档不需要盖电子章，但是要如实填写上报日期、专业要与《2023届学信网学生信息基础数据》专业名称一致、专业总人数填写实际在校在籍人数。 8.结业原因填写序号：①必修课未通过②选修课未达标③综合素质考评不达标（综合素质包括第二课堂活动分、诚信分及德育审查项目）
A3: 二级学院（盖章）：电子信息工程学院 专业：大数据技术与应用 应毕业人数：80 毕业人数：67 结业人数：13 辅导员： 填表日期：
A4: 序号 | B4: 班别 | C4: 学号 | D4: 学生姓名 | E4: 必修课不及格门数 | F4: 必修课不及格具体课程名称 | G4: 选修课学分 | J4: 第二课堂活动分 | L4: 诚信分 | N4: 德育审查 | P4: 是否达到毕业要求 | Q4: 毕结业 结论 | R4: 欠费金额 | S4: 结业 原因
G5: 公选课已修学分 | H5: 专选课已修学分 | I5: 总学分 | J5: 分数 | K5: 是否≥120 | L5: 分数 | M5: 是否≥1800 | N5: 是否有违纪处分 | O5: 违纪处分是否解除
A6: 1 | B6: 全日制2020大数据技术与应用1班 | C6: 20200205153 | D6: 廖文鹏 | E6: =VLOOKUP(C6,[5]sheet1!$A:$AU,46,0) -> 0 | F6: =VLOOKUP(C6,[5]sheet1!$A:$AU,47,0) | G6: 12 | H6: 8 | I6: =SUM(G6:H6) -> 20 | J6: 254 | K6: =IF(J6>=120,"是","否") -> 是 | L6: 3510 | M6: =IF(L6>=1800,"是","否") -> 是 | N6: 否 | O6: / | P6: =IF(AND(E6=0,SUM(G6:H6)>=15,G6>=6,H6>=5,J6>=120,L6>=1800),"是","否") -> 是 | Q6: 毕业 | R6: 0
A7: 2 | B7: 全日制2020大数据技术与应用1班 | C7: 20200317078 | D7: 王子瑞 | E7: =VLOOKUP(C7,[5]sheet1!$A:$AU,46,0) -> 0 | F7: =VLOOKUP(C7,[5]sheet1!$A:$AU,47,0) | G7: 12 | H7: 8 | I7: =SUM(G7:H7) -> 20 | J7: 245 | K7: =IF(J7>=120,"是","否") -> 是 | L7: 3660 | M7: =IF(L7>=1800,"是","否") -> 是 | N7: 否 | O7: / | P7: =IF(AND(E7=0,SUM(G7:H7)>=15,G7>=6,H7>=5,J7>=120,L7>=1800),"是","否") -> 是 | Q7: 毕业 | R7: 0
A8: 3 | B8: 全日制2020大数据技术与应用1班 | C8: 20200317053 | D8: 何兆龙 | E8: =VLOOKUP(C8,[5]sheet1!$A:$AU,46,0) -> 0 | F8: =VLOOKUP(C8,[5]sheet1!$A:$AU,47,0) | G8: 13 | H8: 8 | I8: =SUM(G8:H8) -> 21 | J8: 280 | K8: =IF(J8>=120,"是","否") -> 是 | L8: 3060 | M8: =IF(L8>=1800,"是","否") -> 是 | N8: 否 | O8: / | P8: =IF(AND(E8=0,SUM(G8:H8)>=15,G8>=6,H8>=5,J8>=120,L8>=1800),"是","否") -> 是 | Q8: 毕业 | R8: 0
A9: 4 | B9: 全日制2020大数据技术与应用1班 | C9: 20200317085 | D9: 张玉妍 | E9: =VLOOKUP(C9,[5]sheet1!$A:$AU,46,0) -> 0 | F9: =VLOOKUP(C9,[5]sheet1!$A:$AU,47,0) | G9: 12 | H9: 8 | I9: =SUM(G9:H9) -> 20 | J9: 301 | K9: =IF(J9>=120,"是","否") -> 是 | L9: 4030 | M9: =IF(L9>=1800,"是","否") -> 是 | N9: 否 | O9: / | P9: =IF(AND(E9=0,SUM(G9:H9)>=15,G9>=6,H9>=5,J9>=120,L9>=1800),"是","否") -> 是 | Q9: 毕业 | R9: 0
A10: 5 | B10: 全日制2020大数据技术与应用1班 | C10: 20200317061 | D10: 黎远柱 | E10: =VLOOKUP(C10,[5]sheet1!$A:$AU,46,0) -> 0 | F10: =VLOOKUP(C10,[5]sheet1!$A:$AU,47,0) | G10: 12 | H10: 8 | I10: =SUM(G10:H10) -> 20 | J10: 243 | K10: =IF(J10>=120,"是","否") -> 是 | L10: 3360 | M10: =IF(L10>=1800,"是","否") -> 是 | N10: 否 | O10: / | P10: =IF(AND(E10=0,SUM(G10:H10)>=15,G10>=6,H10>=5,J10>=120,L10>=1800),"是","否") -> 是 | Q10: 毕业 | R10: 0
A11: 6 | B11: 全日制2020大数据技术与应用1班 | C11: 20200317056 | D11: 黄丽娜 | E11: =VLOOKUP(C11,[5]sheet1!$A:$AU,46,0) -> 0 | F11: =VLOOKUP(C11,[5]sheet1!$A:$AU,47,0) | G11: 12 | H11: 8 | I11: =SUM(G11:H11) -> 20 | J11: 258 | K11: =IF(J11>=120,"是","否") -> 是 | L11: 3680 | M11: =IF(L11>=1800,"是","否") -> 是 | N11: 否 | O11: / | P11: =IF(AND(E11=0,SUM(G11:H11)>=15,G11>=6,H11>=5,J11>=120,L11>=1800),"是","否") -> 是 | Q11: 毕业 | R11: 0
A12: 7 | B12: 全日制2020大数据技术与应用1班 | C12: 20200317076 | D12: 覃立春 | E12: =VLOOKUP(C12,[5]sheet1!$A:$AU,46,0) -> 0 | F12: =VLOOKUP(C12,[5]sheet1!$A:$AU,47,0) | G12: 11 | H12: 8 | I12: =SUM(G12:H12) -> 19 | J12: 884 | K12: =IF(J12>=120,"是","否") -> 是 | L12: 4410 | M12: =IF(L12>=1800,"是","否") -> 是 | N12: 否 | O12: / | P12: =IF(AND(E12=0,SUM(G12:H12)>=15,G12>=6,H12>=5,J12>=120,L12>=1800),"是","否") -> 是 | Q12: 毕业 | R12: 0
A13: 8 | B13: 全日制2020大数据技术与应用1班 | C13: 20200317020 | D13: 龙明超 | E13: =VLOOKUP(C13,[5]sheet1!$A:$AU,46,0) -> 0 | F13: =VLOOKUP(C13,[5]sheet1!$A:$AU,47,0) | G13: 12 | H13: 8 | I13: =SUM(G13:H13) -> 20 | J13: 336 | K13: =IF(J13>=120,"是","否") -> 是 | L13: 3510 | M13: =IF(L13>=1800,"是","否") -> 是 | N13: 否 | O13: / | P13: =IF(AND(E13=0,SUM(G13:H13)>=15,G13>=6,H13>=5,J13>=120,L13>=1800),"是","否") -> 是 | Q13: 毕业 | R13: 0
A14: 9 | B14: 全日制2020大数据技术与应用1班 | C14: 20200317022 | D14: 卢鑫 | E14: =VLOOKUP(C14,[5]sheet1!$A:$AU,46,0) -> 0 | F14: =VLOOKUP(C14,[5]sheet1!$A:$AU,47,0) | G14: 14 | H14: 8 | I14: =SUM(G14:H14) -> 22 | J14: 314 | K14: =IF(J14>=120,"是","否") -> 是 | L14: 4330 | M14: =IF(L14>=1800,"是","否") -> 是 | N14: 否 | O14: / | P14: =IF(AND(E14=0,SUM(G14:H14)>=15,G14>=6,H14>=5,J14>=120,L14>=1800),"是","否") -> 是 | Q14: 毕业 | R14: 0
A15: 10 | B15: 全日制2020大数据技术与应用1班 | C15: 20200317018 | D15: 刘凯 | E15: =VLOOKUP(C15,[5]sheet1!$A:$AU,46,0) -> 0 | F15: =VLOOKUP(C15,[5]sheet1!$A:$AU,47,0) | G15: 20 | H15: 8 | I15: =SUM(G15:H15) -> 28 | J15: 711 | K15: =IF(J15>=120,"是","否") -> 是 | L15: 5720 | M15: =IF(L15>=1800,"是","否") -> 是 | N15: 否 | O15: / | P15: =IF(AND(E15=0,SUM(G15:H15)>=15,G15>=6,H15>=5,J15>=120,L15>=1800),"是","否") -> 是 | Q15: 毕业 | R15: 0
A16: 11 | B16: 全日制2020大数据技术与应用1班 | C16: 20200317041 | D16: 黄敬智 | E16: =VLOOKUP(C16,[5]sheet1!$A:$AU,46,0) -> 0 | F16: =VLOOKUP(C16,[5]sheet1!$A:$AU,47,0) | G16: 11 | H16: 8 | I16: =SUM(G16:H16) -> 19 | J16: 232 | K16: =IF(J16>=120,"是","否") -> 是 | L16: 3980 | M16: =IF(L16>=1800,"是","否") -> 是 | N16: 否 | O16: / | P16: =IF(AND(E16=0,SUM(G16:H16)>=15,G16>=6,H16>=5,J16>=120,L16>=1800),"是","否") -> 是 | Q16: 毕业 | R16: 0
A17: 12 | B17: 全日制2020大数据技术与应用1班 | C17: 20200317064 | D17: 梁光亮 | E17: =VLOOKUP(C17,[5]sheet1!$A:$AU,46,0) -> 0 | F17: =VLOOKUP(C17,[5]sheet1!$A:$AU,47,0) | G17: 12 | H17: 8 | I17: =SUM(G17:H17) -> 20 | J17: 200 | K17: =IF(J17>=120,"是","否") -> 是 | L17: 3060 | M17: =IF(L17>=1800,"是","否") -> 是 | N17: 否 | O17: / | P17: =IF(AND(E17=0,SUM(G17:H17)>=15,G17>=6,H17>=5,J17>=120,L17>=1800),"是","否") -> 是 | Q17: 毕业 | R17: 0
... A38: 33 | B38: 全日制2020大数据技术与应用1班 | C38: 20200316041 | D38: 马晓春 | E38: =VLOOKUP(C38,[5]sheet1!$A:$AU,46,0) -> 0 | F38: =VLOOKUP(C38,[5]sheet1!$A:$AU,47,0) | G38: 15 | H38: 8 | I38: =SUM(G38:H38) -> 23 | J38: 210 | K38: =IF(J38>=120,"是","否") -> 是 | L38: 2790 | M38: =IF(L38>=1800,"是","否") -> 是 | N38: 否 | O38: / | P38: =IF(AND(E38=0,SUM(G38:H38)>=15,G38>=6,H38>=5,J38>=120,L38>=1800),"是","否") -> 是 | Q38: 毕业 | R38: 0
A39: 34 | B39: 全日制2020大数据技术与应用1班 | C39: 20200317091 | D39: 刘静 | E39: =VLOOKUP(C39,[5]sheet1!$A:$AU,46,0) -> 1 | F39: =VLOOKUP(C39,[5]sheet1!$A:$AU,47,0) -> 预就业实习 | G39: 12 | H39: 8 | I39: =SUM(G39:H39) -> 20 | J39: 240 | K39: =IF(J39>=120,"是","否") -> 是 | L39: 3050 | M39: =IF(L39>=1800,"是","否") -> 是 | N39: 否 | O39: / | P39: =IF(AND(E39=0,SUM(G39:H39)>=15,G39>=6,H39>=5,J39>=120,L39>=1800),"是","否") -> 否 | Q39: 结业 | R39: 0 | S39: 1
A40: 35 | B40: 全日制2020大数据技术与应用1班 | C40: 20200317034 | D40: 吴思婷 | E40: =VLOOKUP(C40,[5]sheet1!$A:$AU,46,0) -> 0 | F40: =VLOOKUP(C40,[5]sheet1!$A:$AU,47,0) | G40: 10 | H40: 8 | I40: =SUM(G40:H40) -> 18 | J40: 210 | K40: =IF(J40>=120,"是","否") -> 是 | L40: 2850 | M40: =IF(L40>=1800,"是","否") -> 是 | N40: 否 | O40: / | P40: =IF(AND(E40=0,SUM(G40:H40)>=15,G40>=6,H40>=5,J40>=120,L40>=1800),"是","否") -> 是 | Q40: 毕业 | R40: 0
A41: 36 | B41: 全日制2020大数据技术与应用1班 | C41: 20200317005 | D41: 丁伟 | E41: =VLOOKUP(C41,[5]sheet1!$A:$AU,46,0) -> 0 | F41: =VLOOKUP(C41,[5]sheet1!$A:$AU,47,0) | G41: 15 | H41: 8 | I41: =SUM(G41:H41) -> 23 | J41: 204 | K41: =IF(J41>=120,"是","否") -> 是 | L41: 2200 | M41: =IF(L41>=1800,"是","否") -> 是 | N41: 否 | O41: / | P41: =IF(AND(E41=0,SUM(G41:H41)>=15,G41>=6,H41>=5,J41>=120,L41>=1800),"是","否") -> 是 | Q41: 毕业 | R41: 0
A42: 37 | B42: 全日制2020大数据技术与应用1班 | C42: 20200317011 | D42: 黄柳菲 | E42: =VLOOKUP(C42,[5]sheet1!$A:$AU,46,0) -> 0 | F42: =VLOOKUP(C42,[5]sheet1!$A:$AU,47,0) | G42: 11 | H42: 8 | I42: =SUM(G42:H42) -> 19 | J42: 207 | K42: =IF(J42>=120,"是","否") -> 是 | L42: 2890 | M42: =IF(L42>=1800,"是","否") -> 是 | N42: 否 | O42: / | P42: =IF(AND(E42=0,SUM(G42:H42)>=15,G42>=6,H42>=5,J42>=120,L42>=1800),"是","否") -> 是 | Q42: 毕业 | R42: 0
A43: 38 | B43: 全日制2020大数据技术与应用1班 | C43: 20200317023 | D43: 骆冠杰 | E43: =VLOOKUP(C43,[5]sheet1!$A:$AU,46,0) -> 0 | F43: =VLOOKUP(C43,[5]sheet1!$A:$AU,47,0) | G43: 14 | H43: 8 | I43: =SUM(G43:H43) -> 22 | J43: 371 | K43: =IF(J43>=120,"是","否") -> 是 | L43: 1900 | M43: =IF(L43>=1800,"是","否") -> 是 | N43: 否 | O43: / | P43: =IF(AND(E43=0,SUM(G43:H43)>=15,G43>=6,H43>=5,J43>=120,L43>=1800),"是","否") -> 是 | Q43: 毕业 | R43: 0
A44: 39 | B44: 全日制2020大数据技术与应用1班 | C44: 20200317089 | D44: 彭荟珊 | E44: =VLOOKUP(C44,[5]sheet1!$A:$AU,46,0) -> 0 | F44: =VLOOKUP(C44,[5]sheet1!$A:$AU,47,0) | G44: 12 | H44: 8 | I44: =SUM(G44:H44) -> 20 | J44: 222 | K44: =IF(J44>=120,"是","否") -> 是 | L44: 2890 | M44: =IF(L44>=1800,"是","否") -> 是 | N44: 是 | O44: 否 | P44: 否 | Q44: 结业 | R44: 0 | S44: 3
A45: 40 | B45: 全日制2020大数据技术与应用1班 | C45: 20200317068 | D45: 龙鑫 | E45: =VLOOKUP(C45,[5]sheet1!$A:$AU,46,0) -> 0 | F45: =VLOOKUP(C45,[5]sheet1!$A:$AU,47,0) | G45: 15 | H45: 8 | I45: =SUM(G45:H45) -> 23 | J45: 241 | K45: =IF(J45>=120,"是","否") -> 是 | L45: 2540 | M45: =IF(L45>=1800,"是","否") -> 是 | N45: 否 | O45: / | P45: =IF(AND(E45=0,SUM(G45:H45)>=15,G45>=6,H45>=5,J45>=120,L45>=1800),"是","否") -> 是 | Q45: 毕业 | R45: 0
A46: 41 | B46: 全日制2020大数据技术与应用1班 | C46: 20200317004 | D46: 邓扬颂 | E46: =VLOOKUP(C46,[5]sheet1!$A:$AU,46,0) -> 0 | F46: =VLOOKUP(C46,[5]sheet1!$A:$AU,47,0) | G46: 12 | H46: 8 | I46: =SUM(G46:H46) -> 20 | J46: 169 | K46: =IF(J46>=120,"是","否") -> 是 | L46: 2630 | M46: =IF(L46>=1800,"是","否") -> 是 | N46: 否 | O46: / | P46: =IF(AND(E46=0,SUM(G46:H46)>=15,G46>=6,H46>=5,J46>=120,L46>=1800),"是","否") -> 是 | Q46: 毕业 | R46: 0
A47: 42 | B47: 全日制2020大数据技术与应用1班 | C47: 20200317088 | D47: 王越 | E47: =VLOOKUP(C47,[5]sheet1!$A:$AU,46,0) -> 1 | F47: =VLOOKUP(C47,[5]sheet1!$A:$AU,47,0) -> Linux系统基础 | G47: 9 | H47: 8 | I47: =SUM(G47:H47) -> 17 | J47: 173 | K47: =IF(J47>=120,"是","否") -> 是 | L47: 1860 | M47: =IF(L47>=1800,"是","否") -> 是 | N47: 否 | O47: / | P47: =IF(AND(E47=0,SUM(G47:H47)>=15,G47>=6,H47>=5,J47>=120,L47>=1800),"是","否") -> 否 | Q47: 结业 | R47: 907.8 | S47: 1
A48: 43 | B48: 全日制2020大数据技术与应用2班 | C48: 20200314068 | D48: 苏桂轩 | E48: =VLOOKUP(C48,[5]sheet1!$A:$AU,46,0) -> 0 | F48: =VLOOKUP(C48,[5]sheet1!$A:$AU,47,0) | G48: 15 | H48: 6.5 | I48: =SUM(G48:H48) -> 21.5 | J48: 296 | K48: =IF(J48>=120,"是","否") -> 是 | L48: 3580 | M48: =IF(L48>=1800,"是","否") -> 是 | N48: 否 | O48: / | P48: =IF(AND(E48=0,SUM(G48:H48)>=15,G48>=6,H48>=5,J48>=120,L48>=1800),"是","否") -> 是 | Q48: 毕业 | R48: 0
A49: 44 | B49: 全日制2020大数据技术与应用2班 | C49: 20200317008 | D49: 韩开呈 | E49: =VLOOKUP(C49,[5]sheet1!$A:$AU,46,0) -> 0 | F49: =VLOOKUP(C49,[5]sheet1!$A:$AU,47,0) | G49: 18 | H49: 6.5 | I49: =SUM(G49:H49) -> 24.5 | J49: 189 | K49: =IF(J49>=120,"是","否") -> 是 | L49: 2710 | M49: =IF(L49>=1800,"是","否") -> 是 | N49: 否 | O49: / | P49: =IF(AND(E49=0,SUM(G49:H49)>=15,G49>=6,H49>=5,J49>=120,L49>=1800),"是","否") -> 是 | Q49: 毕业 | R49: 0
A50: 45 | B50: 全日制2020大数据技术与应用2班 | C50: 20200317069 | D50: 陆大军 | E50: =VLOOKUP(C50,[5]sheet1!$A:$AU,46,0) -> 0 | F50: =VLOOKUP(C50,[5]sheet1!$A:$AU,47,0) | G50: 18 | H50: 6.5 | I50: =SUM(G50:H50) -> 24.5 | J50: 282 | K50: =IF(J50>=120,"是","否") -> 是 | L50: 2910 | M50: =IF(L50>=1800,"是","否") -> 是 | N50: 否 | O50: / | P50: =IF(AND(E50=0,SUM(G50:H50)>=15,G50>=6,H50>=5,J50>=120,L50>=1800),"是","否") -> 是 | Q50: 毕业 | R50: 0
A51: 46 | B51: 全日制2020大数据技术与应用2班 | C51: 20200317081 | D51: 颜林廷 | E51: =VLOOKUP(C51,[5]sheet1!$A:$AU,46,0) -> 0 | F51: =VLOOKUP(C51,[5]sheet1!$A:$AU,47,0) | G51: 17 | H51: 6.5 | I51: =SUM(G51:H51) -> 23.5 | J51: 487 | K51: =IF(J51>=120,"是","否") -> 是 | L51: 3470 | M51: =IF(L51>=1800,"是","否") -> 是 | N51: 否 | O51: / | P51: =IF(AND(E51=0,SUM(G51:H51)>=15,G51>=6,H51>=5,J51>=120,L51>=1800),"是","否") -> 是 | Q51: 毕业 | R51: 0
A52: 47 | B52: 全日制2020大数据技术与应用2班 | C52: 20200317029 | D52: 韦国荣 | E52: =VLOOKUP(C52,[5]sheet1!$A:$AU,46,0) -> 0 | F52: =VLOOKUP(C52,[5]sheet1!$A:$AU,47,0) | G52: 17 | H52: 6.5 | I52: =SUM(G52:H52) -> 23.5 | J52: 277 | K52: =IF(J52>=120,"是","否") -> 是 | L52: 3920 | M52: =IF(L52>=1800,"是","否") -> 是 | N52: 否 | O52: / | P52: =IF(AND(E52=0,SUM(G52:H52)>=15,G52>=6,H52>=5,J52>=120,L52>=1800),"是","否") -> 是 | Q52: 毕业 | R52: 0
A53: 48 | B53: 全日制2020大数据技术与应用2班 | C53: 20200317042 | D53: 赖华昌 | E53: =VLOOKUP(C53,[5]sheet1!$A:$AU,46,0) -> 0 | F53: =VLOOKUP(C53,[5]sheet1!$A:$AU,47,0) | G53: 15 | H53: 6.5 | I53: =SUM(G53:H53) -> 21.5 | J53: 323 | K53: =IF(J53>=120,"是","否") -> 是 | L53: 3000 | M53: =IF(L53>=1800,"是","否") -> 是 | N53: 否 | O53: / | P53: =IF(AND(E53=0,SUM(G53:H53)>=15,G53>=6,H53>=5,J53>=120,L53>=1800),"是","否") -> 是 | Q53: 毕业 | R53: 0
A54: 49 | B54: 全日制2020大数据技术与应用2班 | C54: 20200317035 | D54: 杨红 | E54: =VLOOKUP(C54,[5]sheet1!$A:$AU,46,0) -> 0 | F54: =VLOOKUP(C54,[5]sheet1!$A:$AU,47,0) | G54: 17 | H54: 6.5 | I54: =SUM(G54:H54) -> 23.5 | J54: 485 | K54: =IF(J54>=120,"是","否") -> 是 | L54: 3630 | M54: =IF(L54>=1800,"是","否") -> 是 | N54: 否 | O54: / | P54: =IF(AND(E54=0,SUM(G54:H54)>=15,G54>=6,H54>=5,J54>=120,L54>=1800),"是","否") -> 是 | Q54: 毕业 | R54: 0
A55: 50 | B55: 全日制2020大数据技术与应用2班 | C55: 20200317003 | D55: 陈霜 | E55: =VLOOKUP(C55,[5]sheet1!$A:$AU,46,0) -> 0 | F55: =VLOOKUP(C55,[5]sheet1!$A:$AU,47,0) | G55: 13 | H55: 6.5 | I55: =SUM(G55:H55) -> 19.5 | J55: 302 | K55: =IF(J55>=120,"是","否") -> 是 | L55: 2800 | M55: =IF(L55>=1800,"是","否") -> 是 | N55: 否 | O55: / | P55: =IF(AND(E55=0,SUM(G55:H55)>=15,G55>=6,H55>=5,J55>=120,L55>=1800),"是","否") -> 是 | Q55: 毕业 | R55: 0
A56: 51 | B56: 全日制2020大数据技术与应用2班 | C56: 20200317070 | D56: 陆泽清 | E56: =VLOOKUP(C56,[5]sheet1!$A:$AU,46,0) -> 0 | F56: =VLOOKUP(C56,[5]sheet1!$A:$AU,47,0) | G56: 18 | H56: 6.5 | I56: =SUM(G56:H56) -> 24.5 | J56: 374 | K56: =IF(J56>=120,"是","否") -> 是 | L56: 2950 | M56: =IF(L56>=1800,"是","否") -> 是 | N56: 否 | O56: / | P56: =IF(AND(E56=0,SUM(G56:H56)>=15,G56>=6,H56>=5,J56>=120,L56>=1800),"是","否") -> 是 | Q56: 毕业 | R56: 0
A57: 52 | B57: 全日制2020大数据技术与应用2班 | C57: 20200317071 | D57: 蒙侯丽 | E57: =VLOOKUP(C57,[5]sheet1!$A:$AU,46,0) -> 0 | F57: =VLOOKUP(C57,[5]sheet1!$A:$AU,47,0) | G57: 14 | H57: 6.5 | I57: =SUM(G57:H57) -> 20.5 | J57: 280 | K57: =IF(J57>=120,"是","否") -> 是 | L57: 3230 | M57: =IF(L57>=1800,"是","否") -> 是 | N57: 否 | O57: / | P57: =IF(AND(E57=0,SUM(G57:H57)>=15,G57>=6,H57>=5,J57>=120,L57>=1800),"是","否") -> 是 | Q57: 毕业 | R57: 0
A58: 53 | B58: 全日制2020大数据技术与应用2班 | C58: 20200317049 | D58: 张耀全 | E58: =VLOOKUP(C58,[5]sheet1!$A:$AU,46,0) -> 0 | F58: =VLOOKUP(C58,[5]sheet1!$A:$AU,47,0) | G58: 14 | H58: 6.5 | I58: =SUM(G58:H58) -> 20.5 | J58: 205 | K58: =IF(J58>=120,"是","否") -> 是 | L58: 2480 | M58: =IF(L58>=1800,"是","否") -> 是 | N58: 否 | O58: / | P58: =IF(AND(E58=0,SUM(G58:H58)>=15,G58>=6,H58>=5,J58>=120,L58>=1800),"是","否") -> 是 | Q58: 毕业 | R58: 0
A59: 54 | B59: 全日制2020大数据技术与应用2班 | C59: 20200317084 | D59: 张田田 | E59: =VLOOKUP(C59,[5]sheet1!$A:$AU,46,0) -> 0 | F59: =VLOOKUP(C59,[5]sheet1!$A:$AU,47,0) | G59: 14 | H59: 6.5 | I59: =SUM(G59:H59) -> 20.5 | J59: 337 | K59: =IF(J59>=120,"是","否") -> 是 | L59: 2950 | M59: =IF(L59>=1800,"是","否") -> 是 | N59: 否 | O59: / | P59: =IF(AND(E59=0,SUM(G59:H59)>=15,G59>=6,H59>=5,J59>=120,L59>=1800),"是","否") -> 是 | Q59: 毕业 | R59: 0
... A75: 70 | B75: 全日制2020大数据技术与应用2班 | C75: 20200317060 | D75: 雷启超 | E75: =VLOOKUP(C75,[5]sheet1!$A:$AU,46,0) -> 0 | F75: =VLOOKUP(C75,[5]sheet1!$A:$AU,47,0) | G75: 16 | H75: 6.5 | I75: =SUM(G75:H75) -> 22.5 | J75: 259 | K75: =IF(J75>=120,"是","否") -> 是 | L75: 3690 | M75: =IF(L75>=1800,"是","否") -> 是 | N75: 否 | O75: / | P75: =IF(AND(E75=0,SUM(G75:H75)>=15,G75>=6,H75>=5,J75>=120,L75>=1800),"是","否") -> 是 | Q75: 毕业 | R75: 0
...

Sheet 电子信息工程技术
A1: 柳州职业技术学院2023届毕业生毕业资格审核表
A2: 填表说明： 1.第6、7、8行是填写模板。 2.学号、姓名的信息从《2023届学信网学生信息基础数据》表中按照班级筛选并粘贴。 3.必修课不及格门数填写学生到统计数据为止成绩未达到60分的课程总门数，如李四只有《大学生安全教育》课程不及格，其他已经成绩合格，那么李四必修课不及格门数填写“1”；公共选修课已修学分填写学生到统计数据为止总共修得的学分，如李四共修公共选修课两门（一门课程学分为2分，另一门课程学分3分）并且成绩合格，那么李四公选课程已修学分为“5”，专选课已修学分填写方式与公共选修课填写方式一致。 4.第二课堂学分和诚信分填写具体获得的分数，若第二课堂学分>=120，填写“是”，若＜填“否”；诚信分>=1800，填写“是”，若＜填“否”。 德育审查如有仍未解除的，填写“否”，如没有违纪记录的，在“违纪处分是否解除”栏划斜线“/”。德育审查结果不能留空。 5.假若学生“必修课程不及格门数”为“0”、“选修课已修学分”总分15分（其中公选课学分 ≥6 分，专选课学分≥5 ）、“第二课堂学分>=120”、“诚信分>=1800”都填写“是”，则学生达到毕业要求，在“是否达到毕业资格”填写“是”，若以上条件有一列未达到要求，请填写“否”； 6.请如实填写“欠费金额”。 7.上交纸质材料的时候二级学院要盖公章，电子档不需要盖电子章，但是要如实填写上报日期、专业要与《2023届学信网学生信息基础数据》专业名称一致、专业总人数填写实际在校在籍人数。 8.结业原因填写序号：①必修课未通过②选修课未达标③综合素质考评不达标（综合素质包括第二课堂活动分、诚信分及德育审查项目）
A3: 二级学院（盖章）：电子信息工程学院 专业：电子信息工程技术 应毕业人数：53 毕业人数：42 结业人数：11 辅导员： 填表日期：
A4: 序号 | B4: 班别 | C4: 学号 | D4: 学生姓名 | E4: 必修课不及格门数 | F4: 必修课不及格具体课程名称 | G4: 选修课学分 | J4: 第二课堂活动分 | L4: 诚信分 | N4: 德育审查 | P4: 是否达到毕业要求 | Q4: 毕结业 结论 | R4: 欠费金额 | S4: 结业 原因
G5: 公选课已修学分 | H5: 专选课已修学分 | I5: 总学分 | J5: 分数 | K5: 是否≥120 | L5: 分数 | M5: 是否≥1800 | N5: 是否有违纪处分 | O5: 违纪处分是否解除
A6: 1 | B6: 全日制2020电子信息工程技术1班 | C6: 20200302034 | D6: 邱楚 | E6: =VLOOKUP(C6,[1]sheet1!$A:$AU,46,0) -> 0 | F6: =VLOOKUP(C6,[1]sheet1!$A:$AU,47,0) | G6: 14 | H6: 5 | I6: =SUM(G6:H6) -> 19 | J6: 404 | K6: =IF(J6>=120,"是","否") -> 是 | L6: 3770 | M6: =IF(L6>=1800,"是","否") -> 是 | N6: 否 | O6: / | P6: =IF(AND(E6=0,SUM(G6:H6)>=15,G6>=6,H6>=5,J6>=120,L6>=1800),"是","否") -> 是 | Q6: 毕业 | R6: 0
A7: 2 | B7: 全日制2020电子信息工程技术1班 | C7: 20200302065 | D7: 朱伟灿 | E7: =VLOOKUP(C7,[1]sheet1!$A:$AU,46,0) -> 0 | F7: =VLOOKUP(C7,[1]sheet1!$A:$AU,47,0) | G7: 16 | H7: 6 | I7: =SUM(G7:H7) -> 22 | J7: 642 | K7: =IF(J7>=120,"是","否") -> 是 | L7: 6930 | M7: =IF(L7>=1800,"是","否") -> 是 | N7: 否 | O7: / | P7: =IF(AND(E7=0,SUM(G7:H7)>=15,G7>=6,H7>=5,J7>=120,L7>=1800),"是","否") -> 是 | Q7: 毕业 | R7: 0
A8: 3 | B8: 全日制2020电子信息工程技术1班 | C8: 20200302049 | D8: 李文捷 | E8: =VLOOKUP(C8,[1]sheet1!$A:$AU,46,0) -> 0 | F8: =VLOOKUP(C8,[1]sheet1!$A:$AU,47,0) | G8: 13 | H8: 6 | I8: =SUM(G8:H8) -> 19 | J8: 259 | K8: =IF(J8>=120,"是","否") -> 是 | L8: 2420 | M8: =IF(L8>=1800,"是","否") -> 是 | N8: 否 | O8: / | P8: =IF(AND(E8=0,SUM(G8:H8)>=15,G8>=6,H8>=5,J8>=120,L8>=1800),"是","否") -> 是 | Q8: 毕业 | R8: 0
A9: 4 | B9: 全日制2020电子信息工程技术1班 | C9: 20200302050 | D9: 李志民 | E9: =VLOOKUP(C9,[1]sheet1!$A:$AU,46,0) -> 0 | F9: =VLOOKUP(C9,[1]sheet1!$A:$AU,47,0) | G9: 13 | H9: 5 | I9: =SUM(G9:H9) -> 18 | J9: 252 | K9: =IF(J9>=120,"是","否") -> 是 | L9: 2120 | M9: =IF(L9>=1800,"是","否") -> 是 | N9: 否 | O9: / | P9: =IF(AND(E9=0,SUM(G9:H9)>=15,G9>=6,H9>=5,J9>=120,L9>=1800),"是","否") -> 是 | Q9: 毕业 | R9: 0
A10: 5 | B10: 全日制2020电子信息工程技术1班 | C10: 20180302049 | D10: 杨鸿森 | E10: =VLOOKUP(C10,[1]sheet1!$A:$AU,46,0) -> 0 | F10: =VLOOKUP(C10,[1]sheet1!$A:$AU,47,0) | G10: 15 | H10: 5 | I10: =SUM(G10:H10) -> 20 | J10: 374 | K10: =IF(J10>=120,"是","否") -> 是 | L10: 3550 | M10: =IF(L10>=1800,"是","否") -> 是 | N10: 否 | O10: / | P10: =IF(AND(E10=0,SUM(G10:H10)>=15,G10>=6,H10>=5,J10>=120,L10>=1800),"是","否") -> 是 | Q10: 毕业 | R10: 0
A11: 6 | B11: 全日制2020电子信息工程技术1班 | C11: 20200302064 | D11: 张旭阳 | E11: =VLOOKUP(C11,[1]sheet1!$A:$AU,46,0) -> 0 | F11: =VLOOKUP(C11,[1]sheet1!$A:$AU,47,0) | G11: 11 | H11: 6 | I11: =SUM(G11:H11) -> 17 | J11: 328 | K11: =IF(J11>=120,"是","否") -> 是 | L11: 2630 | M11: =IF(L11>=1800,"是","否") -> 是 | N11: 否 | O11: / | P11: =IF(AND(E11=0,SUM(G11:H11)>=15,G11>=6,H11>=5,J11>=120,L11>=1800),"是","否") -> 是 | Q11: 毕业 | R11: 0
A12: 7 | B12: 全日制2020电子信息工程技术1班 | C12: 20200302016 | D12: 谢凯郝 | E12: =VLOOKUP(C12,[1]sheet1!$A:$AU,46,0) -> 0 | F12: =VLOOKUP(C12,[1]sheet1!$A:$AU,47,0) | G12: 17 | H12: 5 | I12: =SUM(G12:H12) -> 22 | J12: 300 | K12: =IF(J12>=120,"是","否") -> 是 | L12: 2320 | M12: =IF(L12>=1800,"是","否") -> 是 | N12: 否 | O12: / | P12: =IF(AND(E12=0,SUM(G12:H12)>=15,G12>=6,H12>=5,J12>=120,L12>=1800),"是","否") -> 是 | Q12: 毕业 | R12: 0
A13: 8 | B13: 全日制2020电子信息工程技术1班 | C13: 20200302042 | D13: 何卓毅 | E13: =VLOOKUP(C13,[1]sheet1!$A:$AU,46,0) -> 0 | F13: =VLOOKUP(C13,[1]sheet1!$A:$AU,47,0) | G13: 11 | H13: 5 | I13: =SUM(G13:H13) -> 16 | J13: 304 | K13: =IF(J13>=120,"是","否") -> 是 | L13: 2650 | M13: =IF(L13>=1800,"是","否") -> 是 | N13: 否 | O13: / | P13: =IF(AND(E13=0,SUM(G13:H13)>=15,G13>=6,H13>=5,J13>=120,L13>=1800),"是","否") -> 是 | Q13: 毕业 | R13: 0
A14: 9 | B14: 全日制2020电子信息工程技术1班 | C14: 20200302001 | D14: 陈坤远 | E14: =VLOOKUP(C14,[1]sheet1!$A:$AU,46,0) -> 0 | F14: =VLOOKUP(C14,[1]sheet1!$A:$AU,47,0) | G14: 11 | H14: 6 | I14: =SUM(G14:H14) -> 17 | J14: 343 | K14: =IF(J14>=120,"是","否") -> 是 | L14: 2420 | M14: =IF(L14>=1800,"是","否") -> 是 | N14: 否 | O14: / | P14: =IF(AND(E14=0,SUM(G14:H14)>=15,G14>=6,H14>=5,J14>=120,L14>=1800),"是","否") -> 是 | Q14: 毕业 | R14: 0
A15: 10 | B15: 全日制2020电子信息工程技术1班 | C15: 20200302008 | D15: 陆尚志 | E15: =VLOOKUP(C15,[1]sheet1!$A:$AU,46,0) -> 0 | F15: =VLOOKUP(C15,[1]sheet1!$A:$AU,47,0) | G15: 12 | H15: 6 | I15: =SUM(G15:H15) -> 18 | J15: 434 | K15: =IF(J15>=120,"是","否") -> 是 | L15: 3260 | M15: =IF(L15>=1800,"是","否") -> 是 | N15: 否 | O15: / | P15: =IF(AND(E15=0,SUM(G15:H15)>=15,G15>=6,H15>=5,J15>=120,L15>=1800),"是","否") -> 是 | Q15: 毕业 | R15: 0
A16: 11 | B16: 全日制2020电子信息工程技术1班 | C16: 20200101026 | D16: 李培森 | E16: =VLOOKUP(C16,[1]sheet1!$A:$AU,46,0) -> 0 | F16: =VLOOKUP(C16,[1]sheet1!$A:$AU,47,0) | G16: 14 | H16: 6 | I16: =SUM(G16:H16) -> 20 | J16: 296 | K16: =IF(J16>=120,"是","否") -> 是 | L16: 2650 | M16: =IF(L16>=1800,"是","否") -> 是 | N16: 否 | O16: / | P16: =IF(AND(E16=0,SUM(G16:H16)>=15,G16>=6,H16>=5,J16>=120,L16>=1800),"是","否") -> 是 | Q16: 毕业 | R16: 0
A17: 12 | B17: 全日制2020电子信息工程技术1班 | C17: 20200302054 | D17: 磨志辉 | E17: =VLOOKUP(C17,[1]sheet1!$A:$AU,46,0) -> 0 | F17: =VLOOKUP(C17,[1]sheet1!$A:$AU,47,0) | G17: 11 | H17: 6 | I17: =SUM(G17:H17) -> 17 | J17: 266 | K17: =IF(J17>=120,"是","否") -> 是 | L17: 2270 | M17: =IF(L17>=1800,"是","否") -> 是 | N17: 否 | O17: / | P17: =IF(AND(E17=0,SUM(G17:H17)>=15,G17>=6,H17>=5,J17>=120,L17>=1800),"是","否") -> 是 | Q17: 毕业 | R17: 0
... A29: 24 | B29: 全日制2020电子信息工程技术1班 | C29: 20180302082 | D29: 李承禧 | E29: =VLOOKUP(C29,[1]sheet1!$A:$AU,46,0) -> 0 | F29: =VLOOKUP(C29,[1]sheet1!$A:$AU,47,0) | G29: 20 | H29: 6 | I29: =SUM(G29:H29) -> 26 | J29: 312 | K29: =IF(J29>=120,"是","否") -> 是 | L29: 3730 | M29: =IF(L29>=1800,"是","否") -> 是 | N29: 否 | O29: / | P29: =IF(AND(E29=0,SUM(G29:H29)>=15,G29>=6,H29>=5,J29>=120,L29>=1800),"是","否") -> 是 | Q29: 毕业 | R29: 0
A30: 25 | B30: 全日制2020电子信息工程技术1班 | C30: 20200302028 | D30: 刘文祎 | E30: =VLOOKUP(C30,[1]sheet1!$A:$AU,46,0) -> 0 | F30: =VLOOKUP(C30,[1]sheet1!$A:$AU,47,0) | G30: 9 | H30: 5 | I30: =SUM(G30:H30) -> 14 | J30: 258 | K30: =IF(J30>=120,"是","否") -> 是 | L30: 2220 | M30: =IF(L30>=1800,"是","否") -> 是 | N30: 否 | O30: / | P30: =IF(AND(E30=0,SUM(G30:H30)>=15,G30>=6,H30>=5,J30>=120,L30>=1800),"是","否") -> 否 | Q30: 结业 | R30: 0 | S30: 2
A31: 26 | B31: 全日制2020电子信息工程技术1班 | C31: 20200302066 | D31: 朱永寿 | E31: =VLOOKUP(C31,[1]sheet1!$A:$AU,46,0) -> 0 | F31: =VLOOKUP(C31,[1]sheet1!$A:$AU,47,0) | G31: 10 | H31: 5 | I31: =SUM(G31:H31) -> 15 | J31: 311 | K31: =IF(J31>=120,"是","否") -> 是 | L31: 2200 | M31: =IF(L31>=1800,"是","否") -> 是 | N31: 否 | O31: / | P31: =IF(AND(E31=0,SUM(G31:H31)>=15,G31>=6,H31>=5,J31>=120,L31>=1800),"是","否") -> 是 | Q31: 毕业 | R31: 0
A32: 27 | B32: 全日制2020电子信息工程技术2班 | C32: 20200302058 | D32: 邱远武 | E32: =VLOOKUP(C32,[1]sheet1!$A:$AU,46,0) -> 1 | F32: =VLOOKUP(C32,[1]sheet1!$A:$AU,47,0) -> 预就业实习 | G32: 17 | H32: 5 | I32: =SUM(G32:H32) -> 22 | J32: 699 | K32: =IF(J32>=120,"是","否") -> 是 | L32: 6560 | M32: =IF(L32>=1800,"是","否") -> 是 | N32: 否 | O32: / | P32: =IF(AND(E32=0,SUM(G32:H32)>=15,G32>=6,H32>=5,J32>=120,L32>=1800),"是","否") -> 否 | Q32: 结业 | R32: 0 | S32: 1
A33: 28 | B33: 全日制2020电子信息工程技术2班 | C33: 20200302046 | D33: 黎剑培 | E33: =VLOOKUP(C33,[1]sheet1!$A:$AU,46,0) -> 0 | F33: =VLOOKUP(C33,[1]sheet1!$A:$AU,47,0) | G33: 11 | H33: 5 | I33: =SUM(G33:H33) -> 16 | J33: 375 | K33: =IF(J33>=120,"是","否") -> 是 | L33: 2560 | M33: =IF(L33>=1800,"是","否") -> 是 | N33: 否 | O33: / | P33: =IF(AND(E33=0,SUM(G33:H33)>=15,G33>=6,H33>=5,J33>=120,L33>=1800),"是","否") -> 是 | Q33: 毕业 | R33: 0
A34: 29 | B34: 全日制2020电子信息工程技术2班 | C34: 20200302045 | D34: 黎冠 | E34: =VLOOKUP(C34,[1]sheet1!$A:$AU,46,0) -> 1 | F34: =VLOOKUP(C34,[1]sheet1!$A:$AU,47,0) -> 预就业实习 | G34: 14 | H34: 6 | I34: =SUM(G34:H34) -> 20 | J34: 353 | K34: =IF(J34>=120,"是","否") -> 是 | L34: 2580 | M34: =IF(L34>=1800,"是","否") -> 是 | N34: 否 | O34: / | P34: =IF(AND(E34=0,SUM(G34:H34)>=15,G34>=6,H34>=5,J34>=120,L34>=1800),"是","否") -> 否 | Q34: 结业 | R34: 0 | S34: 1
A35: 30 | B35: 全日制2020电子信息工程技术2班 | C35: 20200302037 | D35: 谢远宏 | E35: =VLOOKUP(C35,[1]sheet1!$A:$AU,46,0) -> 0 | F35: =VLOOKUP(C35,[1]sheet1!$A:$AU,47,0) | G35: 16 | H35: 5 | I35: =SUM(G35:H35) -> 21 | J35: 483 | K35: =IF(J35>=120,"是","否") -> 是 | L35: 3520 | M35: =IF(L35>=1800,"是","否") -> 是 | N35: 否 | O35: / | P35: =IF(AND(E35=0,SUM(G35:H35)>=15,G35>=6,H35>=5,J35>=120,L35>=1800),"是","否") -> 是 | Q35: 毕业 | R35: 0
A36: 31 | B36: 全日制2020电子信息工程技术2班 | C36: 20200302053 | D36: 蒙茂敬 | E36: =VLOOKUP(C36,[1]sheet1!$A:$AU,46,0) -> 0 | F36: =VLOOKUP(C36,[1]sheet1!$A:$AU,47,0) | G36: 11 | H36: 5 | I36: =SUM(G36:H36) -> 16 | J36: 238 | K36: =IF(J36>=120,"是","否") -> 是 | L36: 3120 | M36: =IF(L36>=1800,"是","否") -> 是 | N36: 否 | O36: / | P36: =IF(AND(E36=0,SUM(G36:H36)>=15,G36>=6,H36>=5,J36>=120,L36>=1800),"是","否") -> 是 | Q36: 毕业 | R36: 0
A37: 32 | B37: 全日制2020电子信息工程技术2班 | C37: 20180302068 | D37: 覃周敏 | E37: =VLOOKUP(C37,[1]sheet1!$A:$AU,46,0) -> 0 | F37: =VLOOKUP(C37,[1]sheet1!$A:$AU,47,0) | G37: 14 | H37: 5 | I37: =SUM(G37:H37) -> 19 | J37: 359 | K37: =IF(J37>=120,"是","否") -> 是 | L37: 2530 | M37: =IF(L37>=1800,"是","否") -> 是 | N37: 否 | O37: / | P37: =IF(AND(E37=0,SUM(G37:H37)>=15,G37>=6,H37>=5,J37>=120,L37>=1800),"是","否") -> 是 | Q37: 毕业 | R37: 0
A38: 33 | B38: 全日制2020电子信息工程技术2班 | C38: 20200205087 | D38: 余铠勋 | E38: =VLOOKUP(C38,[1]sheet1!$A:$AU,46,0) -> 0 | F38: =VLOOKUP(C38,[1]sheet1!$A:$AU,47,0) | G38: 12 | H38: 7 | I38: =SUM(G38:H38) -> 19 | J38: 239 | K38: =IF(J38>=120,"是","否") -> 是 | L38: 2560 | M38: =IF(L38>=1800,"是","否") -> 是 | N38: 否 | O38: / | P38: =IF(AND(E38=0,SUM(G38:H38)>=15,G38>=6,H38>=5,J38>=120,L38>=1800),"是","否") -> 是 | Q38: 毕业 | R38: 0
A39: 34 | B39: 全日制2020电子信息工程技术2班 | C39: 20200302027 | D39: 刘朝修 | E39: =VLOOKUP(C39,[1]sheet1!$A:$AU,46,0) -> 0 | F39: =VLOOKUP(C39,[1]sheet1!$A:$AU,47,0) | G39: 11 | H39: 5 | I39: =SUM(G39:H39) -> 16 | J39: 152 | K39: =IF(J39>=120,"是","否") -> 是 | L39: 2890 | M39: =IF(L39>=1800,"是","否") -> 是 | N39: 否 | O39: / | P39: =IF(AND(E39=0,SUM(G39:H39)>=15,G39>=6,H39>=5,J39>=120,L39>=1800),"是","否") -> 是 | Q39: 毕业 | R39: 0
A40: 35 | B40: 全日制2020电子信息工程技术2班 | C40: 20200302020 | D40: 周国清 | E40: =VLOOKUP(C40,[1]sheet1!$A:$AU,46,0) -> 0 | F40: =VLOOKUP(C40,[1]sheet1!$A:$AU,47,0) | G40: 14 | H40: 5 | I40: =SUM(G40:H40) -> 19 | J40: 277 | K40: =IF(J40>=120,"是","否") -> 是 | L40: 2780 | M40: =IF(L40>=1800,"是","否") -> 是 | N40: 否 | O40: / | P40: =IF(AND(E40=0,SUM(G40:H40)>=15,G40>=6,H40>=5,J40>=120,L40>=1800),"是","否") -> 是 | Q40: 毕业 | R40: 0
A41: 36 | B41: 全日制2020电子信息工程技术2班 | C41: 20180302010 | D41: 胡敏华 | E41: =VLOOKUP(C41,[1]sheet1!$A:$AU,46,0) -> 0 | F41: =VLOOKUP(C41,[1]sheet1!$A:$AU,47,0) | G41: 14 | H41: 5 | I41: =SUM(G41:H41) -> 19 | J41: 410 | K41: =IF(J41>=120,"是","否") -> 是 | L41: 3800 | M41: =IF(L41>=1800,"是","否") -> 是 | N41: 否 | O41: / | P41: =IF(AND(E41=0,SUM(G41:H41)>=15,G41>=6,H41>=5,J41>=120,L41>=1800),"是","否") -> 是 | Q41: 毕业 | R41: 0
A42: 37 | B42: 全日制2020电子信息工程技术2班 | C42: 20200302051 | D42: 梁文海 | E42: =VLOOKUP(C42,[1]sheet1!$A:$AU,46,0) -> 0 | F42: =VLOOKUP(C42,[1]sheet1!$A:$AU,47,0) | G42: 10 | H42: 5 | I42: =SUM(G42:H42) -> 15 | J42: 262 | K42: =IF(J42>=120,"是","否") -> 是 | L42: 2780 | M42: =IF(L42>=1800,"是","否") -> 是 | N42: 否 | O42: / | P42: =IF(AND(E42=0,SUM(G42:H42)>=15,G42>=6,H42>=5,J42>=120,L42>=1800),"是","否") -> 是 | Q42: 毕业 | R42: 0
A43: 38 | B43: 全日制2020电子信息工程技术2班 | C43: 20200302023 | D43: 方胜源 | E43: =VLOOKUP(C43,[1]sheet1!$A:$AU,46,0) -> 0 | F43: =VLOOKUP(C43,[1]sheet1!$A:$AU,47,0) | G43: 12 | H43: 5 | I43: =SUM(G43:H43) -> 17 | J43: 330 | K43: =IF(J43>=120,"是","否") -> 是 | L43: 2710 | M43: =IF(L43>=1800,"是","否") -> 是 | N43: 否 | O43: / | P43: =IF(AND(E43=0,SUM(G43:H43)>=15,G43>=6,H43>=5,J43>=120,L43>=1800),"是","否") -> 是 | Q43: 毕业 | R43: 0
A44: 39 | B44: 全日制2020电子信息工程技术2班 | C44: 20200302033 | D44: 盘进行 | E44: =VLOOKUP(C44,[1]sheet1!$A:$AU,46,0) -> 0 | F44: =VLOOKUP(C44,[1]sheet1!$A:$AU,47,0) | G44: 12 | H44: 5 | I44: =SUM(G44:H44) -> 17 | J44: 259 | K44: =IF(J44>=120,"是","否") -> 是 | L44: 2620 | M44: =IF(L44>=1800,"是","否") -> 是 | N44: 否 | O44: / | P44: =IF(AND(E44=0,SUM(G44:H44)>=15,G44>=6,H44>=5,J44>=120,L44>=1800),"是","否") -> 是 | Q44: 毕业 | R44: 0
A45: 40 | B45: 全日制2020电子信息工程技术2班 | C45: 20200302056 | D45: 宁志浩 | E45: =VLOOKUP(C45,[1]sheet1!$A:$AU,46,0) -> 1 | F45: =VLOOKUP(C45,[1]sheet1!$A:$AU,47,0) -> 预就业实习 | G45: 16 | H45: 5 | I45: =SUM(G45:H45) -> 21 | J45: 255 | K45: =IF(J45>=120,"是","否") -> 是 | L45: 3120 | M45: =IF(L45>=1800,"是","否") -> 是 | N45: 否 | O45: / | P45: =IF(AND(E45=0,SUM(G45:H45)>=15,G45>=6,H45>=5,J45>=120,L45>=1800),"是","否") -> 否 | Q45: 结业 | R45: 0 | S45: 1
A46: 41 | B46: 全日制2020电子信息工程技术2班 | C46: 20200302007 | D46: 刘伟聪 | E46: =VLOOKUP(C46,[1]sheet1!$A:$AU,46,0) -> 0 | F46: =VLOOKUP(C46,[1]sheet1!$A:$AU,47,0) | G46: 11 | H46: 5 | I46: =SUM(G46:H46) -> 16 | J46: 428 | K46: =IF(J46>=120,"是","否") -> 是 | L46: 3640 | M46: =IF(L46>=1800,"是","否") -> 是 | N46: 否 | O46: / | P46: =IF(AND(E46=0,SUM(G46:H46)>=15,G46>=6,H46>=5,J46>=120,L46>=1800),"是","否") -> 是 | Q46: 毕业 | R46: 0
A47: 42 | B47: 全日制2020电子信息工程技术2班 | C47: 20200202082 | D47: 韦东强 | E47: =VLOOKUP(C47,[1]sheet1!$A:$AU,46,0) -> 1 | F47: =VLOOKUP(C47,[1]sheet1!$A:$AU,47,0) -> 高等数学(二) | G47: 12 | H47: 5 | I47: =SUM(G47:H47) -> 17 | J47: 243 | K47: =IF(J47>=120,"是","否") -> 是 | L47: 2050 | M47: =IF(L47>=1800,"是","否") -> 是 | N47: 否 | O47: / | P47: =IF(AND(E47=0,SUM(G47:H47)>=15,G47>=6,H47>=5,J47>=120,L47>=1800),"是","否") -> 否 | Q47: 结业 | R47: 0 | S47: 1
A48: 43 | B48: 全日制2020电子信息工程技术2班 | C48: 20200302011 | D48: 马远枫 | E48: =VLOOKUP(C48,[1]sheet1!$A:$AU,46,0) -> 0 | F48: =VLOOKUP(C48,[1]sheet1!$A:$AU,47,0) | G48: 14 | H48: 5 | I48: =SUM(G48:H48) -> 19 | J48: 358 | K48: =IF(J48>=120,"是","否") -> 是 | L48: 2800 | M48: =IF(L48>=1800,"是","否") -> 是 | N48: 否 | O48: / | P48: =IF(AND(E48=0,SUM(G48:H48)>=15,G48>=6,H48>=5,J48>=120,L48>=1800),"是","否") -> 是 | Q48: 毕业 | R48: 0
A49: 44 | B49: 全日制2020电子信息工程技术2班 | C49: 20200302043 | D49: 黄冰冰 | E49: =VLOOKUP(C49,[1]sheet1!$A:$AU,46,0) -> 0 | F49: =VLOOKUP(C49,[1]sheet1!$A:$AU,47,0) | G49: 9 | H49: 5 | I49: =SUM(G49:H49) -> 14 | J49: 244 | K49: =IF(J49>=120,"是","否") -> 是 | L49: 2390 | M49: =IF(L49>=1800,"是","否") -> 是 | N49: 否 | O49: / | P49: =IF(AND(E49=0,SUM(G49:H49)>=15,G49>=6,H49>=5,J49>=120,L49>=1800),"是","否") -> 否 | Q49: 结业 | R49: 0 | S49: 2
A50: 45 | B50: 全日制2020电子信息工程技术2班 | C50: 20200302036 | D50: 伍尚林 | E50: =VLOOKUP(C50,[1]sheet1!$A:$AU,46,0) -> 0 | F50: =VLOOKUP(C50,[1]sheet1!$A:$AU,47,0) | G50: 16 | H50: 5 | I50: =SUM(G50:H50) -> 21 | J50: 138 | K50: =IF(J50>=120,"是","否") -> 是 | L50: 1980 | M50: =IF(L50>=1800,"是","否") -> 是 | N50: 否 | O50: / | P50: =IF(AND(E50=0,SUM(G50:H50)>=15,G50>=6,H50>=5,J50>=120,L50>=1800),"是","否") -> 是 | Q50: 毕业 | R50: 0
A51: 46 | B51: 全日制2020电子信息工程技术2班 | C51: 20200302002 | D51: 陈震 | E51: =VLOOKUP(C51,[1]sheet1!$A:$AU,46,0) -> 0 | F51: =VLOOKUP(C51,[1]sheet1!$A:$AU,47,0) | G51: 9 | H51: 5 | I51: =SUM(G51:H51) -> 14 | J51: 331 | K51: =IF(J51>=120,"是","否") -> 是 | L51: 2920 | M51: =IF(L51>=1800,"是","否") -> 是 | N51: 否 | O51: / | P51: =IF(AND(E51=0,SUM(G51:H51)>=15,G51>=6,H51>=5,J51>=120,L51>=1800),"是","否") -> 否 | Q51: 结业 | R51: 0 | S51: 2
...

Sheet 计算机网络技术 
A1: 柳州职业技术学院2023届毕业生毕业资格审核表
A2: 填表说明： 1.第6、7、8行是填写模板。 2.学号、姓名的信息从《2023届学信网学生信息基础数据》表中按照班级筛选并粘贴。 3.必修课不及格门数填写学生到统计数据为止成绩未达到60分的课程总门数，如李四只有《大学生安全教育》课程不及格，其他已经成绩合格，那么李四必修课不及格门数填写“1”；公共选修课已修学分填写学生到统计数据为止总共修得的学分，如李四共修公共选修课两门（一门课程学分为2分，另一门课程学分3分）并且成绩合格，那么李四公选课程已修学分为“5”，专选课已修学分填写方式与公共选修课填写方式一致。 4.第二课堂学分和诚信分填写具体获得的分数，若第二课堂学分>=120，填写“是”，若＜填“否”；诚信分>=1800，填写“是”，若＜填“否”。 德育审查如有仍未解除的，填写“否”，如没有违纪记录的，在“违纪处分是否解除”栏划斜线“/”。德育审查结果不能留空。 5.假若学生“必修课程不及格门数”为“0”、“选修课已修学分”总分15分（其中公选课学分 ≥6 分，专选课学分≥5 ）、“第二课堂学分>=120”、“诚信分>=1800”都填写“是”，则学生达到毕业要求，在“是否达到毕业资格”填写“是”，若以上条件有一列未达到要求，请填写“否”； 6.请如实填写“欠费金额”。 7.上交纸质材料的时候二级学院要盖公章，电子档不需要盖电子章，但是要如实填写上报日期、专业要与《2023届学信网学生信息基础数据》专业名称一致、专业总人数填写实际在校在籍人数。 8.结业原因填写序号：①必修课未通过②选修课未达标③综合素质考评不达标（综合素质包括第二课堂活动分、诚信分及德育审查项目）
A3: 二级学院（盖章）：电子信息工程学院 专业：计算机网络技术 应毕业人数：122 毕业人数：52 结业人数：70 辅导员： 填表日期：
A4: 序号 | B4: 班别 | C4: 学号 | D4: 学生姓名 | E4: 必修课不及格门数 | F4: 必修课不及格具体课程名称 | G4: 选修课学分 | J4: 第二课堂活动分 | L4: 诚信分 | N4: 德育审查 | P4: 是否达到毕业要求 | Q4: 毕结业 结论 | R4: 欠费金额 | S4: 结业 原因
G5: 公选课已修学分 | H5: 专选课已修学分 | I5: 总学分 | J5: 分数 | K5: 是否≥120 | L5: 分数 | M5: 是否≥1800 | N5: 是否有违纪处分 | O5: 违纪处分是否解除
A6: 1 | B6: 全日制2020计算机网络技术1班 | C6: 20200308124 | D6: 赵必彩 | E6: =VLOOKUP(C6,[6]sheet1!$A:$AQ,42,0) -> 1 | F6: =VLOOKUP(C6,[6]sheet1!$A:$AQ,43,0) -> 预就业实习 | G6: 12 | H6: 9.5 | I6: =SUM(G6:H6) -> 21.5 | J6: 530 | K6: =IF(J6>=120,"是","否") -> 是 | L6: 4120 | M6: =IF(L6>=1800,"是","否") -> 是 | N6: 否 | O6: / | P6: =IF(AND(E6=0,SUM(G6:H6)>=15,G6>=6,H6>=5,J6>=120,L6>=1800),"是","否") -> 否 | Q6: 结业 | R6: 0 | S6: 1
A7: 2 | B7: 全日制2020计算机网络技术1班 | C7: 20200308066 | D7: 莫嘉 | E7: =VLOOKUP(C7,[6]sheet1!$A:$AQ,42,0) -> 0 | F7: =VLOOKUP(C7,[6]sheet1!$A:$AQ,43,0) | G7: 13 | H7: 9.5 | I7: =SUM(G7:H7) -> 22.5 | J7: 509 | K7: =IF(J7>=120,"是","否") -> 是 | L7: 4780 | M7: =IF(L7>=1800,"是","否") -> 是 | N7: 否 | O7: / | P7: =IF(AND(E7=0,SUM(G7:H7)>=15,G7>=6,H7>=5,J7>=120,L7>=1800),"是","否") -> 是 | Q7: 毕业 | R7: 0
A8: 3 | B8: 全日制2020计算机网络技术1班 | C8: 20200308113 | D8: 潘向英 | E8: =VLOOKUP(C8,[6]sheet1!$A:$AQ,42,0) -> 1 | F8: =VLOOKUP(C8,[6]sheet1!$A:$AQ,43,0) -> 预就业实习 | G8: 13 | H8: 9.5 | I8: =SUM(G8:H8) -> 22.5 | J8: 457 | K8: =IF(J8>=120,"是","否") -> 是 | L8: 3400 | M8: =IF(L8>=1800,"是","否") -> 是 | N8: 否 | O8: / | P8: =IF(AND(E8=0,SUM(G8:H8)>=15,G8>=6,H8>=5,J8>=120,L8>=1800),"是","否") -> 否 | Q8: 结业 | R8: 0 | S8: 1
A9: 4 | B9: 全日制2020计算机网络技术1班 | C9: 20200308093 | D9: 黄奕锟 | E9: =VLOOKUP(C9,[6]sheet1!$A:$AQ,42,0) -> 1 | F9: =VLOOKUP(C9,[6]sheet1!$A:$AQ,43,0) -> 预就业实习 | G9: 13 | H9: 9.5 | I9: =SUM(G9:H9) -> 22.5 | J9: 282 | K9: =IF(J9>=120,"是","否") -> 是 | L9: 3140 | M9: =IF(L9>=1800,"是","否") -> 是 | N9: 否 | O9: / | P9: =IF(AND(E9=0,SUM(G9:H9)>=15,G9>=6,H9>=5,J9>=120,L9>=1800),"是","否") -> 否 | Q9: 结业 | R9: 0 | S9: 1
A10: 5 | B10: 全日制2020计算机网络技术1班 | C10: 20200308078 | D10: 吴锦灿 | E10: =VLOOKUP(C10,[6]sheet1!$A:$AQ,42,0) -> 0 | F10: =VLOOKUP(C10,[6]sheet1!$A:$AQ,43,0) | G10: 11 | H10: 9.5 | I10: =SUM(G10:H10) -> 20.5 | J10: 306 | K10: =IF(J10>=120,"是","否") -> 是 | L10: 2620 | M10: =IF(L10>=1800,"是","否") -> 是 | N10: 否 | O10: / | P10: =IF(AND(E10=0,SUM(G10:H10)>=15,G10>=6,H10>=5,J10>=120,L10>=1800),"是","否") -> 是 | Q10: 毕业 | R10: 0
A11: 6 | B11: 全日制2020计算机网络技术1班 | C11: 20200308109 | D11: 吕沛 | E11: =VLOOKUP(C11,[6]sheet1!$A:$AQ,42,0) -> 0 | F11: =VLOOKUP(C11,[6]sheet1!$A:$AQ,43,0) | G11: 19 | H11: 9.5 | I11: =SUM(G11:H11) -> 28.5 | J11: 388 | K11: =IF(J11>=120,"是","否") -> 是 | L11: 3180 | M11: =IF(L11>=1800,"是","否") -> 是 | N11: 否 | O11: / | P11: =IF(AND(E11=0,SUM(G11:H11)>=15,G11>=6,H11>=5,J11>=120,L11>=1800),"是","否") -> 是 | Q11: 毕业 | R11: 0
A12: 7 | B12: 全日制2020计算机网络技术1班 | C12: 20200308125 | D12: 郑晓彤 | E12: =VLOOKUP(C12,[6]sheet1!$A:$AQ,42,0) -> 1 | F12: =VLOOKUP(C12,[6]sheet1!$A:$AQ,43,0) -> 预就业实习 | G12: 12 | H12: 9.5 | I12: =SUM(G12:H12) -> 21.5 | J12: 521 | K12: =IF(J12>=120,"是","否") -> 是 | L12: 4080 | M12: =IF(L12>=1800,"是","否") -> 是 | N12: 否 | O12: / | P12: =IF(AND(E12=0,SUM(G12:H12)>=15,G12>=6,H12>=5,J12>=120,L12>=1800),"是","否") -> 否 | Q12: 结业 | R12: 0 | S12: 1
A13: 8 | B13: 全日制2020计算机网络技术1班 | C13: 20200308088 | D13: 池雪慧 | E13: =VLOOKUP(C13,[6]sheet1!$A:$AQ,42,0) -> 1 | F13: =VLOOKUP(C13,[6]sheet1!$A:$AQ,43,0) -> 预就业实习 | G13: 12 | H13: 9.5 | I13: =SUM(G13:H13) -> 21.5 | J13: 619 | K13: =IF(J13>=120,"是","否") -> 是 | L13: 4680 | M13: =IF(L13>=1800,"是","否") -> 是 | N13: 否 | O13: / | P13: =IF(AND(E13=0,SUM(G13:H13)>=15,G13>=6,H13>=5,J13>=120,L13>=1800),"是","否") -> 否 | Q13: 结业 | R13: 0 | S13: 1
A14: 9 | B14: 全日制2020计算机网络技术1班 | C14: 20200308087 | D14: 陈小花 | E14: =VLOOKUP(C14,[6]sheet1!$A:$AQ,42,0) -> 1 | F14: =VLOOKUP(C14,[6]sheet1!$A:$AQ,43,0) -> 预就业实习 | G14: 11 | H14: 9.5 | I14: =SUM(G14:H14) -> 20.5 | J14: 527 | K14: =IF(J14>=120,"是","否") -> 是 | L14: 3820 | M14: =IF(L14>=1800,"是","否") -> 是 | N14: 否 | O14: / | P14: =IF(AND(E14=0,SUM(G14:H14)>=15,G14>=6,H14>=5,J14>=120,L14>=1800),"是","否") -> 否 | Q14: 结业 | R14: 0 | S14: 1
A15: 10 | B15: 全日制2020计算机网络技术1班 | C15: 20200308110 | D15: 马建勋 | E15: =VLOOKUP(C15,[6]sheet1!$A:$AQ,42,0) -> 1 | F15: =VLOOKUP(C15,[6]sheet1!$A:$AQ,43,0) -> 预就业实习 | G15: 12 | H15: 9.5 | I15: =SUM(G15:H15) -> 21.5 | J15: 329 | K15: =IF(J15>=120,"是","否") -> 是 | L15: 2620 | M15: =IF(L15>=1800,"是","否") -> 是 | N15: 否 | O15: / | P15: =IF(AND(E15=0,SUM(G15:H15)>=15,G15>=6,H15>=5,J15>=120,L15>=1800),"是","否") -> 否 | Q15: 结业 | R15: 0 | S15: 1
A16: 11 | B16: 全日制2020计算机网络技术1班 | C16: 20200308108 | D16: 吕俊龙 | E16: =VLOOKUP(C16,[6]sheet1!$A:$AQ,42,0) -> 0 | F16: =VLOOKUP(C16,[6]sheet1!$A:$AQ,43,0) | G16: 12 | H16: 9.5 | I16: =SUM(G16:H16) -> 21.5 | J16: 422 | K16: =IF(J16>=120,"是","否") -> 是 | L16: 4960 | M16: =IF(L16>=1800,"是","否") -> 是 | N16: 否 | O16: / | P16: =IF(AND(E16=0,SUM(G16:H16)>=15,G16>=6,H16>=5,J16>=120,L16>=1800),"是","否") -> 是 | Q16: 毕业 | R16: 0
A17: 12 | B17: 全日制2020计算机网络技术1班 | C17: 20200308114 | D17: 邱梦玲 | E17: =VLOOKUP(C17,[6]sheet1!$A:$AQ,42,0) -> 1 | F17: =VLOOKUP(C17,[6]sheet1!$A:$AQ,43,0) -> 预就业实习 | G17: 10 | H17: 9.5 | I17: =SUM(G17:H17) -> 19.5 | J17: 381 | K17: =IF(J17>=120,"是","否") -> 是 | L17: 3190 | M17: =IF(L17>=1800,"是","否") -> 是 | N17: 否 | O17: / | P17: =IF(AND(E17=0,SUM(G17:H17)>=15,G17>=6,H17>=5,J17>=120,L17>=1800),"是","否") -> 否 | Q17: 结业 | R17: 0 | S17: 1
A18: 13 | B18: 全日制2020计算机网络技术1班 | C18: 20200308102 | D18: 廖丽姿 | E18: =VLOOKUP(C18,[6]sheet1!$A:$AQ,42,0) -> 1 | F18: =VLOOKUP(C18,[6]sheet1!$A:$AQ,43,0) -> 预就业实习 | G18: 13 | H18: 9.5 | I18: =SUM(G18:H18) -> 22.5 | J18: 437 | K18: =IF(J18>=120,"是","否") -> 是 | L18: 3190 | M18: =IF(L18>=1800,"是","否") -> 是 | N18: 否 | O18: / | P18: =IF(AND(E18=0,SUM(G18:H18)>=15,G18>=6,H18>=5,J18>=120,L18>=1800),"是","否") -> 否 | Q18: 结业 | R18: 0 | S18: 1
A19: 14 | B19: 全日制2020计算机网络技术1班 | C19: 20200308104 | D19: 陆建霖 | E19: =VLOOKUP(C19,[6]sheet1!$A:$AQ,42,0) -> 1 | F19: =VLOOKUP(C19,[6]sheet1!$A:$AQ,43,0) -> 预就业实习 | G19: 12 | H19: 9.5 | I19: =SUM(G19:H19) -> 21.5 | J19: 337 | K19: =IF(J19>=120,"是","否") -> 是 | L19: 3190 | M19: =IF(L19>=1800,"是","否") -> 是 | N19: 否 | O19: / | P19: =IF(AND(E19=0,SUM(G19:H19)>=15,G19>=6,H19>=5,J19>=120,L19>=1800),"是","否") -> 否 | Q19: 结业 | R19: 0 | S19: 1
A20: 15 | B20: 全日制2020计算机网络技术1班 | C20: 20200308092 | D20: 黄日森 | E20: =VLOOKUP(C20,[6]sheet1!$A:$AQ,42,0) -> 1 | F20: =VLOOKUP(C20,[6]sheet1!$A:$AQ,43,0) -> 预就业实习 | G20: 10 | H20: 9.5 | I20: =SUM(G20:H20) -> 19.5 | J20: 316 | K20: =IF(J20>=120,"是","否") -> 是 | L20: 2980 | M20: =IF(L20>=1800,"是","否") -> 是 | N20: 否 | O20: / | P20: =IF(AND(E20=0,SUM(G20:H20)>=15,G20>=6,H20>=5,J20>=120,L20>=1800),"是","否") -> 否 | Q20: 结业 | R20: 0 | S20: 1
A21: 16 | B21: 全日制2020计算机网络技术1班 | C21: 20200308122 | D21: 姚强 | E21: =VLOOKUP(C21,[6]sheet1!$A:$AQ,42,0) -> 0 | F21: =VLOOKUP(C21,[6]sheet1!$A:$AQ,43,0) | G21: 19 | H21: 9.5 | I21: =SUM(G21:H21) -> 28.5 | J21: 320 | K21: =IF(J21>=120,"是","否") -> 是 | L21: 3180 | M21: =IF(L21>=1800,"是","否") -> 是 | N21: 否 | O21: / | P21: =IF(AND(E21=0,SUM(G21:H21)>=15,G21>=6,H21>=5,J21>=120,L21>=1800),"是","否") -> 是 | Q21: 毕业 | R21: 0
A22: 17 | B22: 全日制2020计算机网络技术1班 | C22: 20200308103 | D22: 林迎 | E22: =VLOOKUP(C22,[6]sheet1!$A:$AQ,42,0) -> 1 | F22: =VLOOKUP(C22,[6]sheet1!$A:$AQ,43,0) -> 预就业实习 | G22: 13 | H22: 9.5 | I22: =SUM(G22:H22) -> 22.5 | J22: 530 | K22: =IF(J22>=120,"是","否") -> 是 | L22: 4240 | M22: =IF(L22>=1800,"是","否") -> 是 | N22: 否 | O22: / | P22: =IF(AND(E22=0,SUM(G22:H22)>=15,G22>=6,H22>=5,J22>=120,L22>=1800),"是","否") -> 否 | Q22: 结业 | R22: 0 | S22: 1
A23: 18 | B23: 全日制2020计算机网络技术1班 | C23: 20200308056 | D23: 黄建雄 | E23: =VLOOKUP(C23,[6]sheet1!$A:$AQ,42,0) -> 1 | F23: =VLOOKUP(C23,[6]sheet1!$A:$AQ,43,0) -> 预就业实习 | G23: 10 | H23: 9 | I23: =SUM(G23:H23) -> 19 | J23: 237 | K23: =IF(J23>=120,"是","否") -> 是 | L23: 2270 | M23: =IF(L23>=1800,"是","否") -> 是 | N23: 否 | O23: / | P23: =IF(AND(E23=0,SUM(G23:H23)>=15,G23>=6,H23>=5,J23>=120,L23>=1800),"是","否") -> 否 | Q23: 结业 | R23: 0 | S23: 1
A24: 19 | B24: 全日制2020计算机网络技术1班 | C24: 20200308121 | D24: 严婷婷 | E24: =VLOOKUP(C24,[6]sheet1!$A:$AQ,42,0) -> 1 | F24: =VLOOKUP(C24,[6]sheet1!$A:$AQ,43,0) -> 预就业实习 | G24: 11 | H24: 9.5 | I24: =SUM(G24:H24) -> 20.5 | J24: 619 | K24: =IF(J24>=120,"是","否") -> 是 | L24: 3320 | M24: =IF(L24>=1800,"是","否") -> 是 | N24: 否 | O24: / | P24: =IF(AND(E24=0,SUM(G24:H24)>=15,G24>=6,H24>=5,J24>=120,L24>=1800),"是","否") -> 否 | Q24: 结业 | R24: 0 | S24: 1
A25: 20 | B25: 全日制2020计算机网络技术1班 | C25: 20200308112 | D25: 宁子德 | E25: =VLOOKUP(C25,[6]sheet1!$A:$AQ,42,0) -> 1 | F25: =VLOOKUP(C25,[6]sheet1!$A:$AQ,43,0) -> 预就业实习 | G25: 12 | H25: 9.5 | I25: =SUM(G25:H25) -> 21.5 | J25: 270 | K25: =IF(J25>=120,"是","否") -> 是 | L25: 3090 | M25: =IF(L25>=1800,"是","否") -> 是 | N25: 否 | O25: / | P25: =IF(AND(E25=0,SUM(G25:H25)>=15,G25>=6,H25>=5,J25>=120,L25>=1800),"是","否") -> 否 | Q25: 结业 | R25: 0 | S25: 1
A26: 21 | B26: 全日制2020计算机网络技术1班 | C26: 20153312034 | D26: 李安善 | E26: =VLOOKUP(C26,[6]sheet1!$A:$AQ,42,0) -> 1 | F26: =VLOOKUP(C26,[6]sheet1!$A:$AQ,43,0) -> 军事理论 | G26: 11 | H26: 7.5 | I26: =SUM(G26:H26) -> 18.5 | J26: 361 | K26: =IF(J26>=120,"是","否") -> 是 | L26: 3700 | M26: =IF(L26>=1800,"是","否") -> 是 | N26: 否 | O26: / | P26: =IF(AND(E26=0,SUM(G26:H26)>=15,G26>=6,H26>=5,J26>=120,L26>=1800),"是","否") -> 否 | Q26: 结业 | R26: 0 | S26: 1
A27: 22 | B27: 全日制2020计算机网络技术1班 | C27: 20200308118 | D27: 谢杰龙 | E27: =VLOOKUP(C27,[6]sheet1!$A:$AQ,42,0) -> 1 | F27: =VLOOKUP(C27,[6]sheet1!$A:$AQ,43,0) -> 预就业实习 | G27: 16 | H27: 9.5 | I27: =SUM(G27:H27) -> 25.5 | J27: 309 | K27: =IF(J27>=120,"是","否") -> 是 | L27: 3000 | M27: =IF(L27>=1800,"是","否") -> 是 | N27: 否 | O27: / | P27: =IF(AND(E27=0,SUM(G27:H27)>=15,G27>=6,H27>=5,J27>=120,L27>=1800),"是","否") -> 否 | Q27: 结业 | R27: 0 | S27: 1
A28: 23 | B28: 全日制2020计算机网络技术1班 | C28: 20200308089 | D28: 龚燕红 | E28: =VLOOKUP(C28,[6]sheet1!$A:$AQ,42,0) -> 1 | F28: =VLOOKUP(C28,[6]sheet1!$A:$AQ,43,0) -> 预就业实习 | G28: 13 | H28: 9.5 | I28: =SUM(G28:H28) -> 22.5 | J28: 285 | K28: =IF(J28>=120,"是","否") -> 是 | L28: 2520 | M28: =IF(L28>=1800,"是","否") -> 是 | N28: 否 | O28: / | P28: =IF(AND(E28=0,SUM(G28:H28)>=15,G28>=6,H28>=5,J28>=120,L28>=1800),"是","否") -> 否 | Q28: 结业 | R28: 0 | S28: 1
A29: 24 | B29: 全日制2020计算机网络技术1班 | C29: 20200308096 | D29: 赖志毅 | E29: =VLOOKUP(C29,[6]sheet1!$A:$AQ,42,0) -> 0 | F29: =VLOOKUP(C29,[6]sheet1!$A:$AQ,43,0) | G29: 10 | H29: 9.5 | I29: =SUM(G29:H29) -> 19.5 | J29: 221 | K29: =IF(J29>=120,"是","否") -> 是 | L29: 2510 | M29: =IF(L29>=1800,"是","否") -> 是 | N29: 否 | O29: / | P29: =IF(AND(E29=0,SUM(G29:H29)>=15,G29>=6,H29>=5,J29>=120,L29>=1800),"是","否") -> 是 | Q29: 毕业 | R29: 0
A30: 25 | B30: 全日制2020计算机网络技术1班 | C30: 20200308117 | D30: 谢国璋 | E30: =VLOOKUP(C30,[6]sheet1!$A:$AQ,42,0) -> 0 | F30: =VLOOKUP(C30,[6]sheet1!$A:$AQ,43,0) | G30: 16 | H30: 9.5 | I30: =SUM(G30:H30) -> 25.5 | J30: 403 | K30: =IF(J30>=120,"是","否") -> 是 | L30: 3020 | M30: =IF(L30>=1800,"是","否") -> 是 | N30: 否 | O30: / | P30: =IF(AND(E30=0,SUM(G30:H30)>=15,G30>=6,H30>=5,J30>=120,L30>=1800),"是","否") -> 是 | Q30: 毕业 | R30: 0
A31: 26 | B31: 全日制2020计算机网络技术1班 | C31: 20200202061 | D31: 刘业铭 | E31: =VLOOKUP(C31,[6]sheet1!$A:$AQ,42,0) -> 1 | F31: =VLOOKUP(C31,[6]sheet1!$A:$AQ,43,0) -> 预就业实习 | G31: 10 | H31: 9.5 | I31: =SUM(G31:H31) -> 19.5 | J31: 265 | K31: =IF(J31>=120,"是","否") -> 是 | L31: 2660 | M31: =IF(L31>=1800,"是","否") -> 是 | N31: 否 | O31: / | P31: =IF(AND(E31=0,SUM(G31:H31)>=15,G31>=6,H31>=5,J31>=120,L31>=1800),"是","否") -> 否 | Q31: 结业 | R31: 0 | S31: 1
A32: 27 | B32: 全日制2020计算机网络技术1班 | C32: 20200308094 | D32: 黄永寿 | E32: =VLOOKUP(C32,[6]sheet1!$A:$AQ,42,0) -> 1 | F32: =VLOOKUP(C32,[6]sheet1!$A:$AQ,43,0) -> 预就业实习 | G32: 18 | H32: 9.5 | I32: =SUM(G32:H32) -> 27.5 | J32: 333 | K32: =IF(J32>=120,"是","否") -> 是 | L32: 2930 | M32: =IF(L32>=1800,"是","否") -> 是 | N32: 否 | O32: / | P32: =IF(AND(E32=0,SUM(G32:H32)>=15,G32>=6,H32>=5,J32>=120,L32>=1800),"是","否") -> 否 | Q32: 结业 | R32: 0 | S32: 1
A33: 28 | B33: 全日制2020计算机网络技术1班 | C33: 20200308085 | D33: 陈国远 | E33: =VLOOKUP(C33,[6]sheet1!$A:$AQ,42,0) -> 0 | F33: =VLOOKUP(C33,[6]sheet1!$A:$AQ,43,0) | G33: 11 | H33: 9.5 | I33: =SUM(G33:H33) -> 20.5 | J33: 255 | K33: =IF(J33>=120,"是","否") -> 是 | L33: 2890 | M33: =IF(L33>=1800,"是","否") -> 是 | N33: 否 | O33: / | P33: =IF(AND(E33=0,SUM(G33:H33)>=15,G33>=6,H33>=5,J33>=120,L33>=1800),"是","否") -> 是 | Q33: 毕业 | R33: 0
A34: 29 | B34: 全日制2020计算机网络技术1班 | C34: 20200308115 | D34: 苏世财 | E34: =VLOOKUP(C34,[6]sheet1!$A:$AQ,42,0) -> 1 | F34: =VLOOKUP(C34,[6]sheet1!$A:$AQ,43,0) -> 预就业实习 | G34: 11 | H34: 9.5 | I34: =SUM(G34:H34) -> 20.5 | J34: 327 | K34: =IF(J34>=120,"是","否") -> 是 | L34: 2820 | M34: =IF(L34>=1800,"是","否") -> 是 | N34: 否 | O34: / | P34: =IF(AND(E34=0,SUM(G34:H34)>=15,G34>=6,H34>=5,J34>=120,L34>=1800),"是","否") -> 否 | Q34: 结业 | R34: 0 | S34: 1
A35: 30 | B35: 全日制2020计算机网络技术1班 | C35: 20200308123 | D35: 游柏权 | E35: =VLOOKUP(C35,[6]sheet1!$A:$AQ,42,0) -> 1 | F35: =VLOOKUP(C35,[6]sheet1!$A:$AQ,43,0) -> 预就业实习 | G35: 12 | H35: 9.5 | I35: =SUM(G35:H35) -> 21.5 | J35: 385 | K35: =IF(J35>=120,"是","否") -> 是 | L35: 3060 | M35: =IF(L35>=1800,"是","否") -> 是 | N35: 否 | O35: / | P35: =IF(AND(E35=0,SUM(G35:H35)>=15,G35>=6,H35>=5,J35>=120,L35>=1800),"是","否") -> 否 | Q35: 结业 | R35: 0 | S35: 1
A36: 31 | B36: 全日制2020计算机网络技术1班 | C36: 20200308107 | D36: 罗显台 | E36: =VLOOKUP(C36,[6]sheet1!$A:$AQ,42,0) -> 1 | F36: =VLOOKUP(C36,[6]sheet1!$A:$AQ,43,0) -> 预就业实习 | G36: 16 | H36: 9.5 | I36: =SUM(G36:H36) -> 25.5 | J36: 398 | K36: =IF(J36>=120,"是","否") -> 是 | L36: 2860 | M36: =IF(L36>=1800,"是","否") -> 是 | N36: 否 | O36: / | P36: =IF(AND(E36=0,SUM(G36:H36)>=15,G36>=6,H36>=5,J36>=120,L36>=1800),"是","否") -> 否 | Q36: 结业 | R36: 0 | S36: 1
A37: 32 | B37: 全日制2020计算机网络技术1班 | C37: 20200308116 | D37: 覃世轩 | E37: =VLOOKUP(C37,[6]sheet1!$A:$AQ,42,0) -> 0 | F37: =VLOOKUP(C37,[6]sheet1!$A:$AQ,43,0) | G37: 17 | H37: 9.5 | I37: =SUM(G37:H37) -> 26.5 | J37: 323 | K37: =IF(J37>=120,"是","否") -> 是 | L37: 3070 | M37: =IF(L37>=1800,"是","否") -> 是 | N37: 否 | O37: / | P37: =IF(AND(E37=0,SUM(G37:H37)>=15,G37>=6,H37>=5,J37>=120,L37>=1800),"是","否") -> 是 | Q37: 毕业 | R37: 0
A38: 33 | B38: 全日制2020计算机网络技术1班 | C38: 20200308098 | D38: 李显威 | E38: =VLOOKUP(C38,[6]sheet1!$A:$AQ,42,0) -> 0 | F38: =VLOOKUP(C38,[6]sheet1!$A:$AQ,43,0) | G38: 10 | H38: 9.5 | I38: =SUM(G38:H38) -> 19.5 | J38: 254 | K38: =IF(J38>=120,"是","否") -> 是 | L38: 2610 | M38: =IF(L38>=1800,"是","否") -> 是 | N38: 否 | O38: / | P38: =IF(AND(E38=0,SUM(G38:H38)>=15,G38>=6,H38>=5,J38>=120,L38>=1800),"是","否") -> 是 | Q38: 毕业 | R38: 0
A39: 34 | B39: 全日制2020计算机网络技术1班 | C39: 20200308091 | D39: 黄仟林 | E39: =VLOOKUP(C39,[6]sheet1!$A:$AQ,42,0) -> 1 | F39: =VLOOKUP(C39,[6]sheet1!$A:$AQ,43,0) -> 预就业实习 | G39: 16 | H39: 9.5 | I39: =SUM(G39:H39) -> 25.5 | J39: 351 | K39: =IF(J39>=120,"是","否") -> 是 | L39: 2820 | M39: =IF(L39>=1800,"是","否") -> 是 | N39: 否 | O39: / | P39: =IF(AND(E39=0,SUM(G39:H39)>=15,G39>=6,H39>=5,J39>=120,L39>=1800),"是","否") -> 否 | Q39: 结业 | R39: 0 | S39: 1
A40: 35 | B40: 全日制2020计算机网络技术1班 | C40: 20200107177 | D40: 张文军 | E40: =VLOOKUP(C40,[6]sheet1!$A:$AQ,42,0) -> 1 | F40: =VLOOKUP(C40,[6]sheet1!$A:$AQ,43,0) -> 预就业实习 | G40: 11 | H40: 9.5 | I40: =SUM(G40:H40) -> 20.5 | J40: 271 | K40: =IF(J40>=120,"是","否") -> 是 | L40: 2800 | M40: =IF(L40>=1800,"是","否") -> 是 | N40: 否 | O40: / | P40: =IF(AND(E40=0,SUM(G40:H40)>=15,G40>=6,H40>=5,J40>=120,L40>=1800),"是","否") -> 否 | Q40: 结业 | R40: 0 | S40: 1
...

Sheet 计算机应用技术(联) 
A1: 柳州职业技术学院2023届毕业生毕业资格审核表
A2: 填表说明： 1.第6、7、8行是填写模板。 2.学号、姓名的信息从《2023届学信网学生信息基础数据》表中按照班级筛选并粘贴。 3.必修课不及格门数填写学生到统计数据为止成绩未达到60分的课程总门数，如李四只有《大学生安全教育》课程不及格，其他已经成绩合格，那么李四必修课不及格门数填写“1”；公共选修课已修学分填写学生到统计数据为止总共修得的学分，如李四共修公共选修课两门（一门课程学分为2分，另一门课程学分3分）并且成绩合格，那么李四公选课程已修学分为“5”，专选课已修学分填写方式与公共选修课填写方式一致。 4.第二课堂学分和诚信分填写具体获得的分数，若第二课堂学分>=120，填写“是”，若＜填“否”；诚信分>=1800，填写“是”，若＜填“否”。 德育审查如有仍未解除的，填写“否”，如没有违纪记录的，在“违纪处分是否解除”栏划斜线“/”。德育审查结果不能留空。 5.假若学生“必修课程不及格门数”为“0”、“选修课已修学分”总分15分（其中公选课学分 ≥6 分，专选课学分≥5 ）、“第二课堂学分>=120”、“诚信分>=1800”都填写“是”，则学生达到毕业要求，在“是否达到毕业资格”填写“是”，若以上条件有一列未达到要求，请填写“否”； 6.请如实填写“欠费金额”。 7.上交纸质材料的时候二级学院要盖公章，电子档不需要盖电子章，但是要如实填写上报日期、专业要与《2023届学信网学生信息基础数据》专业名称一致、专业总人数填写实际在校在籍人数。 8.结业原因填写序号：①必修课未通过②选修课未达标③综合素质考评不达标（综合素质包括第二课堂活动分、诚信分及德育审查项目）
A3: 二级学院（盖章）：电子信息工程学院 专业：计算机应用技术(联) 应毕业人数：53 毕业人数：0 结业人数：53 辅导员： 填表日期：
A4: 序号 | B4: 班别 | C4: 学号 | D4: 学生姓名 | E4: 必修课不及格门数 | F4: 必修课不及格具体课程名称 | G4: 选修课学分 | J4: 第二课堂活动分 | L4: 诚信分 | N4: 德育审查 | P4: 是否达到毕业要求 | Q4: 毕结业 结论 | R4: 欠费金额 | S4: 结业 原因
G5: 公选课已修学分 | H5: 专选课已修学分 | I5: 总学分 | J5: 分数 | K5: 是否≥120 | L5: 分数 | M5: 是否≥1800 | N5: 是否有违纪处分 | O5: 违纪处分是否解除
A6: 1 | B6: 全日制2020计算机应用技术(联)1班 | C6: 20200109849 | D6: 苏晓傲 | E6: =VLOOKUP(C6,[7]sheet1!$A:$AU,46,0) -> 2 | F6: =VLOOKUP(C6,[7]sheet1!$A:$AU,47,0) -> 预就业实习职业素养实习与劳动教育 | G6: 12 | H6: 11 | I6: =SUM(G6:H6) -> 23 | J6: 254 | K6: =IF(J6>=120,"是","否") -> 是 | L6: 2550 | M6: =IF(L6>=1800,"是","否") -> 是 | N6: 否 | O6: / | P6: =IF(AND(E6=0,SUM(G6:H6)>=15,G6>=6,H6>=5,J6>=120,L6>=1800),"是","否") -> 否 | Q6: 结业 | R6: 0 | S6: 1
A7: 2 | B7: 全日制2020计算机应用技术(联)1班 | C7: 20200306859 | D7: 周晟伊 | E7: =VLOOKUP(C7,[7]sheet1!$A:$AU,46,0) -> 1 | F7: =VLOOKUP(C7,[7]sheet1!$A:$AU,47,0) -> 职业素养实习与劳动教育 | G7: 12 | H7: 11 | I7: =SUM(G7:H7) -> 23 | J7: 243 | K7: =IF(J7>=120,"是","否") -> 是 | L7: 2420 | M7: =IF(L7>=1800,"是","否") -> 是 | N7: 否 | O7: / | P7: =IF(AND(E7=0,SUM(G7:H7)>=15,G7>=6,H7>=5,J7>=120,L7>=1800),"是","否") -> 否 | Q7: 结业 | R7: 0 | S7: 1
A8: 3 | B8: 全日制2020计算机应用技术(联)1班 | C8: 20200306833 | D8: 莫玉培 | E8: =VLOOKUP(C8,[7]sheet1!$A:$AU,46,0) -> 1 | F8: =VLOOKUP(C8,[7]sheet1!$A:$AU,47,0) -> 职业素养实习与劳动教育 | G8: 16 | H8: 11 | I8: =SUM(G8:H8) -> 27 | J8: 269 | K8: =IF(J8>=120,"是","否") -> 是 | L8: 2730 | M8: =IF(L8>=1800,"是","否") -> 是 | N8: 否 | O8: / | P8: =IF(AND(E8=0,SUM(G8:H8)>=15,G8>=6,H8>=5,J8>=120,L8>=1800),"是","否") -> 否 | Q8: 结业 | R8: 0 | S8: 1
A9: 4 | B9: 全日制2020计算机应用技术(联)1班 | C9: 20200306818 | D9: 李奕权 | E9: =VLOOKUP(C9,[7]sheet1!$A:$AU,46,0) -> 1 | F9: =VLOOKUP(C9,[7]sheet1!$A:$AU,47,0) -> 职业素养实习与劳动教育 | G9: 14 | H9: 11 | I9: =SUM(G9:H9) -> 25 | J9: 252 | K9: =IF(J9>=120,"是","否") -> 是 | L9: 2210 | M9: =IF(L9>=1800,"是","否") -> 是 | N9: 否 | O9: / | P9: =IF(AND(E9=0,SUM(G9:H9)>=15,G9>=6,H9>=5,J9>=120,L9>=1800),"是","否") -> 否 | Q9: 结业 | R9: 0 | S9: 1
A10: 5 | B10: 全日制2020计算机应用技术(联)1班 | C10: 20200306807 | D10: 龚榕蓉 | E10: =VLOOKUP(C10,[7]sheet1!$A:$AU,46,0) -> 1 | F10: =VLOOKUP(C10,[7]sheet1!$A:$AU,47,0) -> 职业素养实习与劳动教育 | G10: 12 | H10: 11 | I10: =SUM(G10:H10) -> 23 | J10: 234 | K10: =IF(J10>=120,"是","否") -> 是 | L10: 2690 | M10: =IF(L10>=1800,"是","否") -> 是 | N10: 否 | O10: / | P10: =IF(AND(E10=0,SUM(G10:H10)>=15,G10>=6,H10>=5,J10>=120,L10>=1800),"是","否") -> 否 | Q10: 结业 | R10: 0 | S10: 1
A11: 6 | B11: 全日制2020计算机应用技术(联)1班 | C11: 20200306836 | D11: 潘文婕 | E11: =VLOOKUP(C11,[7]sheet1!$A:$AU,46,0) -> 1 | F11: =VLOOKUP(C11,[7]sheet1!$A:$AU,47,0) -> 职业素养实习与劳动教育 | G11: 14 | H11: 11 | I11: =SUM(G11:H11) -> 25 | J11: 246 | K11: =IF(J11>=120,"是","否") -> 是 | L11: 2310 | M11: =IF(L11>=1800,"是","否") -> 是 | N11: 否 | O11: / | P11: =IF(AND(E11=0,SUM(G11:H11)>=15,G11>=6,H11>=5,J11>=120,L11>=1800),"是","否") -> 否 | Q11: 结业 | R11: 0 | S11: 1
A12: 7 | B12: 全日制2020计算机应用技术(联)1班 | C12: 20200306853 | D12: 吴生妹 | E12: =VLOOKUP(C12,[7]sheet1!$A:$AU,46,0) -> 1 | F12: =VLOOKUP(C12,[7]sheet1!$A:$AU,47,0) -> 职业素养实习与劳动教育 | G12: 14 | H12: 11 | I12: =SUM(G12:H12) -> 25 | J12: 269 | K12: =IF(J12>=120,"是","否") -> 是 | L12: 1980 | M12: =IF(L12>=1800,"是","否") -> 是 | N12: 否 | O12: / | P12: =IF(AND(E12=0,SUM(G12:H12)>=15,G12>=6,H12>=5,J12>=120,L12>=1800),"是","否") -> 否 | Q12: 结业 | R12: 0 | S12: 1
A13: 8 | B13: 全日制2020计算机应用技术(联)1班 | C13: 20200109821 | D13: 黄舜 | E13: =VLOOKUP(C13,[7]sheet1!$A:$AU,46,0) -> 1 | F13: =VLOOKUP(C13,[7]sheet1!$A:$AU,47,0) -> 职业素养实习与劳动教育 | G13: 12 | H13: 11 | I13: =SUM(G13:H13) -> 23 | J13: 272 | K13: =IF(J13>=120,"是","否") -> 是 | L13: 2180 | M13: =IF(L13>=1800,"是","否") -> 是 | N13: 否 | O13: / | P13: =IF(AND(E13=0,SUM(G13:H13)>=15,G13>=6,H13>=5,J13>=120,L13>=1800),"是","否") -> 否 | Q13: 结业 | R13: 0 | S13: 1
A14: 9 | B14: 全日制2020计算机应用技术(联)1班 | C14: 20200306815 | D14: 蓝艳美 | E14: =VLOOKUP(C14,[7]sheet1!$A:$AU,46,0) -> 1 | F14: =VLOOKUP(C14,[7]sheet1!$A:$AU,47,0) -> 职业素养实习与劳动教育 | G14: 12 | H14: 11 | I14: =SUM(G14:H14) -> 23 | J14: 248 | K14: =IF(J14>=120,"是","否") -> 是 | L14: 2750 | M14: =IF(L14>=1800,"是","否") -> 是 | N14: 否 | O14: / | P14: =IF(AND(E14=0,SUM(G14:H14)>=15,G14>=6,H14>=5,J14>=120,L14>=1800),"是","否") -> 否 | Q14: 结业 | R14: 0 | S14: 1
A15: 10 | B15: 全日制2020计算机应用技术(联)1班 | C15: 20200306915 | D15: 覃弘怡 | E15: =VLOOKUP(C15,[7]sheet1!$A:$AU,46,0) -> 4 | F15: =VLOOKUP(C15,[7]sheet1!$A:$AU,47,0) -> 大学生安全教育(一)形势与政策(一)入学教育职业素养实习与劳动教育 | G15: 14 | H15: 11 | I15: =SUM(G15:H15) -> 25 | J15: 257 | K15: =IF(J15>=120,"是","否") -> 是 | L15: 2270 | M15: =IF(L15>=1800,"是","否") -> 是 | N15: 否 | O15: / | P15: =IF(AND(E15=0,SUM(G15:H15)>=15,G15>=6,H15>=5,J15>=120,L15>=1800),"是","否") -> 否 | Q15: 结业 | R15: 0 | S15: 1
A16: 11 | B16: 全日制2020计算机应用技术(联)1班 | C16: 20200306911 | D16: 吕明 | E16: =VLOOKUP(C16,[7]sheet1!$A:$AU,46,0) -> 4 | F16: =VLOOKUP(C16,[7]sheet1!$A:$AU,47,0) -> 大学生安全教育(一)形势与政策(一)入学教育职业素养实习与劳动教育 | G16: 12 | H16: 11 | I16: =SUM(G16:H16) -> 23 | J16: 245 | K16: =IF(J16>=120,"是","否") -> 是 | L16: 2110 | M16: =IF(L16>=1800,"是","否") -> 是 | N16: 否 | O16: / | P16: =IF(AND(E16=0,SUM(G16:H16)>=15,G16>=6,H16>=5,J16>=120,L16>=1800),"是","否") -> 否 | Q16: 结业 | R16: 0 | S16: 1
A17: 12 | B17: 全日制2020计算机应用技术(联)1班 | C17: 20200306857 | D17: 赵静燕 | E17: =VLOOKUP(C17,[7]sheet1!$A:$AU,46,0) -> 1 | F17: =VLOOKUP(C17,[7]sheet1!$A:$AU,47,0) -> 职业素养实习与劳动教育 | G17: 11 | H17: 11 | I17: =SUM(G17:H17) -> 22 | J17: 272 | K17: =IF(J17>=120,"是","否") -> 是 | L17: 2690 | M17: =IF(L17>=1800,"是","否") -> 是 | N17: 否 | O17: / | P17: =IF(AND(E17=0,SUM(G17:H17)>=15,G17>=6,H17>=5,J17>=120,L17>=1800),"是","否") -> 否 | Q17: 结业 | R17: 0 | S17: 1
... A58: 53 | B58: 全日制2020计算机应用技术(联)1班 | C58: 20200306826 | D58: 卢颖亮 | E58: =VLOOKUP(C58,[7]sheet1!$A:$AU,46,0) -> 5 | F58: =VLOOKUP(C58,[7]sheet1!$A:$AU,47,0) -> 职业发展与生涯规划高等数学(一)数据结构与算法预就业实习职业素养实习与劳动教育 | G58: 9 | H58: 7 | I58: =SUM(G58:H58) -> 16 | J58: 228 | K58: =IF(J58>=120,"是","否") -> 是 | L58: 1800 | M58: =IF(L58>=1800,"是","否") -> 是 | N58: 否 | O58: / | P58: =IF(AND(E58=0,SUM(G58:H58)>=15,G58>=6,H58>=5,J58>=120,L58>=1800),"是","否") -> 否 | Q58: 结业 | R58: 11380.36 | S58: 1

Sheet 计算机应用技术
A1: 柳州职业技术学院2023届毕业生毕业资格审核表
A2: 填表说明： 1.第6、7、8行是填写模板。 2.学号、姓名的信息从《2023届学信网学生信息基础数据》表中按照班级筛选并粘贴。 3.必修课不及格门数填写学生到统计数据为止成绩未达到60分的课程总门数，如李四只有《大学生安全教育》课程不及格，其他已经成绩合格，那么李四必修课不及格门数填写“1”；公共选修课已修学分填写学生到统计数据为止总共修得的学分，如李四共修公共选修课两门（一门课程学分为2分，另一门课程学分3分）并且成绩合格，那么李四公选课程已修学分为“5”，专选课已修学分填写方式与公共选修课填写方式一致。 4.第二课堂学分和诚信分填写具体获得的分数，若第二课堂学分>=120，填写“是”，若＜填“否”；诚信分>=1800，填写“是”，若＜填“否”。 德育审查如有仍未解除的，填写“否”，如没有违纪记录的，在“违纪处分是否解除”栏划斜线“/”。德育审查结果不能留空。 5.假若学生“必修课程不及格门数”为“0”、“选修课已修学分”总分15分（其中公选课学分 ≥6 分，专选课学分≥5 ）、“第二课堂学分>=120”、“诚信分>=1800”都填写“是”，则学生达到毕业要求，在“是否达到毕业资格”填写“是”，若以上条件有一列未达到要求，请填写“否”； 6.请如实填写“欠费金额”。 7.上交纸质材料的时候二级学院要盖公章，电子档不需要盖电子章，但是要如实填写上报日期、专业要与《2023届学信网学生信息基础数据》专业名称一致、专业总人数填写实际在校在籍人数。 8.结业原因填写序号：①必修课未通过②选修课未达标③综合素质考评不达标（综合素质包括第二课堂活动分、诚信分及德育审查项目）
A3: 二级学院（盖章）：电子信息工程学院 专业：计算机应用技术 应毕业人数：166 毕业人数：132 结业人数：34 辅导员： 填表日期：
A4: 序号 | B4: 班别 | C4: 学号 | D4: 学生姓名 | E4: 必修课不及格门数 | F4: 必修课不及格具体课程名称 | G4: 选修课学分 | J4: 第二课堂活动分 | L4: 诚信分 | N4: 德育审查 | P4: 是否达到毕业要求 | Q4: 毕结业 结论 | R4: 欠费金额 | S4: 结业 原因
G5: 公选课已修学分 | H5: 专选课已修学分 | I5: 总学分 | J5: 分数 | K5: 是否≥120 | L5: 分数 | M5: 是否≥1800 | N5: 是否有违纪处分 | O5: 违纪处分是否解除
A6: 1 | B6: 全日制2020计算机应用技术1班 | C6: 20200306156 | D6: 王定茗 | E6: =VLOOKUP(C6,[2]sheet1!$A:$AO,40,0) -> 0 | F6: =VLOOKUP(C6,[2]sheet1!$A:$AO,41,0) | G6: 14 | H6: 8 | I6: =SUM(G6:H6) -> 22 | J6: 268 | K6: =IF(J6>=120,"是","否") -> 是 | L6: 2620 | M6: =IF(L6>=1800,"是","否") -> 是 | N6: 否 | O6: / | P6: =IF(AND(E6=0,SUM(G6:H6)>=15,G6>=6,H6>=5,J6>=120,L6>=1800),"是","否") -> 是 | Q6: 毕业 | R6: 0
A7: 2 | B7: 全日制2020计算机应用技术1班 | C7: 20200306151 | D7: 苏靖惠 | E7: =VLOOKUP(C7,[2]sheet1!$A:$AO,40,0) -> 0 | F7: =VLOOKUP(C7,[2]sheet1!$A:$AO,41,0) | G7: 14 | H7: 8 | I7: =SUM(G7:H7) -> 22 | J7: 375 | K7: =IF(J7>=120,"是","否") -> 是 | L7: 3110 | M7: =IF(L7>=1800,"是","否") -> 是 | N7: 否 | O7: / | P7: =IF(AND(E7=0,SUM(G7:H7)>=15,G7>=6,H7>=5,J7>=120,L7>=1800),"是","否") -> 是 | Q7: 毕业 | R7: 0
A8: 3 | B8: 全日制2020计算机应用技术1班 | C8: 20200206064 | D8: 杨磊 | E8: =VLOOKUP(C8,[2]sheet1!$A:$AO,40,0) -> 0 | F8: =VLOOKUP(C8,[2]sheet1!$A:$AO,41,0) | G8: 13 | H8: 8 | I8: =SUM(G8:H8) -> 21 | J8: 268 | K8: =IF(J8>=120,"是","否") -> 是 | L8: 2670 | M8: =IF(L8>=1800,"是","否") -> 是 | N8: 否 | O8: / | P8: =IF(AND(E8=0,SUM(G8:H8)>=15,G8>=6,H8>=5,J8>=120,L8>=1800),"是","否") -> 是 | Q8: 毕业 | R8: 0
A9: 4 | B9: 全日制2020计算机应用技术1班 | C9: 20200306055 | D9: 韦美玲 | E9: =VLOOKUP(C9,[2]sheet1!$A:$AO,40,0) -> 0 | F9: =VLOOKUP(C9,[2]sheet1!$A:$AO,41,0) | G9: 14 | H9: 8 | I9: =SUM(G9:H9) -> 22 | J9: 383 | K9: =IF(J9>=120,"是","否") -> 是 | L9: 2860 | M9: =IF(L9>=1800,"是","否") -> 是 | N9: 否 | O9: / | P9: =IF(AND(E9=0,SUM(G9:H9)>=15,G9>=6,H9>=5,J9>=120,L9>=1800),"是","否") -> 是 | Q9: 毕业 | R9: 0
A10: 5 | B10: 全日制2020计算机应用技术1班 | C10: 20200306053 | D10: 王健南 | E10: =VLOOKUP(C10,[2]sheet1!$A:$AO,40,0) -> 0 | F10: =VLOOKUP(C10,[2]sheet1!$A:$AO,41,0) | G10: 14 | H10: 8 | I10: =SUM(G10:H10) -> 22 | J10: 263 | K10: =IF(J10>=120,"是","否") -> 是 | L10: 2750 | M10: =IF(L10>=1800,"是","否") -> 是 | N10: 否 | O10: / | P10: =IF(AND(E10=0,SUM(G10:H10)>=15,G10>=6,H10>=5,J10>=120,L10>=1800),"是","否") -> 是 | Q10: 毕业 | R10: 0
A11: 6 | B11: 全日制2020计算机应用技术1班 | C11: 20200306168 | D11: 许淼婵 | E11: =VLOOKUP(C11,[2]sheet1!$A:$AO,40,0) -> 0 | F11: =VLOOKUP(C11,[2]sheet1!$A:$AO,41,0) | G11: 14 | H11: 8 | I11: =SUM(G11:H11) -> 22 | J11: 340 | K11: =IF(J11>=120,"是","否") -> 是 | L11: 2720 | M11: =IF(L11>=1800,"是","否") -> 是 | N11: 否 | O11: / | P11: =IF(AND(E11=0,SUM(G11:H11)>=15,G11>=6,H11>=5,J11>=120,L11>=1800),"是","否") -> 是 | Q11: 毕业 | R11: 0
A12: 7 | B12: 全日制2020计算机应用技术1班 | C12: 20200306041 | D12: 彭达洪 | E12: =VLOOKUP(C12,[2]sheet1!$A:$AO,40,0) -> 2 | F12: =VLOOKUP(C12,[2]sheet1!$A:$AO,41,0) -> 预就业实习职业素养实习与劳动教育 | G12: 16 | H12: 8 | I12: =SUM(G12:H12) -> 24 | J12: 367 | K12: =IF(J12>=120,"是","否") -> 是 | L12: 3060 | M12: =IF(L12>=1800,"是","否") -> 是 | N12: 否 | O12: / | P12: =IF(AND(E12=0,SUM(G12:H12)>=15,G12>=6,H12>=5,J12>=120,L12>=1800),"是","否") -> 否 | Q12: 结业 | R12: 0 | S12: 1
A13: 8 | B13: 全日制2020计算机应用技术1班 | C13: 20200306109 | D13: 黄瑞莹 | E13: =VLOOKUP(C13,[2]sheet1!$A:$AO,40,0) -> 0 | F13: =VLOOKUP(C13,[2]sheet1!$A:$AO,41,0) | G13: 14 | H13: 8 | I13: =SUM(G13:H13) -> 22 | J13: 354 | K13: =IF(J13>=120,"是","否") -> 是 | L13: 2730 | M13: =IF(L13>=1800,"是","否") -> 是 | N13: 否 | O13: / | P13: =IF(AND(E13=0,SUM(G13:H13)>=15,G13>=6,H13>=5,J13>=120,L13>=1800),"是","否") -> 是 | Q13: 毕业 | R13: 0
A14: 9 | B14: 全日制2020计算机应用技术1班 | C14: 20200306136 | D14: 骆国俊 | E14: =VLOOKUP(C14,[2]sheet1!$A:$AO,40,0) -> 0 | F14: =VLOOKUP(C14,[2]sheet1!$A:$AO,41,0) | G14: 13 | H14: 8 | I14: =SUM(G14:H14) -> 21 | J14: 299 | K14: =IF(J14>=120,"是","否") -> 是 | L14: 2500 | M14: =IF(L14>=1800,"是","否") -> 是 | N14: 否 | O14: / | P14: =IF(AND(E14=0,SUM(G14:H14)>=15,G14>=6,H14>=5,J14>=120,L14>=1800),"是","否") -> 是 | Q14: 毕业 | R14: 0
A15: 10 | B15: 全日制2020计算机应用技术1班 | C15: 20200306044 | D15: 覃玲 | E15: =VLOOKUP(C15,[2]sheet1!$A:$AO,40,0) -> 0 | F15: =VLOOKUP(C15,[2]sheet1!$A:$AO,41,0) | G15: 13 | H15: 8 | I15: =SUM(G15:H15) -> 21 | J15: 311 | K15: =IF(J15>=120,"是","否") -> 是 | L15: 3210 | M15: =IF(L15>=1800,"是","否") -> 是 | N15: 否 | O15: / | P15: =IF(AND(E15=0,SUM(G15:H15)>=15,G15>=6,H15>=5,J15>=120,L15>=1800),"是","否") -> 是 | Q15: 毕业 | R15: 0
A16: 11 | B16: 全日制2020计算机应用技术1班 | C16: 20200306036 | D16: 卢昌鹏 | E16: =VLOOKUP(C16,[2]sheet1!$A:$AO,40,0) -> 0 | F16: =VLOOKUP(C16,[2]sheet1!$A:$AO,41,0) | G16: 15 | H16: 8 | I16: =SUM(G16:H16) -> 23 | J16: 258 | K16: =IF(J16>=120,"是","否") -> 是 | L16: 2960 | M16: =IF(L16>=1800,"是","否") -> 是 | N16: 否 | O16: / | P16: =IF(AND(E16=0,SUM(G16:H16)>=15,G16>=6,H16>=5,J16>=120,L16>=1800),"是","否") -> 是 | Q16: 毕业 | R16: 0
A17: 12 | B17: 全日制2020计算机应用技术1班 | C17: 20200306105 | D17: 贺才富 | E17: =VLOOKUP(C17,[2]sheet1!$A:$AO,40,0) -> 2 | F17: =VLOOKUP(C17,[2]sheet1!$A:$AO,41,0) -> 预就业实习职业素养实习与劳动教育 | G17: 12 | H17: 8 | I17: =SUM(G17:H17) -> 20 | J17: 413 | K17: =IF(J17>=120,"是","否") -> 是 | L17: 2990 | M17: =IF(L17>=1800,"是","否") -> 是 | N17: 否 | O17: / | P17: =IF(AND(E17=0,SUM(G17:H17)>=15,G17>=6,H17>=5,J17>=120,L17>=1800),"是","否") -> 否 | Q17: 结业 | R17: 0 | S17: 1
